BEGIN:VCALENDAR
VERSION:2.0
PRODID:-//Lake Sunapee Living - ECPv6.15.13//NONSGML v1.0//EN
CALSCALE:GREGORIAN
METHOD:PUBLISH
X-ORIGINAL-URL:https://lake-sunapee-living.com
X-WR-CALDESC:Events for Lake Sunapee Living
REFRESH-INTERVAL;VALUE=DURATION:PT1H
X-Robots-Tag:noindex
X-PUBLISHED-TTL:PT1H
BEGIN:VTIMEZONE
TZID:America/New_York
BEGIN:DAYLIGHT
TZOFFSETFROM:-0500
TZOFFSETTO:-0400
TZNAME:EDT
DTSTART:20210314T070000
END:DAYLIGHT
BEGIN:STANDARD
TZOFFSETFROM:-0400
TZOFFSETTO:-0500
TZNAME:EST
DTSTART:20211107T060000
END:STANDARD
BEGIN:DAYLIGHT
TZOFFSETFROM:-0500
TZOFFSETTO:-0400
TZNAME:EDT
DTSTART:20220313T070000
END:DAYLIGHT
BEGIN:STANDARD
TZOFFSETFROM:-0400
TZOFFSETTO:-0500
TZNAME:EST
DTSTART:20221106T060000
END:STANDARD
BEGIN:DAYLIGHT
TZOFFSETFROM:-0500
TZOFFSETTO:-0400
TZNAME:EDT
DTSTART:20230312T070000
END:DAYLIGHT
BEGIN:STANDARD
TZOFFSETFROM:-0400
TZOFFSETTO:-0500
TZNAME:EST
DTSTART:20231105T060000
END:STANDARD
END:VTIMEZONE
BEGIN:VEVENT
DTSTART;TZID=America/New_York:20220227T190000
DTEND;TZID=America/New_York:20220227T210000
DTSTAMP:20260424T204341
CREATED:20211124T012224Z
LAST-MODIFIED:20211124T012224Z
UID:10004097-1645988400-1645995600@lake-sunapee-living.com
SUMMARY:Pub Trivia at the Newport Salt Hill Pub
DESCRIPTION:Think you’re smarter than your buddies? PROVE IT! \nJoin us at Salt hill Pub in Newport every Sunday night at 7pm for LIVE PUB TRIVIA! \nGreat competition and fantastic weekly prizes await\, though the REAL prize is bragging rights for the week….This is the Upper Valley’s BEST live trivia series — accept no substitutes!See you at the pub! \nMaximum team size: 8 people \n603-863-7774 for info & reservations
URL:https://lake-sunapee-living.com/event/pub-trivia-at-the-newport-salt-hill-pub/2022-02-27/
LOCATION:Salt Hill Pub Newport\, 58 Main Street\, Newport\, NH\, 03773\, United States
CATEGORIES:Trivia
GEO:43.3634884;-72.1721101
X-APPLE-STRUCTURED-LOCATION;VALUE=URI;X-ADDRESS=Salt Hill Pub Newport 58 Main Street Newport NH 03773 United States;X-APPLE-RADIUS=500;X-TITLE=58 Main Street:geo:-72.1721101,43.3634884
END:VEVENT
END:VCALENDAR