BEGIN:VCALENDAR
VERSION:2.0
PRODID:-//Lake Sunapee Living - ECPv6.15.13//NONSGML v1.0//EN
CALSCALE:GREGORIAN
METHOD:PUBLISH
X-ORIGINAL-URL:https://lake-sunapee-living.com
X-WR-CALDESC:Events for Lake Sunapee Living
REFRESH-INTERVAL;VALUE=DURATION:PT1H
X-Robots-Tag:noindex
X-PUBLISHED-TTL:PT1H
BEGIN:VTIMEZONE
TZID:America/New_York
BEGIN:DAYLIGHT
TZOFFSETFROM:-0500
TZOFFSETTO:-0400
TZNAME:EDT
DTSTART:20180311T070000
END:DAYLIGHT
BEGIN:STANDARD
TZOFFSETFROM:-0400
TZOFFSETTO:-0500
TZNAME:EST
DTSTART:20181104T060000
END:STANDARD
BEGIN:DAYLIGHT
TZOFFSETFROM:-0500
TZOFFSETTO:-0400
TZNAME:EDT
DTSTART:20190310T070000
END:DAYLIGHT
BEGIN:STANDARD
TZOFFSETFROM:-0400
TZOFFSETTO:-0500
TZNAME:EST
DTSTART:20191103T060000
END:STANDARD
BEGIN:DAYLIGHT
TZOFFSETFROM:-0500
TZOFFSETTO:-0400
TZNAME:EDT
DTSTART:20200308T070000
END:DAYLIGHT
BEGIN:STANDARD
TZOFFSETFROM:-0400
TZOFFSETTO:-0500
TZNAME:EST
DTSTART:20201101T060000
END:STANDARD
END:VTIMEZONE
BEGIN:VEVENT
DTSTART;TZID=America/New_York:20190815T190000
DTEND;TZID=America/New_York:20190815T203000
DTSTAMP:20260425T164033
CREATED:20190505T132053Z
LAST-MODIFIED:20190505T132053Z
UID:10003704-1565895600-1565901000@lake-sunapee-living.com
SUMMARY:Live Music: Rick Reddington & The Luv at the Newbury Gazebo
DESCRIPTION:Rick Reddington & The Luv at the Newbury Gazebo. \nOriginal Roots Rock & Roll
URL:https://lake-sunapee-living.com/event/live-music-rick-reddington-the-luv-at-the-newbury-gazebo/
LOCATION:Newbury Gazebo\, 980 Rt 103\, Newbury\, NH\, 03255\, United States
CATEGORIES:Live Music
GEO:43.331756;-72.0444459
X-APPLE-STRUCTURED-LOCATION;VALUE=URI;X-ADDRESS=Newbury Gazebo 980 Rt 103 Newbury NH 03255 United States;X-APPLE-RADIUS=500;X-TITLE=980 Rt 103:geo:-72.0444459,43.331756
END:VEVENT
END:VCALENDAR