BEGIN:VCALENDAR
VERSION:2.0
PRODID:-//Lake Sunapee Living - ECPv6.15.13//NONSGML v1.0//EN
CALSCALE:GREGORIAN
METHOD:PUBLISH
X-ORIGINAL-URL:https://lake-sunapee-living.com
X-WR-CALDESC:Events for Lake Sunapee Living
REFRESH-INTERVAL;VALUE=DURATION:PT1H
X-Robots-Tag:noindex
X-PUBLISHED-TTL:PT1H
BEGIN:VTIMEZONE
TZID:America/New_York
BEGIN:DAYLIGHT
TZOFFSETFROM:-0500
TZOFFSETTO:-0400
TZNAME:EDT
DTSTART:20170312T070000
END:DAYLIGHT
BEGIN:STANDARD
TZOFFSETFROM:-0400
TZOFFSETTO:-0500
TZNAME:EST
DTSTART:20171105T060000
END:STANDARD
BEGIN:DAYLIGHT
TZOFFSETFROM:-0500
TZOFFSETTO:-0400
TZNAME:EDT
DTSTART:20180311T070000
END:DAYLIGHT
BEGIN:STANDARD
TZOFFSETFROM:-0400
TZOFFSETTO:-0500
TZNAME:EST
DTSTART:20181104T060000
END:STANDARD
BEGIN:DAYLIGHT
TZOFFSETFROM:-0500
TZOFFSETTO:-0400
TZNAME:EDT
DTSTART:20190310T070000
END:DAYLIGHT
BEGIN:STANDARD
TZOFFSETFROM:-0400
TZOFFSETTO:-0500
TZNAME:EST
DTSTART:20191103T060000
END:STANDARD
BEGIN:DAYLIGHT
TZOFFSETFROM:-0500
TZOFFSETTO:-0400
TZNAME:EDT
DTSTART:20200308T070000
END:DAYLIGHT
BEGIN:STANDARD
TZOFFSETFROM:-0400
TZOFFSETTO:-0500
TZNAME:EST
DTSTART:20201101T060000
END:STANDARD
BEGIN:DAYLIGHT
TZOFFSETFROM:-0500
TZOFFSETTO:-0400
TZNAME:EDT
DTSTART:20210314T070000
END:DAYLIGHT
BEGIN:STANDARD
TZOFFSETFROM:-0400
TZOFFSETTO:-0500
TZNAME:EST
DTSTART:20211107T060000
END:STANDARD
BEGIN:DAYLIGHT
TZOFFSETFROM:-0500
TZOFFSETTO:-0400
TZNAME:EDT
DTSTART:20220313T070000
END:DAYLIGHT
BEGIN:STANDARD
TZOFFSETFROM:-0400
TZOFFSETTO:-0500
TZNAME:EST
DTSTART:20221106T060000
END:STANDARD
BEGIN:DAYLIGHT
TZOFFSETFROM:-0500
TZOFFSETTO:-0400
TZNAME:EDT
DTSTART:20230312T070000
END:DAYLIGHT
BEGIN:STANDARD
TZOFFSETFROM:-0400
TZOFFSETTO:-0500
TZNAME:EST
DTSTART:20231105T060000
END:STANDARD
END:VTIMEZONE
BEGIN:VEVENT
DTSTART;TZID=America/New_York:20181118T080000
DTEND;TZID=America/New_York:20181118T170000
DTSTAMP:20260424T220313
CREATED:20181118T140319Z
LAST-MODIFIED:20181118T140349Z
UID:10000235-1542528000-1542560400@lake-sunapee-living.com
SUMMARY:First Fridays!  Poetry Night at the Newbury Town Hall
DESCRIPTION:First Fridays!  Poetry Night –  “The Courage to Create!”  \nFREE \nReading by contest winners-Judged by poet Ala Khaki \nNewbury Town Hall Community Room 5:30 \nwww.CenterForTheArtsNH.org
URL:https://lake-sunapee-living.com/event/6047/
LOCATION:Newbury Town Hall\, 937 NH-103\, Newbury\, NH\, 03255\, United States
CATEGORIES:Poetry Reading
GEO:43.3208536;-72.0354045
X-APPLE-STRUCTURED-LOCATION;VALUE=URI;X-ADDRESS=Newbury Town Hall 937 NH-103 Newbury NH 03255 United States;X-APPLE-RADIUS=500;X-TITLE=937 NH-103:geo:-72.0354045,43.3208536
END:VEVENT
BEGIN:VEVENT
DTSTART;TZID=America/New_York:20200403T173000
DTEND;TZID=America/New_York:20200403T183000
DTSTAMP:20260424T220313
CREATED:20200104T133232Z
LAST-MODIFIED:20200104T133303Z
UID:10003858-1585935000-1585938600@lake-sunapee-living.com
SUMMARY:First Fridays!  Poetry Night: “Snapshots in Time”
DESCRIPTION:First Fridays!  Poetry Night: “Snapshots in Time”  \n FREE \nReadings by this year’s contest winners and NH Poet Laureate Alexandria Peary \nNewbury Town Hall Community Room  \nhttps://centerfortheartsnh.org/first-fridays
URL:https://lake-sunapee-living.com/event/irst-fridays-poetry-night-snapshots-in-time/
LOCATION:Newbury Town Hall\, 937 NH-103\, Newbury\, NH\, 03255\, United States
GEO:43.3208536;-72.0354045
X-APPLE-STRUCTURED-LOCATION;VALUE=URI;X-ADDRESS=Newbury Town Hall 937 NH-103 Newbury NH 03255 United States;X-APPLE-RADIUS=500;X-TITLE=937 NH-103:geo:-72.0354045,43.3208536
END:VEVENT
BEGIN:VEVENT
DTSTART;TZID=America/New_York:20220517T173000
DTEND;TZID=America/New_York:20220517T190000
DTSTAMP:20260424T220313
CREATED:20220423T132312Z
LAST-MODIFIED:20220423T132312Z
UID:10004114-1652808600-1652814000@lake-sunapee-living.com
SUMMARY:Tapestry Tuesdays at the New London Inn - Kyle Plotvin “Loosen”
DESCRIPTION:Join us as Kyle shares from her new book. \nKyle Potvin’s debut full-length poetry collection is Loosen (Hobblebush Books\, 2021). Her chapbook\, Sound Travels on Water\, won the Jean Pedrick Chapbook Award. She is a two-time finalist for the Howard Nemerov Sonnet Award and received a commendation in the 2019 International Hippocrates Open Prize for Poetry in Medicine. Her poems have appeared in Bellevue Literary Review\, Tar River Poetry\, Rattle\, Ecotone\, The New York Times\, and others. She is a peer reviewer for Whale Road Review. Kyle lives on the seacoast of New Hampshire. \nPlease contact us for reservations! info@centerfortheartsnh.org
URL:https://lake-sunapee-living.com/event/tapestry-tuesdays-at-the-new-london-inn-kyle-plotvin-loosen/
LOCATION:New London Inn\, 353 Main St\, New London\, 03257
CATEGORIES:Book Reading
GEO:43.4140695;-71.9837098
X-APPLE-STRUCTURED-LOCATION;VALUE=URI;X-ADDRESS=New London Inn 353 Main St New London 03257;X-APPLE-RADIUS=500;X-TITLE=353 Main St:geo:-71.9837098,43.4140695
END:VEVENT
END:VCALENDAR