BEGIN:VCALENDAR
VERSION:2.0
PRODID:-//Lake Sunapee Living - ECPv6.15.13//NONSGML v1.0//EN
CALSCALE:GREGORIAN
METHOD:PUBLISH
X-ORIGINAL-URL:https://lake-sunapee-living.com
X-WR-CALDESC:Events for Lake Sunapee Living
REFRESH-INTERVAL;VALUE=DURATION:PT1H
X-Robots-Tag:noindex
X-PUBLISHED-TTL:PT1H
BEGIN:VTIMEZONE
TZID:America/New_York
BEGIN:DAYLIGHT
TZOFFSETFROM:-0500
TZOFFSETTO:-0400
TZNAME:EDT
DTSTART:20200308T070000
END:DAYLIGHT
BEGIN:STANDARD
TZOFFSETFROM:-0400
TZOFFSETTO:-0500
TZNAME:EST
DTSTART:20201101T060000
END:STANDARD
BEGIN:DAYLIGHT
TZOFFSETFROM:-0500
TZOFFSETTO:-0400
TZNAME:EDT
DTSTART:20210314T070000
END:DAYLIGHT
BEGIN:STANDARD
TZOFFSETFROM:-0400
TZOFFSETTO:-0500
TZNAME:EST
DTSTART:20211107T060000
END:STANDARD
BEGIN:DAYLIGHT
TZOFFSETFROM:-0500
TZOFFSETTO:-0400
TZNAME:EDT
DTSTART:20220313T070000
END:DAYLIGHT
BEGIN:STANDARD
TZOFFSETFROM:-0400
TZOFFSETTO:-0500
TZNAME:EST
DTSTART:20221106T060000
END:STANDARD
END:VTIMEZONE
BEGIN:VEVENT
DTSTART;TZID=America/New_York:20210703T150000
DTEND;TZID=America/New_York:20210703T170000
DTSTAMP:20260424T192506
CREATED:20210630T232558Z
LAST-MODIFIED:20210701T001842Z
UID:10004051-1625324400-1625331600@lake-sunapee-living.com
SUMMARY:Pleasant Lake Boat Parade - New London
DESCRIPTION:Saturday\, Jul 3\, 3:00 pm\nBoats will gather at Slope N Shore next to the Inn at Pleasant Lake at 2:30 pm
URL:https://lake-sunapee-living.com/event/pleasant-lake-boat-parade-new-london/
LOCATION:The Inn at Pleasant Lake\, 853 Pleasant St\, New London\, NH\, 03257\, United States
CATEGORIES:Boat Parade
GEO:43.4335402;-71.9697255
X-APPLE-STRUCTURED-LOCATION;VALUE=URI;X-ADDRESS=The Inn at Pleasant Lake 853 Pleasant St New London NH 03257 United States;X-APPLE-RADIUS=500;X-TITLE=853 Pleasant St:geo:-71.9697255,43.4335402
END:VEVENT
END:VCALENDAR