BEGIN:VCALENDAR
VERSION:2.0
PRODID:-//Lake Sunapee Living - ECPv6.15.13//NONSGML v1.0//EN
CALSCALE:GREGORIAN
METHOD:PUBLISH
X-ORIGINAL-URL:https://lake-sunapee-living.com
X-WR-CALDESC:Events for Lake Sunapee Living
REFRESH-INTERVAL;VALUE=DURATION:PT1H
X-Robots-Tag:noindex
X-PUBLISHED-TTL:PT1H
BEGIN:VTIMEZONE
TZID:America/New_York
BEGIN:DAYLIGHT
TZOFFSETFROM:-0500
TZOFFSETTO:-0400
TZNAME:EDT
DTSTART:20180311T070000
END:DAYLIGHT
BEGIN:STANDARD
TZOFFSETFROM:-0400
TZOFFSETTO:-0500
TZNAME:EST
DTSTART:20181104T060000
END:STANDARD
BEGIN:DAYLIGHT
TZOFFSETFROM:-0500
TZOFFSETTO:-0400
TZNAME:EDT
DTSTART:20190310T070000
END:DAYLIGHT
BEGIN:STANDARD
TZOFFSETFROM:-0400
TZOFFSETTO:-0500
TZNAME:EST
DTSTART:20191103T060000
END:STANDARD
BEGIN:DAYLIGHT
TZOFFSETFROM:-0500
TZOFFSETTO:-0400
TZNAME:EDT
DTSTART:20200308T070000
END:DAYLIGHT
BEGIN:STANDARD
TZOFFSETFROM:-0400
TZOFFSETTO:-0500
TZNAME:EST
DTSTART:20201101T060000
END:STANDARD
END:VTIMEZONE
BEGIN:VEVENT
DTSTART;TZID=America/New_York:20190823T160000
DTEND;TZID=America/New_York:20190823T190000
DTSTAMP:20260425T213701
CREATED:20190524T233305Z
LAST-MODIFIED:20190524T233324Z
UID:10003737-1566576000-1566586800@lake-sunapee-living.com
SUMMARY:Live Music: Pete Merrigan at the Salt Hill Pub Shanty
DESCRIPTION:Pete Merrigan at the Salt Hill Pub Shanty \nPete Merrigan on Facebook
URL:https://lake-sunapee-living.com/event/live-music-pete-merrigan-at-the-salt-hill-pub-shanty/
LOCATION:Salt Hill Pub Shanty\, 1407 New Hampshire Rte 103\, Newbury\, NH\, 03255\, United States
CATEGORIES:Live Music
GEO:43.340897;-72.0672318
X-APPLE-STRUCTURED-LOCATION;VALUE=URI;X-ADDRESS=Salt Hill Pub Shanty 1407 New Hampshire Rte 103 Newbury NH 03255 United States;X-APPLE-RADIUS=500;X-TITLE=1407 New Hampshire Rte 103:geo:-72.0672318,43.340897
END:VEVENT
BEGIN:VEVENT
DTSTART;TZID=America/New_York:20190831T170000
DTEND;TZID=America/New_York:20190831T190000
DTSTAMP:20260425T213701
CREATED:20190524T233525Z
LAST-MODIFIED:20190524T233525Z
UID:10003738-1567270800-1567278000@lake-sunapee-living.com
SUMMARY:Live Music: Pete Merrigan at Flanders Stage
DESCRIPTION:Free outdoor concert featuring Pete Merrigan at Flanders Stage \nPete Merrigan on Facebook
URL:https://lake-sunapee-living.com/event/live-music-pete-merrigan-at-flanders-stage/
LOCATION:Flanders Stage\, 125 Main St\, Sunapee\, NH\, 03782\, United States
CATEGORIES:Free Outdoor Concert
GEO:43.3852084;-72.0809835
X-APPLE-STRUCTURED-LOCATION;VALUE=URI;X-ADDRESS=Flanders Stage 125 Main St Sunapee NH 03782 United States;X-APPLE-RADIUS=500;X-TITLE=125 Main St:geo:-72.0809835,43.3852084
END:VEVENT
END:VCALENDAR