BEGIN:VCALENDAR
VERSION:2.0
PRODID:-//Lake Sunapee Living - ECPv6.15.13//NONSGML v1.0//EN
CALSCALE:GREGORIAN
METHOD:PUBLISH
X-ORIGINAL-URL:https://lake-sunapee-living.com
X-WR-CALDESC:Events for Lake Sunapee Living
REFRESH-INTERVAL;VALUE=DURATION:PT1H
X-Robots-Tag:noindex
X-PUBLISHED-TTL:PT1H
BEGIN:VTIMEZONE
TZID:America/New_York
BEGIN:DAYLIGHT
TZOFFSETFROM:-0500
TZOFFSETTO:-0400
TZNAME:EDT
DTSTART:20160313T070000
END:DAYLIGHT
BEGIN:STANDARD
TZOFFSETFROM:-0400
TZOFFSETTO:-0500
TZNAME:EST
DTSTART:20161106T060000
END:STANDARD
BEGIN:DAYLIGHT
TZOFFSETFROM:-0500
TZOFFSETTO:-0400
TZNAME:EDT
DTSTART:20170312T070000
END:DAYLIGHT
BEGIN:STANDARD
TZOFFSETFROM:-0400
TZOFFSETTO:-0500
TZNAME:EST
DTSTART:20171105T060000
END:STANDARD
BEGIN:DAYLIGHT
TZOFFSETFROM:-0500
TZOFFSETTO:-0400
TZNAME:EDT
DTSTART:20180311T070000
END:DAYLIGHT
BEGIN:STANDARD
TZOFFSETFROM:-0400
TZOFFSETTO:-0500
TZNAME:EST
DTSTART:20181104T060000
END:STANDARD
BEGIN:DAYLIGHT
TZOFFSETFROM:-0500
TZOFFSETTO:-0400
TZNAME:EDT
DTSTART:20190310T070000
END:DAYLIGHT
BEGIN:STANDARD
TZOFFSETFROM:-0400
TZOFFSETTO:-0500
TZNAME:EST
DTSTART:20191103T060000
END:STANDARD
BEGIN:DAYLIGHT
TZOFFSETFROM:-0500
TZOFFSETTO:-0400
TZNAME:EDT
DTSTART:20200308T070000
END:DAYLIGHT
BEGIN:STANDARD
TZOFFSETFROM:-0400
TZOFFSETTO:-0500
TZNAME:EST
DTSTART:20201101T060000
END:STANDARD
BEGIN:DAYLIGHT
TZOFFSETFROM:-0500
TZOFFSETTO:-0400
TZNAME:EDT
DTSTART:20210314T070000
END:DAYLIGHT
BEGIN:STANDARD
TZOFFSETFROM:-0400
TZOFFSETTO:-0500
TZNAME:EST
DTSTART:20211107T060000
END:STANDARD
BEGIN:DAYLIGHT
TZOFFSETFROM:-0500
TZOFFSETTO:-0400
TZNAME:EDT
DTSTART:20220313T070000
END:DAYLIGHT
BEGIN:STANDARD
TZOFFSETFROM:-0400
TZOFFSETTO:-0500
TZNAME:EST
DTSTART:20221106T060000
END:STANDARD
BEGIN:DAYLIGHT
TZOFFSETFROM:-0500
TZOFFSETTO:-0400
TZNAME:EDT
DTSTART:20230312T070000
END:DAYLIGHT
BEGIN:STANDARD
TZOFFSETFROM:-0400
TZOFFSETTO:-0500
TZNAME:EST
DTSTART:20231105T060000
END:STANDARD
BEGIN:DAYLIGHT
TZOFFSETFROM:-0500
TZOFFSETTO:-0400
TZNAME:EDT
DTSTART:20240310T070000
END:DAYLIGHT
BEGIN:STANDARD
TZOFFSETFROM:-0400
TZOFFSETTO:-0500
TZNAME:EST
DTSTART:20241103T060000
END:STANDARD
BEGIN:DAYLIGHT
TZOFFSETFROM:-0500
TZOFFSETTO:-0400
TZNAME:EDT
DTSTART:20250309T070000
END:DAYLIGHT
BEGIN:STANDARD
TZOFFSETFROM:-0400
TZOFFSETTO:-0500
TZNAME:EST
DTSTART:20251102T060000
END:STANDARD
BEGIN:DAYLIGHT
TZOFFSETFROM:-0500
TZOFFSETTO:-0400
TZNAME:EDT
DTSTART:20260308T070000
END:DAYLIGHT
BEGIN:STANDARD
TZOFFSETFROM:-0400
TZOFFSETTO:-0500
TZNAME:EST
DTSTART:20261101T060000
END:STANDARD
END:VTIMEZONE
BEGIN:VEVENT
DTSTART;TZID=America/New_York:20171209T120000
DTEND;TZID=America/New_York:20171209T150000
DTSTAMP:20260424T163956
CREATED:20171204T015004Z
LAST-MODIFIED:20171204T015038Z
UID:10000039-1512820800-1512831600@lake-sunapee-living.com
SUMMARY:Antiques Auction in Warner by R. H. Putnam Auctions
DESCRIPTION:Saturday\, December 9 at 12 PM – 3 PM \n139 Kearsarge Mountain Rd\, Warner\, NH \nTickets Available\nwww.rhputnamauctions.com
URL:https://lake-sunapee-living.com/event/antiques-auction-warner-r-h-putnam-auctions/
LOCATION:NH
CATEGORIES:Antiques Auction
END:VEVENT
BEGIN:VEVENT
DTSTART;VALUE=DATE:20180208
DTEND;VALUE=DATE:20180212
DTSTAMP:20260424T163956
CREATED:20171218T003047Z
LAST-MODIFIED:20171218T003141Z
UID:10000188-1518048000-1518393599@lake-sunapee-living.com
SUMMARY:Newport 102nd Winter Carnival
DESCRIPTION:Newport\, New Hampshire\n102nd Winter Carnival\nFebruary 8-11\, 2018 \nFor 4 days\, the small town of Newport\, New Hampshire will be transformed into a winter wonderland landscape of activities. Join us to celebrate 102 years of community and winter activities. \n​Print-friendly Schedule of Events \nNewportwintercarnival.org
URL:https://lake-sunapee-living.com/event/newport-winter-carnival/
LOCATION:NH
CATEGORIES:Community Event
END:VEVENT
BEGIN:VEVENT
DTSTART;TZID=America/New_York:20180721T070000
DTEND;TZID=America/New_York:20180721T220000
DTSTAMP:20260424T163956
CREATED:20180716T223506Z
LAST-MODIFIED:20180716T223529Z
UID:10000612-1532156400-1532210400@lake-sunapee-living.com
SUMMARY:Unity Old Home Day
DESCRIPTION:UNITY\, NH- OLD HOME DAY JULY 21\, 2018 \nFire Dept Pancake breakfast @ Fire Station\, 5 North Hedgehog Hill Rd.  7-10 AM \nOld Photos of Unity on display in the Town Hall along with a Bake Sale to benefit the new Veteran’s Memorial \n\nVenders on the Common \nMusic at the Gazebo starting at 10 AM \nParade starting at 11 at the Fire Station. \nKiddy mini tractor pull 10 AM -1 PM \nRT 66 Band 12 noon- 3:30 \nVETERAN”S SPAGHETTI SUPPER starting at 4 PM at the Fire Station. This to benefit the new Veteran’s Memorial on the Common \nDancing and Square dancing 7 – 10 at the Unity Town Hall
URL:https://lake-sunapee-living.com/event/unity-old-home-day-2/
LOCATION:Unity Fire Station\, 5 North Hedgehog Hill Rd\, Unity\, NH\, 03773\, United States
CATEGORIES:Old Home Day
GEO:43.2908773;-72.2589151
X-APPLE-STRUCTURED-LOCATION;VALUE=URI;X-ADDRESS=Unity Fire Station 5 North Hedgehog Hill Rd Unity NH 03773 United States;X-APPLE-RADIUS=500;X-TITLE=5 North Hedgehog Hill Rd:geo:-72.2589151,43.2908773
END:VEVENT
BEGIN:VEVENT
DTSTART;TZID=America/New_York:20250927T090000
DTEND;TZID=America/New_York:20250927T150000
DTSTAMP:20260424T163956
CREATED:20250521T114620Z
LAST-MODIFIED:20250521T114620Z
UID:10004513-1758963600-1758985200@lake-sunapee-living.com
SUMMARY:Goshen Old Home Day
DESCRIPTION:Goshen Old Home Day\nCalling All Vendors\nSeptember 27\, 2025\nDowntown Goshen\, NH \nMore Info:\nGoshenoldhomeday@gmail.com\nJoan (603)477-9887 \nWe’re looking for volunteers and committee members for the Goshen Old Home Day in 2025.If you are interested\, please sign up at the Town Hall or email Selectmen@Goshennh.org by September 1.Kick off meeting will be scheduled in September.
URL:https://lake-sunapee-living.com/event/goshen-old-home-day/
LOCATION:Goshen Town Hall\, 54 Mill Vilage Rd\, Goshen\, NH\, 03752\, United States
CATEGORIES:Old Home Day
GEO:43.3022926;-72.1494048
X-APPLE-STRUCTURED-LOCATION;VALUE=URI;X-ADDRESS=Goshen Town Hall 54 Mill Vilage Rd Goshen NH 03752 United States;X-APPLE-RADIUS=500;X-TITLE=54 Mill Vilage Rd:geo:-72.1494048,43.3022926
END:VEVENT
END:VCALENDAR