BEGIN:VCALENDAR
VERSION:2.0
PRODID:-//Lake Sunapee Living - ECPv6.15.13//NONSGML v1.0//EN
CALSCALE:GREGORIAN
METHOD:PUBLISH
X-ORIGINAL-URL:https://lake-sunapee-living.com
X-WR-CALDESC:Events for Lake Sunapee Living
REFRESH-INTERVAL;VALUE=DURATION:PT1H
X-Robots-Tag:noindex
X-PUBLISHED-TTL:PT1H
BEGIN:VTIMEZONE
TZID:America/New_York
BEGIN:DAYLIGHT
TZOFFSETFROM:-0500
TZOFFSETTO:-0400
TZNAME:EDT
DTSTART:20240310T070000
END:DAYLIGHT
BEGIN:STANDARD
TZOFFSETFROM:-0400
TZOFFSETTO:-0500
TZNAME:EST
DTSTART:20241103T060000
END:STANDARD
BEGIN:DAYLIGHT
TZOFFSETFROM:-0500
TZOFFSETTO:-0400
TZNAME:EDT
DTSTART:20250309T070000
END:DAYLIGHT
BEGIN:STANDARD
TZOFFSETFROM:-0400
TZOFFSETTO:-0500
TZNAME:EST
DTSTART:20251102T060000
END:STANDARD
BEGIN:DAYLIGHT
TZOFFSETFROM:-0500
TZOFFSETTO:-0400
TZNAME:EDT
DTSTART:20260308T070000
END:DAYLIGHT
BEGIN:STANDARD
TZOFFSETFROM:-0400
TZOFFSETTO:-0500
TZNAME:EST
DTSTART:20261101T060000
END:STANDARD
END:VTIMEZONE
BEGIN:VEVENT
DTSTART;TZID=America/New_York:20250712T100000
DTEND;TZID=America/New_York:20250712T210000
DTSTAMP:20260425T082011
CREATED:20250709T162028Z
LAST-MODIFIED:20250709T162028Z
UID:10004616-1752314400-1752354000@lake-sunapee-living.com
SUMMARY:Newbury Old Home Day and Fireworks
DESCRIPTION:This Saturday July 12th\, come see the best fireworks on Lake Sunapee at Newbury Old Home Day!!  \nFireworks will be at 9 p.m. after the SHOT DOWN concert at 7:30 p.m.  \nBe sure to come and see both shows!!
URL:https://lake-sunapee-living.com/event/newbury-old-home-day-and-fireworks/
LOCATION:Newbury Town Hall\, 937 NH-103\, Newbury\, NH\, 03255\, United States
CATEGORIES:Free Outdoor Concert
GEO:43.3208536;-72.0354045
X-APPLE-STRUCTURED-LOCATION;VALUE=URI;X-ADDRESS=Newbury Town Hall 937 NH-103 Newbury NH 03255 United States;X-APPLE-RADIUS=500;X-TITLE=937 NH-103:geo:-72.0354045,43.3208536
END:VEVENT
END:VCALENDAR