BEGIN:VCALENDAR
VERSION:2.0
PRODID:-//Lake Sunapee Living - ECPv6.15.13//NONSGML v1.0//EN
CALSCALE:GREGORIAN
METHOD:PUBLISH
X-ORIGINAL-URL:https://lake-sunapee-living.com
X-WR-CALDESC:Events for Lake Sunapee Living
REFRESH-INTERVAL;VALUE=DURATION:PT1H
X-Robots-Tag:noindex
X-PUBLISHED-TTL:PT1H
BEGIN:VTIMEZONE
TZID:America/New_York
BEGIN:DAYLIGHT
TZOFFSETFROM:-0500
TZOFFSETTO:-0400
TZNAME:EDT
DTSTART:20180311T070000
END:DAYLIGHT
BEGIN:STANDARD
TZOFFSETFROM:-0400
TZOFFSETTO:-0500
TZNAME:EST
DTSTART:20181104T060000
END:STANDARD
BEGIN:DAYLIGHT
TZOFFSETFROM:-0500
TZOFFSETTO:-0400
TZNAME:EDT
DTSTART:20190310T070000
END:DAYLIGHT
BEGIN:STANDARD
TZOFFSETFROM:-0400
TZOFFSETTO:-0500
TZNAME:EST
DTSTART:20191103T060000
END:STANDARD
BEGIN:DAYLIGHT
TZOFFSETFROM:-0500
TZOFFSETTO:-0400
TZNAME:EDT
DTSTART:20200308T070000
END:DAYLIGHT
BEGIN:STANDARD
TZOFFSETFROM:-0400
TZOFFSETTO:-0500
TZNAME:EST
DTSTART:20201101T060000
END:STANDARD
END:VTIMEZONE
BEGIN:VEVENT
DTSTART;TZID=America/New_York:20191231T180000
DTEND;TZID=America/New_York:20191231T230000
DTSTAMP:20260425T164851
CREATED:20191130T125437Z
LAST-MODIFIED:20191130T125508Z
UID:10003854-1577815200-1577833200@lake-sunapee-living.com
SUMMARY:The Inn at Pleasant Lake New Year's Eve Gala
DESCRIPTION:Special NYE Dinner December 31\, 2019 – This year included in the price is hors d’oeuvres and a seafood bar during the cocktail reception a our five-course dinner all for $99 per person. Space is limited so call or make your reservations on the website today!
URL:https://lake-sunapee-living.com/event/the-inn-at-pleasant-lake-new-years-eve-gala/
LOCATION:The Inn at Pleasant Lake\, 853 Pleasant St\, New London\, NH\, 03257\, United States
CATEGORIES:New Year's Eve
GEO:43.4335402;-71.9697255
X-APPLE-STRUCTURED-LOCATION;VALUE=URI;X-ADDRESS=The Inn at Pleasant Lake 853 Pleasant St New London NH 03257 United States;X-APPLE-RADIUS=500;X-TITLE=853 Pleasant St:geo:-71.9697255,43.4335402
END:VEVENT
END:VCALENDAR