BEGIN:VCALENDAR
VERSION:2.0
PRODID:-//Lake Sunapee Living - ECPv6.15.13//NONSGML v1.0//EN
CALSCALE:GREGORIAN
METHOD:PUBLISH
X-ORIGINAL-URL:https://lake-sunapee-living.com
X-WR-CALDESC:Events for Lake Sunapee Living
REFRESH-INTERVAL;VALUE=DURATION:PT1H
X-Robots-Tag:noindex
X-PUBLISHED-TTL:PT1H
BEGIN:VTIMEZONE
TZID:America/New_York
BEGIN:DAYLIGHT
TZOFFSETFROM:-0500
TZOFFSETTO:-0400
TZNAME:EDT
DTSTART:20160313T070000
END:DAYLIGHT
BEGIN:STANDARD
TZOFFSETFROM:-0400
TZOFFSETTO:-0500
TZNAME:EST
DTSTART:20161106T060000
END:STANDARD
BEGIN:DAYLIGHT
TZOFFSETFROM:-0500
TZOFFSETTO:-0400
TZNAME:EDT
DTSTART:20170312T070000
END:DAYLIGHT
BEGIN:STANDARD
TZOFFSETFROM:-0400
TZOFFSETTO:-0500
TZNAME:EST
DTSTART:20171105T060000
END:STANDARD
BEGIN:DAYLIGHT
TZOFFSETFROM:-0500
TZOFFSETTO:-0400
TZNAME:EDT
DTSTART:20180311T070000
END:DAYLIGHT
BEGIN:STANDARD
TZOFFSETFROM:-0400
TZOFFSETTO:-0500
TZNAME:EST
DTSTART:20181104T060000
END:STANDARD
BEGIN:DAYLIGHT
TZOFFSETFROM:-0500
TZOFFSETTO:-0400
TZNAME:EDT
DTSTART:20190310T070000
END:DAYLIGHT
BEGIN:STANDARD
TZOFFSETFROM:-0400
TZOFFSETTO:-0500
TZNAME:EST
DTSTART:20191103T060000
END:STANDARD
BEGIN:DAYLIGHT
TZOFFSETFROM:-0500
TZOFFSETTO:-0400
TZNAME:EDT
DTSTART:20200308T070000
END:DAYLIGHT
BEGIN:STANDARD
TZOFFSETFROM:-0400
TZOFFSETTO:-0500
TZNAME:EST
DTSTART:20201101T060000
END:STANDARD
END:VTIMEZONE
BEGIN:VEVENT
DTSTART;VALUE=DATE:20170930
DTEND;VALUE=DATE:20171002
DTSTAMP:20260424T190526
CREATED:20170928T235622Z
LAST-MODIFIED:20170928T235622Z
UID:10000011-1506729600-1506902399@lake-sunapee-living.com
SUMMARY:Harvest Day Weekend at Muster Field Farm
DESCRIPTION:Saturday\, September 30\, 2017: Free Concert\, 3:00 pm – 5:30 pm\nSunday\, October 1\, 2017\, 10:00 am – 4:00 pm\nFree to all. \n\nCome celebrate the summer’s harvest at Muster Field Farm Museum. It is time to enjoy the beauty of the farm and reap the benefits of the growing season. Homemade soups can be purchased in the Pillsbury Barn while listening to live music. The Homestead will be open for tours for a portion of the day and hayrides will be available for all to enjoy. Artists will be on site demonstrating and exhibiting their skills and crafts. Fresh produce will be on sale in the farm stand. Additionally\, there will be a free Saturday afternoon concert by local favorites The Dobros\, 3:00 pm – 5:30 pm in the Pillsbury Barn.\n\nMusterfieldfarm.com/events/harvest-day
URL:https://lake-sunapee-living.com/event/harvest-day-weekend-muster-field-farm/
LOCATION:NH
CATEGORIES:Harvest Festival
END:VEVENT
BEGIN:VEVENT
DTSTART;TZID=America/New_York:20180121T090000
DTEND;TZID=America/New_York:20180121T170000
DTSTAMP:20260424T190526
CREATED:20180111T001142Z
LAST-MODIFIED:20180111T001142Z
UID:10000216-1516525200-1516554000@lake-sunapee-living.com
SUMMARY:Ice Day at Muster Field Farm
DESCRIPTION:Gather the family\, bundle up and share a New England tradition at Kezar Lake and Muster Field Farm Museum\n~ Admission is free ~\n~ 9:00 am – until the ice is in ~ \nIce cutting by gas powered saw and finished by hand will be demonstrated by volunteers.\nIce harvest will be loaded by our ice block fulcrum onto wagons and vehicles\, then hauled to the Farm. Our Ice House\, c.1890\, will be fully stacked with block ice for use at our summer events. \nRyder Corner School House\, c.1810\, will be warm and welcoming with hot beverages\, homemade baked goods and hot soups. \nAntique cars\, converted into snowmobiles\, will be on display at the farm.
URL:https://lake-sunapee-living.com/event/ice-day-muster-field-farm/
LOCATION:NH
CATEGORIES:Farm Festival
END:VEVENT
BEGIN:VEVENT
DTSTART;TZID=America/New_York:20180623T150000
DTEND;TZID=America/New_York:20180623T200000
DTSTAMP:20260424T190526
CREATED:20180608T001350Z
LAST-MODIFIED:20180608T001350Z
UID:10000451-1529766000-1529784000@lake-sunapee-living.com
SUMMARY:Live Music: Muster Field Farm June Jam
DESCRIPTION:Muster Field Farm Museum’s fifteenth annual musical fundraiser will feature an exciting line-up of local folk\, blues\, jazz\, and rock musicians. \nBurgers\, hot dogs\, snacks\, & beverages will be on sale or pack your own picnic & beverages to enjoy. \nGate opens at 3:30\, music begins at 4:00. \nTickets are $15 per person and are available on site the day of the event (children under 14 are free). \nMusterfieldfarm.com
URL:https://lake-sunapee-living.com/event/live-music-muster-field-farm-june-jam/
LOCATION:Muster Field Farm\, Harvey Rd\, North Sutton\, NH\, 03260\, United States
CATEGORIES:Concert
GEO:43.3732649;-71.955366
X-APPLE-STRUCTURED-LOCATION;VALUE=URI;X-ADDRESS=Muster Field Farm Harvey Rd North Sutton NH 03260 United States;X-APPLE-RADIUS=500;X-TITLE=Harvey Rd:geo:-71.955366,43.3732649
END:VEVENT
BEGIN:VEVENT
DTSTART;TZID=America/New_York:20180930T100000
DTEND;TZID=America/New_York:20180930T160000
DTSTAMP:20260424T190526
CREATED:20180608T002434Z
LAST-MODIFIED:20180608T002434Z
UID:10000452-1538301600-1538323200@lake-sunapee-living.com
SUMMARY:Muster Field Farm Harvest Day
DESCRIPTION:Come celebrate the summer’s harvest at Muster Field Farm Museum. \nIt is time to enjoy the beauty of the farm and reap the benefits of the growing season. Homemade soups can be purchased in the Pillsbury Barn while listening to live music. \nThe Homestead will be open for tours for a portion of the day and hayrides will be available for all to enjoy. Artists will be on site demonstrating and exhibiting their skills and crafts. \nFresh produce will be on sale in the farm stand. \nFree to all.
URL:https://lake-sunapee-living.com/event/muster-field-farm-harvest-day/
LOCATION:Muster Field Farm\, Harvey Rd\, North Sutton\, NH\, 03260\, United States
CATEGORIES:Harvest Festival
GEO:43.3732649;-71.955366
X-APPLE-STRUCTURED-LOCATION;VALUE=URI;X-ADDRESS=Muster Field Farm Harvey Rd North Sutton NH 03260 United States;X-APPLE-RADIUS=500;X-TITLE=Harvey Rd:geo:-71.955366,43.3732649
END:VEVENT
BEGIN:VEVENT
DTSTART;TZID=America/New_York:20190622T140000
DTEND;TZID=America/New_York:20190622T220000
DTSTAMP:20260424T190526
CREATED:20190513T005148Z
LAST-MODIFIED:20190513T005148Z
UID:10003709-1561212000-1561240800@lake-sunapee-living.com
SUMMARY:Muster Field Farm June Jam 2019
DESCRIPTION:A fantastic night of music in Sutton\, NH.  \nAll proceeds benefit Musterfield Farm & Museum. $15 per person\, 14 & under FREE. \nlineup:\nWill Hatch\nPeabody’s Coal Train\nThe Click Horning Band\nSferes & White\nThe DoBros\nNight Kitchen
URL:https://lake-sunapee-living.com/event/muster-field-farm-june-jam-2019/
LOCATION:NH\, United States
CATEGORIES:Music Festival
END:VEVENT
END:VCALENDAR