BEGIN:VCALENDAR
VERSION:2.0
PRODID:-//Lake Sunapee Living - ECPv6.15.13//NONSGML v1.0//EN
CALSCALE:GREGORIAN
METHOD:PUBLISH
X-ORIGINAL-URL:https://lake-sunapee-living.com
X-WR-CALDESC:Events for Lake Sunapee Living
REFRESH-INTERVAL;VALUE=DURATION:PT1H
X-Robots-Tag:noindex
X-PUBLISHED-TTL:PT1H
BEGIN:VTIMEZONE
TZID:America/New_York
BEGIN:DAYLIGHT
TZOFFSETFROM:-0500
TZOFFSETTO:-0400
TZNAME:EDT
DTSTART:20170312T070000
END:DAYLIGHT
BEGIN:STANDARD
TZOFFSETFROM:-0400
TZOFFSETTO:-0500
TZNAME:EST
DTSTART:20171105T060000
END:STANDARD
BEGIN:DAYLIGHT
TZOFFSETFROM:-0500
TZOFFSETTO:-0400
TZNAME:EDT
DTSTART:20180311T070000
END:DAYLIGHT
BEGIN:STANDARD
TZOFFSETFROM:-0400
TZOFFSETTO:-0500
TZNAME:EST
DTSTART:20181104T060000
END:STANDARD
BEGIN:DAYLIGHT
TZOFFSETFROM:-0500
TZOFFSETTO:-0400
TZNAME:EDT
DTSTART:20190310T070000
END:DAYLIGHT
BEGIN:STANDARD
TZOFFSETFROM:-0400
TZOFFSETTO:-0500
TZNAME:EST
DTSTART:20191103T060000
END:STANDARD
BEGIN:DAYLIGHT
TZOFFSETFROM:-0500
TZOFFSETTO:-0400
TZNAME:EDT
DTSTART:20200308T070000
END:DAYLIGHT
BEGIN:STANDARD
TZOFFSETFROM:-0400
TZOFFSETTO:-0500
TZNAME:EST
DTSTART:20201101T060000
END:STANDARD
END:VTIMEZONE
BEGIN:VEVENT
DTSTART;TZID=America/New_York:20180624T180000
DTEND;TZID=America/New_York:20180624T200000
DTSTAMP:20260424T202515
CREATED:20180606T201258Z
LAST-MODIFIED:20180606T201258Z
UID:10000165-1529863200-1529870400@lake-sunapee-living.com
SUMMARY:Newport Concerts on the Common: Murphy's Blues
DESCRIPTION:The Newport Area Chamber of Commerce is proud to present our annual FREE Concerts On The Common. \nBring your lawn chair\, blanket\, and your entire family for this wonderful Summer tradition every Sunday.In case of rain\, concerts will move inside to the Methodist Church on Park Street (adjacent to the Newport Town Common.)
URL:https://lake-sunapee-living.com/event/newport-concerts-on-the-common-murphys-blues/
LOCATION:Newport Bandstand\, 20 N Main St\, Newport\, NH\, 03773\, United States
CATEGORIES:Free Outdoor Concert
GEO:43.3656315;-72.1742114
X-APPLE-STRUCTURED-LOCATION;VALUE=URI;X-ADDRESS=Newport Bandstand 20 N Main St Newport NH 03773 United States;X-APPLE-RADIUS=500;X-TITLE=20 N Main St:geo:-72.1742114,43.3656315
END:VEVENT
BEGIN:VEVENT
DTSTART;TZID=America/New_York:20190811T180000
DTEND;TZID=America/New_York:20190811T193000
DTSTAMP:20260424T202515
CREATED:20190613T232545Z
LAST-MODIFIED:20190613T232737Z
UID:10000275-1565546400-1565551800@lake-sunapee-living.com
SUMMARY:Free Outdoor Concert: Murphys Blues on the Newport Town Common
DESCRIPTION:The Newport Area Chamber of Commerce is proud to present our annual FREE Concerts On The Common. Bring your lawn chair\, blanket\, and your entire family for this wonderful summer tradition every Sunday.
URL:https://lake-sunapee-living.com/event/free-outdoor-concert-murphys-blues-on-the-newport-town-common/
LOCATION:Newport Town Common\, 15 Park St\, Newport\, NH\, 03773\, United States
CATEGORIES:Free Outdoor Concert
GEO:43.3659042;-72.1734984
X-APPLE-STRUCTURED-LOCATION;VALUE=URI;X-ADDRESS=Newport Town Common 15 Park St Newport NH 03773 United States;X-APPLE-RADIUS=500;X-TITLE=15 Park St:geo:-72.1734984,43.3659042
END:VEVENT
END:VCALENDAR