BEGIN:VCALENDAR
VERSION:2.0
PRODID:-//Lake Sunapee Living - ECPv6.15.13//NONSGML v1.0//EN
CALSCALE:GREGORIAN
METHOD:PUBLISH
X-ORIGINAL-URL:https://lake-sunapee-living.com
X-WR-CALDESC:Events for Lake Sunapee Living
REFRESH-INTERVAL;VALUE=DURATION:PT1H
X-Robots-Tag:noindex
X-PUBLISHED-TTL:PT1H
BEGIN:VTIMEZONE
TZID:America/New_York
BEGIN:DAYLIGHT
TZOFFSETFROM:-0500
TZOFFSETTO:-0400
TZNAME:EDT
DTSTART:20160313T070000
END:DAYLIGHT
BEGIN:STANDARD
TZOFFSETFROM:-0400
TZOFFSETTO:-0500
TZNAME:EST
DTSTART:20161106T060000
END:STANDARD
BEGIN:DAYLIGHT
TZOFFSETFROM:-0500
TZOFFSETTO:-0400
TZNAME:EDT
DTSTART:20170312T070000
END:DAYLIGHT
BEGIN:STANDARD
TZOFFSETFROM:-0400
TZOFFSETTO:-0500
TZNAME:EST
DTSTART:20171105T060000
END:STANDARD
BEGIN:DAYLIGHT
TZOFFSETFROM:-0500
TZOFFSETTO:-0400
TZNAME:EDT
DTSTART:20180311T070000
END:DAYLIGHT
BEGIN:STANDARD
TZOFFSETFROM:-0400
TZOFFSETTO:-0500
TZNAME:EST
DTSTART:20181104T060000
END:STANDARD
END:VTIMEZONE
BEGIN:VEVENT
DTSTART;TZID=America/New_York:20170905T080000
DTEND;TZID=America/New_York:20170905T170000
DTSTAMP:20260424T204336
CREATED:20170905T230603Z
LAST-MODIFIED:20170905T230603Z
UID:10000122-1504598400-1504630800@lake-sunapee-living.com
SUMMARY:Movie Night at the LAC: Yours\, Mine and Ours
DESCRIPTION:The Library Arts Center is thrilled to present a series of films made during\, or inspired by our founding decade–the 1960’s!  The series will present two films per month–one geared toward adult audiences\, and one toward family audiences.  Tonight’s movie Yours\, Mine and Ours is for a family audience. \nThe series will run April through October. \nAll films will be shown in the Library Arts Center Gallery \nClick here for more info
URL:https://lake-sunapee-living.com/event/movie-night-lac-mine/
CATEGORIES:Movie
END:VEVENT
END:VCALENDAR