BEGIN:VCALENDAR
VERSION:2.0
PRODID:-//Lake Sunapee Living - ECPv6.15.13//NONSGML v1.0//EN
CALSCALE:GREGORIAN
METHOD:PUBLISH
X-ORIGINAL-URL:https://lake-sunapee-living.com
X-WR-CALDESC:Events for Lake Sunapee Living
REFRESH-INTERVAL;VALUE=DURATION:PT1H
X-Robots-Tag:noindex
X-PUBLISHED-TTL:PT1H
BEGIN:VTIMEZONE
TZID:America/New_York
BEGIN:DAYLIGHT
TZOFFSETFROM:-0500
TZOFFSETTO:-0400
TZNAME:EDT
DTSTART:20190310T070000
END:DAYLIGHT
BEGIN:STANDARD
TZOFFSETFROM:-0400
TZOFFSETTO:-0500
TZNAME:EST
DTSTART:20191103T060000
END:STANDARD
BEGIN:DAYLIGHT
TZOFFSETFROM:-0500
TZOFFSETTO:-0400
TZNAME:EDT
DTSTART:20200308T070000
END:DAYLIGHT
BEGIN:STANDARD
TZOFFSETFROM:-0400
TZOFFSETTO:-0500
TZNAME:EST
DTSTART:20201101T060000
END:STANDARD
BEGIN:DAYLIGHT
TZOFFSETFROM:-0500
TZOFFSETTO:-0400
TZNAME:EDT
DTSTART:20210314T070000
END:DAYLIGHT
BEGIN:STANDARD
TZOFFSETFROM:-0400
TZOFFSETTO:-0500
TZNAME:EST
DTSTART:20211107T060000
END:STANDARD
END:VTIMEZONE
BEGIN:VEVENT
DTSTART;TZID=America/New_York:20200119T140000
DTEND;TZID=America/New_York:20200119T170000
DTSTAMP:20260425T065700
CREATED:20191230T001642Z
LAST-MODIFIED:20191230T001739Z
UID:10000356-1579442400-1579453200@lake-sunapee-living.com
SUMMARY:Michael Brown in “Looking over the President’s shoulder”
DESCRIPTION:Michael Brown in “Looking over the President’s shoulder” \nTickets on sale at Tatewell Gallery\, Morgan Hill Bookstore and online \nFor up to date details on this performance please visit  \nhttps://centerfortheartsnh.org/winter-performance-series
URL:https://lake-sunapee-living.com/event/7253/
LOCATION:Whipple Hall\, 429 Main Street\, New London\, NH\, 03257\, United States
CATEGORIES:Theater
GEO:43.4130294;-71.9807053
X-APPLE-STRUCTURED-LOCATION;VALUE=URI;X-ADDRESS=Whipple Hall 429 Main Street New London NH 03257 United States;X-APPLE-RADIUS=500;X-TITLE=429 Main Street:geo:-71.9807053,43.4130294
END:VEVENT
END:VCALENDAR