BEGIN:VCALENDAR
VERSION:2.0
PRODID:-//Lake Sunapee Living - ECPv6.15.13//NONSGML v1.0//EN
CALSCALE:GREGORIAN
METHOD:PUBLISH
X-ORIGINAL-URL:https://lake-sunapee-living.com
X-WR-CALDESC:Events for Lake Sunapee Living
REFRESH-INTERVAL;VALUE=DURATION:PT1H
X-Robots-Tag:noindex
X-PUBLISHED-TTL:PT1H
BEGIN:VTIMEZONE
TZID:America/New_York
BEGIN:DAYLIGHT
TZOFFSETFROM:-0500
TZOFFSETTO:-0400
TZNAME:EDT
DTSTART:20170312T070000
END:DAYLIGHT
BEGIN:STANDARD
TZOFFSETFROM:-0400
TZOFFSETTO:-0500
TZNAME:EST
DTSTART:20171105T060000
END:STANDARD
BEGIN:DAYLIGHT
TZOFFSETFROM:-0500
TZOFFSETTO:-0400
TZNAME:EDT
DTSTART:20180311T070000
END:DAYLIGHT
BEGIN:STANDARD
TZOFFSETFROM:-0400
TZOFFSETTO:-0500
TZNAME:EST
DTSTART:20181104T060000
END:STANDARD
BEGIN:DAYLIGHT
TZOFFSETFROM:-0500
TZOFFSETTO:-0400
TZNAME:EDT
DTSTART:20190310T070000
END:DAYLIGHT
BEGIN:STANDARD
TZOFFSETFROM:-0400
TZOFFSETTO:-0500
TZNAME:EST
DTSTART:20191103T060000
END:STANDARD
BEGIN:DAYLIGHT
TZOFFSETFROM:-0500
TZOFFSETTO:-0400
TZNAME:EDT
DTSTART:20200308T070000
END:DAYLIGHT
BEGIN:STANDARD
TZOFFSETFROM:-0400
TZOFFSETTO:-0500
TZNAME:EST
DTSTART:20201101T060000
END:STANDARD
BEGIN:DAYLIGHT
TZOFFSETFROM:-0500
TZOFFSETTO:-0400
TZNAME:EDT
DTSTART:20210314T070000
END:DAYLIGHT
BEGIN:STANDARD
TZOFFSETFROM:-0400
TZOFFSETTO:-0500
TZNAME:EST
DTSTART:20211107T060000
END:STANDARD
BEGIN:DAYLIGHT
TZOFFSETFROM:-0500
TZOFFSETTO:-0400
TZNAME:EDT
DTSTART:20220313T070000
END:DAYLIGHT
BEGIN:STANDARD
TZOFFSETFROM:-0400
TZOFFSETTO:-0500
TZNAME:EST
DTSTART:20221106T060000
END:STANDARD
BEGIN:DAYLIGHT
TZOFFSETFROM:-0500
TZOFFSETTO:-0400
TZNAME:EDT
DTSTART:20230312T070000
END:DAYLIGHT
BEGIN:STANDARD
TZOFFSETFROM:-0400
TZOFFSETTO:-0500
TZNAME:EST
DTSTART:20231105T060000
END:STANDARD
END:VTIMEZONE
BEGIN:VEVENT
DTSTART;TZID=America/New_York:20180714T190000
DTEND;TZID=America/New_York:20180714T210000
DTSTAMP:20260424T202632
CREATED:20180606T153809Z
LAST-MODIFIED:20180606T153901Z
UID:10000405-1531594800-1531602000@lake-sunapee-living.com
SUMMARY:Live Music: Mark & Deb Bond at Flanders Stage
DESCRIPTION:They have been musical collaborators for 19 years\, and partners for 13 of those 19. Playing in a variety of bands during that time frame\, (Wildheart\, Vehicle\, The Larry Mitchell Band\, Mistress\, Last Kid Picked\, Acid Bran\, The Jaye Muller Band) Mark & Deb had always found that one thing was constant – each other.  \nSo when the time was right\, the formation of a musical duo seemed only logical…..
URL:https://lake-sunapee-living.com/event/live-music-mark-deb-bond-at-flanders-stage/
LOCATION:Flanders Stage\, 125 Main St\, Sunapee\, NH\, 03782\, United States
CATEGORIES:Free Outdoor Concert
GEO:43.3852084;-72.0809835
X-APPLE-STRUCTURED-LOCATION;VALUE=URI;X-ADDRESS=Flanders Stage 125 Main St Sunapee NH 03782 United States;X-APPLE-RADIUS=500;X-TITLE=125 Main St:geo:-72.0809835,43.3852084
END:VEVENT
BEGIN:VEVENT
DTSTART;TZID=America/New_York:20190526T150000
DTEND;TZID=America/New_York:20190526T190000
DTSTAMP:20260424T202632
CREATED:20190524T132004Z
LAST-MODIFIED:20190524T132004Z
UID:10003736-1558882800-1558897200@lake-sunapee-living.com
SUMMARY:Live Music: Mark & Deb Bond at The Anchorage
DESCRIPTION:The Anchorage presents Mark & Deb Bond\nHosted by Mark & Deb Bond and The Anchorage at Sunapee Harbor
URL:https://lake-sunapee-living.com/event/live-music-mark-deb-bond-at-the-anchorage/
LOCATION:The Anchorage\, 71 Main St\, Sunapee\, NH\, 03782\, United States
GEO:43.385932;-72.081281
X-APPLE-STRUCTURED-LOCATION;VALUE=URI;X-ADDRESS=The Anchorage 71 Main St Sunapee NH 03782 United States;X-APPLE-RADIUS=500;X-TITLE=71 Main St:geo:-72.081281,43.385932
END:VEVENT
BEGIN:VEVENT
DTSTART;TZID=America/New_York:20200328T200000
DTEND;TZID=America/New_York:20200328T230000
DTSTAMP:20260424T202632
CREATED:20200315T180719Z
LAST-MODIFIED:20200315T183506Z
UID:10003937-1585425600-1585436400@lake-sunapee-living.com
SUMMARY:Mark & Deb Bond Live! at The Anchorage at Sunapee Harbor
DESCRIPTION:About Mark & Deb: They’ve been musical collaborators for 27 years and “partners” for 21 of those years. Playing in a variety of bands during that timeframe (Wild Heart\, Acid Bran\, Vehicle\, The Larry Mitchell Band\, Last Kid Picked\, Ever after\, the Jaye Muller Band)\, Mark & Deb had always found that one constant seem to apply…the two of them. So when the time was right\, the formation of a musical duo seemed only logical. \n​So with that\, the next chapter of their musical journey takes flight. Mark & Deb are able to take almost any style of music or atmosphere and adapt. They can go from casual\, quiet acoustic music to the full sound of a dance band. With the versatility of these two musicians\, almost anything is possible.
URL:https://lake-sunapee-living.com/event/mark-deb-bond-live-at-the-anchorage-at-sunapee-harbor/
LOCATION:The Anchorage\, 71 Main St\, Sunapee\, NH\, 03782\, United States
CATEGORIES:Live Music
GEO:43.385932;-72.081281
X-APPLE-STRUCTURED-LOCATION;VALUE=URI;X-ADDRESS=The Anchorage 71 Main St Sunapee NH 03782 United States;X-APPLE-RADIUS=500;X-TITLE=71 Main St:geo:-72.081281,43.385932
END:VEVENT
BEGIN:VEVENT
DTSTART;TZID=America/New_York:20210807T170000
DTEND;TZID=America/New_York:20210807T190000
DTSTAMP:20260424T202632
CREATED:20210706T023339Z
LAST-MODIFIED:20210706T023626Z
UID:10000499-1628355600-1628362800@lake-sunapee-living.com
SUMMARY:Free Live Music: Mark & Deb Bond at Flanders Stage
DESCRIPTION:The Sunapee Harbor Riverway Presents the Free 2021 Summer Music Series On Flanders Stage featuring Mark & Deb Bond. \nMore info visit sunapeeharborriverway.com/sunapee-harbor-events/
URL:https://lake-sunapee-living.com/event/free-live-music-mark-deb-bond-at-flanders-stage/
LOCATION:Flanders Stage\, 125 Main St\, Sunapee\, NH\, 03782\, United States
CATEGORIES:Free Outdoor Concert
GEO:43.3852084;-72.0809835
X-APPLE-STRUCTURED-LOCATION;VALUE=URI;X-ADDRESS=Flanders Stage 125 Main St Sunapee NH 03782 United States;X-APPLE-RADIUS=500;X-TITLE=125 Main St:geo:-72.0809835,43.3852084
END:VEVENT
BEGIN:VEVENT
DTSTART;TZID=America/New_York:20220806T170000
DTEND;TZID=America/New_York:20220806T190000
DTSTAMP:20260424T202632
CREATED:20220715T010401Z
LAST-MODIFIED:20220715T010401Z
UID:10004144-1659805200-1659812400@lake-sunapee-living.com
SUMMARY:Free Live Music: Mark & Deb Bond At Flanders Stage
DESCRIPTION:The Sunapee Harbor Riverway and our local business sponsors proudly present the FREE 2022 SUMMER MUSIC SERIES ON FLANDERS STAGE \nsunapeeharborriverway.com
URL:https://lake-sunapee-living.com/event/free-live-music-mark-deb-bond-at-flanders-stage-2/
LOCATION:Flanders Stage\, 125 Main St\, Sunapee\, NH\, 03782\, United States
CATEGORIES:Free Outdoor Concert
GEO:43.3852084;-72.0809835
X-APPLE-STRUCTURED-LOCATION;VALUE=URI;X-ADDRESS=Flanders Stage 125 Main St Sunapee NH 03782 United States;X-APPLE-RADIUS=500;X-TITLE=125 Main St:geo:-72.0809835,43.3852084
END:VEVENT
END:VCALENDAR