BEGIN:VCALENDAR
VERSION:2.0
PRODID:-//Lake Sunapee Living - ECPv6.15.13//NONSGML v1.0//EN
CALSCALE:GREGORIAN
METHOD:PUBLISH
X-ORIGINAL-URL:https://lake-sunapee-living.com
X-WR-CALDESC:Events for Lake Sunapee Living
REFRESH-INTERVAL;VALUE=DURATION:PT1H
X-Robots-Tag:noindex
X-PUBLISHED-TTL:PT1H
BEGIN:VTIMEZONE
TZID:America/New_York
BEGIN:DAYLIGHT
TZOFFSETFROM:-0500
TZOFFSETTO:-0400
TZNAME:EDT
DTSTART:20240310T070000
END:DAYLIGHT
BEGIN:STANDARD
TZOFFSETFROM:-0400
TZOFFSETTO:-0500
TZNAME:EST
DTSTART:20241103T060000
END:STANDARD
BEGIN:DAYLIGHT
TZOFFSETFROM:-0500
TZOFFSETTO:-0400
TZNAME:EDT
DTSTART:20250309T070000
END:DAYLIGHT
BEGIN:STANDARD
TZOFFSETFROM:-0400
TZOFFSETTO:-0500
TZNAME:EST
DTSTART:20251102T060000
END:STANDARD
BEGIN:DAYLIGHT
TZOFFSETFROM:-0500
TZOFFSETTO:-0400
TZNAME:EDT
DTSTART:20260308T070000
END:DAYLIGHT
BEGIN:STANDARD
TZOFFSETFROM:-0400
TZOFFSETTO:-0500
TZNAME:EST
DTSTART:20261101T060000
END:STANDARD
END:VTIMEZONE
BEGIN:VEVENT
DTSTART;TZID=America/New_York:20250725T193000
DTEND;TZID=America/New_York:20250725T210000
DTSTAMP:20260425T102343
CREATED:20250617T115926Z
LAST-MODIFIED:20250617T115926Z
UID:10004594-1753471800-1753477200@lake-sunapee-living.com
SUMMARY:Live Music: Friday Nights at The Livery with Liz and Dan Faiella
DESCRIPTION:Liz and Dan Faiella are a sibling duo specializing in traditional Celtic music with a contemporary touch. Liz’s lyrical fiddle playing and crystalline vocals intertwine seamlessly with Dan’s warm\, intricate guitar work\, creating a sound that’s both timeless and refreshingly intimate. Drawing inspiration from Irish and Scottish traditions\, their performances blend haunting ballads\, spirited dance tunes\, and heartfelt original compositions. Based in New Hampshire\, they’ve captivated audiences at festivals and concert series across New England and beyond. With deep musical chemistry and a reverence for tradition\, Liz and Dan offer a transporting live experience rooted in storytelling and soul. \nFriday\, July 25th\n7:30 pm. Doors open at 7:00 pm. BYOB\nCost: $20 per person \nPURCHASE TICKETS: Click Here \nWebsite: www.lizanddanmusic.com\nFacebook: facebook.com/lizanddanmusic\nInstagram: instagram.com/lizanddanmusic
URL:https://lake-sunapee-living.com/event/live-music-friday-nights-at-the-livery-with-liz-and-dan-faiella/
LOCATION:The Livery\, 58 Main St.\, Sunapee\, NH\, 03782\, United States
CATEGORIES:Live Music
GEO:43.3860983;-72.0826955
X-APPLE-STRUCTURED-LOCATION;VALUE=URI;X-ADDRESS=The Livery 58 Main St. Sunapee NH 03782 United States;X-APPLE-RADIUS=500;X-TITLE=58 Main St.:geo:-72.0826955,43.3860983
END:VEVENT
END:VCALENDAR