BEGIN:VCALENDAR
VERSION:2.0
PRODID:-//Lake Sunapee Living - ECPv6.15.13//NONSGML v1.0//EN
CALSCALE:GREGORIAN
METHOD:PUBLISH
X-ORIGINAL-URL:https://lake-sunapee-living.com
X-WR-CALDESC:Events for Lake Sunapee Living
REFRESH-INTERVAL;VALUE=DURATION:PT1H
X-Robots-Tag:noindex
X-PUBLISHED-TTL:PT1H
BEGIN:VTIMEZONE
TZID:America/New_York
BEGIN:DAYLIGHT
TZOFFSETFROM:-0500
TZOFFSETTO:-0400
TZNAME:EDT
DTSTART:20200308T070000
END:DAYLIGHT
BEGIN:STANDARD
TZOFFSETFROM:-0400
TZOFFSETTO:-0500
TZNAME:EST
DTSTART:20201101T060000
END:STANDARD
BEGIN:DAYLIGHT
TZOFFSETFROM:-0500
TZOFFSETTO:-0400
TZNAME:EDT
DTSTART:20210314T070000
END:DAYLIGHT
BEGIN:STANDARD
TZOFFSETFROM:-0400
TZOFFSETTO:-0500
TZNAME:EST
DTSTART:20211107T060000
END:STANDARD
BEGIN:DAYLIGHT
TZOFFSETFROM:-0500
TZOFFSETTO:-0400
TZNAME:EDT
DTSTART:20220313T070000
END:DAYLIGHT
BEGIN:STANDARD
TZOFFSETFROM:-0400
TZOFFSETTO:-0500
TZNAME:EST
DTSTART:20221106T060000
END:STANDARD
END:VTIMEZONE
BEGIN:VEVENT
DTSTART;TZID=America/New_York:20210807T090000
DTEND;TZID=America/New_York:20210815T180000
DTSTAMP:20260424T203204
CREATED:20210716T030918Z
LAST-MODIFIED:20210716T031330Z
UID:10000489-1628326800-1629050400@lake-sunapee-living.com
SUMMARY:League of NH Craftsmen's Fair at Mount Sunapee
DESCRIPTION:The League of NH Craftsmen is headed back to the Mount Sunapee Resort in Newbury\, NH August 7-15\, for the 88th Annual Craftsmen’s Fair!  Shop at nearly 200 booths of juried craft from League members and invited guest artists in a wide range of media areas.  Take in a demonstration to learn how this amazing work is created.  Enjoy inspiring exhibitions and engage with juried League members and invited artists.   \nMake a day of your visit and stay for a delicious lunch with one of our specialty food vendors or enjoy one of the Mount Sunapee Resort’s new food or beverage options in the Upper or Lower Lodges.  You will see increased distance between craft booths and more artists in individual tents\, to allow more space for everyone.   \nLooking for a quieter time to join us – try mid-week! Come and soak in the inspiring work of our League members and invited artists at the base of beautiful Mount Sunapee.  Open 10 AM – 5 PM rain or shine.
URL:https://lake-sunapee-living.com/event/league-of-nh-craftsmen-annual-craftsmens-fair/
LOCATION:Mount Sunapee\, 1398 ROUTE 103\, Newbury\, NH\, 03255\, United States
CATEGORIES:Craftsmen's Fair
GEO:43.3260437;-72.0644669
X-APPLE-STRUCTURED-LOCATION;VALUE=URI;X-ADDRESS=Mount Sunapee 1398 ROUTE 103 Newbury NH 03255 United States;X-APPLE-RADIUS=500;X-TITLE=1398 ROUTE 103:geo:-72.0644669,43.3260437
END:VEVENT
END:VCALENDAR