BEGIN:VCALENDAR
VERSION:2.0
PRODID:-//Lake Sunapee Living - ECPv6.15.13//NONSGML v1.0//EN
CALSCALE:GREGORIAN
METHOD:PUBLISH
X-ORIGINAL-URL:https://lake-sunapee-living.com
X-WR-CALDESC:Events for Lake Sunapee Living
REFRESH-INTERVAL;VALUE=DURATION:PT1H
X-Robots-Tag:noindex
X-PUBLISHED-TTL:PT1H
BEGIN:VTIMEZONE
TZID:America/New_York
BEGIN:DAYLIGHT
TZOFFSETFROM:-0500
TZOFFSETTO:-0400
TZNAME:EDT
DTSTART:20170312T070000
END:DAYLIGHT
BEGIN:STANDARD
TZOFFSETFROM:-0400
TZOFFSETTO:-0500
TZNAME:EST
DTSTART:20171105T060000
END:STANDARD
BEGIN:DAYLIGHT
TZOFFSETFROM:-0500
TZOFFSETTO:-0400
TZNAME:EDT
DTSTART:20180311T070000
END:DAYLIGHT
BEGIN:STANDARD
TZOFFSETFROM:-0400
TZOFFSETTO:-0500
TZNAME:EST
DTSTART:20181104T060000
END:STANDARD
BEGIN:DAYLIGHT
TZOFFSETFROM:-0500
TZOFFSETTO:-0400
TZNAME:EDT
DTSTART:20190310T070000
END:DAYLIGHT
BEGIN:STANDARD
TZOFFSETFROM:-0400
TZOFFSETTO:-0500
TZNAME:EST
DTSTART:20191103T060000
END:STANDARD
END:VTIMEZONE
BEGIN:VEVENT
DTSTART;TZID=America/New_York:20180412T183000
DTEND;TZID=America/New_York:20180412T200000
DTSTAMP:20260425T141604
CREATED:20180409T232822Z
LAST-MODIFIED:20180409T232910Z
UID:10000241-1523557800-1523563200@lake-sunapee-living.com
SUMMARY:LSPA Meeting: Water Resource Protection in the Sunapee Watershed
DESCRIPTION:Public Meeting – We Need Your Input!\nWater Resource Protection in the Sunapee Watershed\nMeeting on Thursday\, April 12\, 2018\, 6:30 to 8:00 PM at the LSPA Learning Center 63 Main St.\, Sunapee\, NH \nWe welcome town board members and the public to learn about and contribute to the 2 year process. \nThe Lake Sunapee Protective Association (LSPA) has been awarded a federal grant through the NHDES Watershed Assistance Program to update the\nexisting Management Plan for the Sunapee Watershed. The Sunapee watershed consists of portions of the towns of Sunapee\, Newbury\, New\nLondon\, Springfield\, Goshen and Sutton. \nFor more information: Robert Wood\, Associate Director\, Watershed Water Quality\nLSPA\, 63 Main St.\, POB 683\, Sunapee\, NH 03782\,\n(603) 763-2210 \nLakeSunapee.org \n“Devoted to the Environmental Quality of the Lake Sunapee Watershed” This project is partially funded under Section 319 of the Federal Clean Water Act and is administered by\nthe New Hampshire Department of Environmental Services (NHDES).
URL:https://lake-sunapee-living.com/event/lspa-meeting-water-resource-protection-in-the-sunapee-watershed/
LOCATION:LSPA\, 63 Main St\, Sunapee\, NH\, 03782
CATEGORIES:Lake Sunapee Protective Association
GEO:43.3862025;-72.0818384
X-APPLE-STRUCTURED-LOCATION;VALUE=URI;X-ADDRESS=LSPA 63 Main St Sunapee NH 03782;X-APPLE-RADIUS=500;X-TITLE=63 Main St:geo:-72.0818384,43.3862025
END:VEVENT
END:VCALENDAR