BEGIN:VCALENDAR
VERSION:2.0
PRODID:-//Lake Sunapee Living - ECPv6.15.13//NONSGML v1.0//EN
CALSCALE:GREGORIAN
METHOD:PUBLISH
X-ORIGINAL-URL:https://lake-sunapee-living.com
X-WR-CALDESC:Events for Lake Sunapee Living
REFRESH-INTERVAL;VALUE=DURATION:PT1H
X-Robots-Tag:noindex
X-PUBLISHED-TTL:PT1H
BEGIN:VTIMEZONE
TZID:America/New_York
BEGIN:DAYLIGHT
TZOFFSETFROM:-0500
TZOFFSETTO:-0400
TZNAME:EDT
DTSTART:20170312T070000
END:DAYLIGHT
BEGIN:STANDARD
TZOFFSETFROM:-0400
TZOFFSETTO:-0500
TZNAME:EST
DTSTART:20171105T060000
END:STANDARD
BEGIN:DAYLIGHT
TZOFFSETFROM:-0500
TZOFFSETTO:-0400
TZNAME:EDT
DTSTART:20180311T070000
END:DAYLIGHT
BEGIN:STANDARD
TZOFFSETFROM:-0400
TZOFFSETTO:-0500
TZNAME:EST
DTSTART:20181104T060000
END:STANDARD
BEGIN:DAYLIGHT
TZOFFSETFROM:-0500
TZOFFSETTO:-0400
TZNAME:EDT
DTSTART:20190310T070000
END:DAYLIGHT
BEGIN:STANDARD
TZOFFSETFROM:-0400
TZOFFSETTO:-0500
TZNAME:EST
DTSTART:20191103T060000
END:STANDARD
END:VTIMEZONE
BEGIN:VEVENT
DTSTART;TZID=America/New_York:20180626T170000
DTEND;TZID=America/New_York:20180626T203000
DTSTAMP:20260425T002735
CREATED:20180531T225208Z
LAST-MODIFIED:20180531T225229Z
UID:10000322-1530032400-1530045000@lake-sunapee-living.com
SUMMARY:Kite Flying Picnic at the Village: New London Historical Society
DESCRIPTION:Bring a picnic and fly a kite in our (usually) windy meadow! \nIt’s a perfect spot for romping children and relaxing adults. \nStay as long as you like! \nTuesday\, June 26\, beginning at 5:00 PM
URL:https://lake-sunapee-living.com/event/kite-flying-picnic-at-the-new-london-historical-society/
LOCATION:New London Historical Society\, 179 Little Sunapee Rd\, New London\, NH\, 03257\, United States
CATEGORIES:Picnic
GEO:43.4255005;-71.9953552
X-APPLE-STRUCTURED-LOCATION;VALUE=URI;X-ADDRESS=New London Historical Society 179 Little Sunapee Rd New London NH 03257 United States;X-APPLE-RADIUS=500;X-TITLE=179 Little Sunapee Rd:geo:-71.9953552,43.4255005
END:VEVENT
END:VCALENDAR