BEGIN:VCALENDAR
VERSION:2.0
PRODID:-//Lake Sunapee Living - ECPv6.15.13//NONSGML v1.0//EN
CALSCALE:GREGORIAN
METHOD:PUBLISH
X-ORIGINAL-URL:https://lake-sunapee-living.com
X-WR-CALDESC:Events for Lake Sunapee Living
REFRESH-INTERVAL;VALUE=DURATION:PT1H
X-Robots-Tag:noindex
X-PUBLISHED-TTL:PT1H
BEGIN:VTIMEZONE
TZID:America/New_York
BEGIN:DAYLIGHT
TZOFFSETFROM:-0500
TZOFFSETTO:-0400
TZNAME:EDT
DTSTART:20180311T070000
END:DAYLIGHT
BEGIN:STANDARD
TZOFFSETFROM:-0400
TZOFFSETTO:-0500
TZNAME:EST
DTSTART:20181104T060000
END:STANDARD
BEGIN:DAYLIGHT
TZOFFSETFROM:-0500
TZOFFSETTO:-0400
TZNAME:EDT
DTSTART:20190310T070000
END:DAYLIGHT
BEGIN:STANDARD
TZOFFSETFROM:-0400
TZOFFSETTO:-0500
TZNAME:EST
DTSTART:20191103T060000
END:STANDARD
BEGIN:DAYLIGHT
TZOFFSETFROM:-0500
TZOFFSETTO:-0400
TZNAME:EDT
DTSTART:20200308T070000
END:DAYLIGHT
BEGIN:STANDARD
TZOFFSETFROM:-0400
TZOFFSETTO:-0500
TZNAME:EST
DTSTART:20201101T060000
END:STANDARD
BEGIN:DAYLIGHT
TZOFFSETFROM:-0500
TZOFFSETTO:-0400
TZNAME:EDT
DTSTART:20210314T070000
END:DAYLIGHT
BEGIN:STANDARD
TZOFFSETFROM:-0400
TZOFFSETTO:-0500
TZNAME:EST
DTSTART:20211107T060000
END:STANDARD
BEGIN:DAYLIGHT
TZOFFSETFROM:-0500
TZOFFSETTO:-0400
TZNAME:EDT
DTSTART:20220313T070000
END:DAYLIGHT
BEGIN:STANDARD
TZOFFSETFROM:-0400
TZOFFSETTO:-0500
TZNAME:EST
DTSTART:20221106T060000
END:STANDARD
BEGIN:DAYLIGHT
TZOFFSETFROM:-0500
TZOFFSETTO:-0400
TZNAME:EDT
DTSTART:20230312T070000
END:DAYLIGHT
BEGIN:STANDARD
TZOFFSETFROM:-0400
TZOFFSETTO:-0500
TZNAME:EST
DTSTART:20231105T060000
END:STANDARD
BEGIN:DAYLIGHT
TZOFFSETFROM:-0500
TZOFFSETTO:-0400
TZNAME:EDT
DTSTART:20240310T070000
END:DAYLIGHT
BEGIN:STANDARD
TZOFFSETFROM:-0400
TZOFFSETTO:-0500
TZNAME:EST
DTSTART:20241103T060000
END:STANDARD
BEGIN:DAYLIGHT
TZOFFSETFROM:-0500
TZOFFSETTO:-0400
TZNAME:EDT
DTSTART:20250309T070000
END:DAYLIGHT
BEGIN:STANDARD
TZOFFSETFROM:-0400
TZOFFSETTO:-0500
TZNAME:EST
DTSTART:20251102T060000
END:STANDARD
END:VTIMEZONE
BEGIN:VEVENT
DTSTART;TZID=America/New_York:20190817T170000
DTEND;TZID=America/New_York:20190817T190000
DTSTAMP:20260424T152456
CREATED:20190705T234827Z
LAST-MODIFIED:20190705T234827Z
UID:10003839-1566061200-1566068400@lake-sunapee-living.com
SUMMARY:Free Outdoor Concert: Kid Pinky at Flanders Stage
DESCRIPTION:The Sunapee Harbor Riverway and Our Local Business Sponsors Proudly\nPresent the Free 2019 Summer Music Series on Flanders Stage \n5-7pm \nAugust 17 – Kid Pinky
URL:https://lake-sunapee-living.com/event/free-outdoor-concert-kid-pinky-at-flanders-stage/
LOCATION:Flanders Stage\, 125 Main St\, Sunapee\, NH\, 03782\, United States
CATEGORIES:Free Outdoor Concert
GEO:43.3852084;-72.0809835
X-APPLE-STRUCTURED-LOCATION;VALUE=URI;X-ADDRESS=Flanders Stage 125 Main St Sunapee NH 03782 United States;X-APPLE-RADIUS=500;X-TITLE=125 Main St:geo:-72.0809835,43.3852084
END:VEVENT
BEGIN:VEVENT
DTSTART;TZID=America/New_York:20210722T183000
DTEND;TZID=America/New_York:20210722T200000
DTSTAMP:20260424T152456
CREATED:20210509T194207Z
LAST-MODIFIED:20210509T194207Z
UID:10004013-1626978600-1626984000@lake-sunapee-living.com
SUMMARY:Free Outdoor Concert: Kid Pinky at the Newbury Harbor Gazebo
DESCRIPTION:Newbury Summer Concert Series 2021\nFree outdoor concert with Kid Pinky (Original Blues)\nSponsored by the Newbury Recreation Department
URL:https://lake-sunapee-living.com/event/free-outdoor-concert-kid-pinky-at-the-newbury-harbor-gazebo/
LOCATION:Newbury Gazebo\, 980 Rt 103\, Newbury\, NH\, 03255\, United States
CATEGORIES:Free Outdoor Concert
GEO:43.331756;-72.0444459
X-APPLE-STRUCTURED-LOCATION;VALUE=URI;X-ADDRESS=Newbury Gazebo 980 Rt 103 Newbury NH 03255 United States;X-APPLE-RADIUS=500;X-TITLE=980 Rt 103:geo:-72.0444459,43.331756
END:VEVENT
BEGIN:VEVENT
DTSTART;TZID=America/New_York:20210814T170000
DTEND;TZID=America/New_York:20210814T190000
DTSTAMP:20260424T152456
CREATED:20210706T023755Z
LAST-MODIFIED:20210706T023755Z
UID:10000501-1628960400-1628967600@lake-sunapee-living.com
SUMMARY:Free Live Music: Kid Pinky at Flanders Stage
DESCRIPTION:The Sunapee Harbor Riverway Presents the Free 2021 Summer Music Series On Flanders Stage featuring Kid Pinky. \nMore info visit sunapeeharborriverway.com/sunapee-harbor-events/
URL:https://lake-sunapee-living.com/event/free-live-music-kid-pinky-at-flanders-stage/
LOCATION:Flanders Stage\, 125 Main St\, Sunapee\, NH\, 03782\, United States
CATEGORIES:Free Outdoor Concert
GEO:43.3852084;-72.0809835
X-APPLE-STRUCTURED-LOCATION;VALUE=URI;X-ADDRESS=Flanders Stage 125 Main St Sunapee NH 03782 United States;X-APPLE-RADIUS=500;X-TITLE=125 Main St:geo:-72.0809835,43.3852084
END:VEVENT
BEGIN:VEVENT
DTSTART;TZID=America/New_York:20220827T170000
DTEND;TZID=America/New_York:20220827T190000
DTSTAMP:20260424T152456
CREATED:20220715T010931Z
LAST-MODIFIED:20220715T010931Z
UID:10004147-1661619600-1661626800@lake-sunapee-living.com
SUMMARY:Free Live Music: Kid Pinky At Flanders Stage
DESCRIPTION:The Sunapee Harbor Riverway and our local business sponsors proudly present the FREE 2022 SUMMER MUSIC SERIES ON FLANDERS STAGE \nsunapeeharborriverway.com
URL:https://lake-sunapee-living.com/event/free-live-music-kid-pinky-at-flanders-stage-2/
LOCATION:Flanders Stage\, 125 Main St\, Sunapee\, NH\, 03782\, United States
CATEGORIES:Free Outdoor Concert
GEO:43.3852084;-72.0809835
X-APPLE-STRUCTURED-LOCATION;VALUE=URI;X-ADDRESS=Flanders Stage 125 Main St Sunapee NH 03782 United States;X-APPLE-RADIUS=500;X-TITLE=125 Main St:geo:-72.0809835,43.3852084
END:VEVENT
BEGIN:VEVENT
DTSTART;TZID=America/New_York:20240824T150000
DTEND;TZID=America/New_York:20240824T170000
DTSTAMP:20260424T152456
CREATED:20240725T153232Z
LAST-MODIFIED:20240728T201738Z
UID:10004314-1724511600-1724518800@lake-sunapee-living.com
SUMMARY:Live Music: Kid Pinky at Flanders Stage
DESCRIPTION:Visit www.SunapeeHarborRiverway.com for schedule.\nFollow us at www.facebook.com/sunapeeharbor.
URL:https://lake-sunapee-living.com/event/live-music-kid-pinky-at-flanders-stage/
LOCATION:Flanders Stage\, 125 Main St\, Sunapee\, NH\, 03782\, United States
CATEGORIES:Live Music
GEO:43.3852084;-72.0809835
X-APPLE-STRUCTURED-LOCATION;VALUE=URI;X-ADDRESS=Flanders Stage 125 Main St Sunapee NH 03782 United States;X-APPLE-RADIUS=500;X-TITLE=125 Main St:geo:-72.0809835,43.3852084
END:VEVENT
BEGIN:VEVENT
DTSTART;TZID=America/New_York:20240828T183000
DTEND;TZID=America/New_York:20240828T200000
DTSTAMP:20260424T152456
CREATED:20240725T152337Z
LAST-MODIFIED:20240728T202317Z
UID:10004313-1724869800-1724875200@lake-sunapee-living.com
SUMMARY:Live Music: Kid Pinky at Ben Mere Bandstand
DESCRIPTION:(A retro-style four-piece blues band from the Concord\, NH area that\nis both authentic and unique\, but not loud. A throwback to a more\nsimple blues with its dedicated stylization and engaging personalities\,\nKid Pinky is always intimate and fun\, a blues that’ll knock you out!)
URL:https://lake-sunapee-living.com/event/live-music-kid-pinky-at-ben-mere-bandstand/
LOCATION:Ben Mere Bandstand\, 2 Lake Ave\, Sunapee\, NH\, 03782\, United States
CATEGORIES:Live Music
GEO:43.3849832;-72.0801034
X-APPLE-STRUCTURED-LOCATION;VALUE=URI;X-ADDRESS=Ben Mere Bandstand 2 Lake Ave Sunapee NH 03782 United States;X-APPLE-RADIUS=500;X-TITLE=2 Lake Ave:geo:-72.0801034,43.3849832
END:VEVENT
END:VCALENDAR