BEGIN:VCALENDAR
VERSION:2.0
PRODID:-//Lake Sunapee Living - ECPv6.15.13//NONSGML v1.0//EN
CALSCALE:GREGORIAN
METHOD:PUBLISH
X-ORIGINAL-URL:https://lake-sunapee-living.com
X-WR-CALDESC:Events for Lake Sunapee Living
REFRESH-INTERVAL;VALUE=DURATION:PT1H
X-Robots-Tag:noindex
X-PUBLISHED-TTL:PT1H
BEGIN:VTIMEZONE
TZID:America/New_York
BEGIN:DAYLIGHT
TZOFFSETFROM:-0500
TZOFFSETTO:-0400
TZNAME:EDT
DTSTART:20170312T070000
END:DAYLIGHT
BEGIN:STANDARD
TZOFFSETFROM:-0400
TZOFFSETTO:-0500
TZNAME:EST
DTSTART:20171105T060000
END:STANDARD
BEGIN:DAYLIGHT
TZOFFSETFROM:-0500
TZOFFSETTO:-0400
TZNAME:EDT
DTSTART:20180311T070000
END:DAYLIGHT
BEGIN:STANDARD
TZOFFSETFROM:-0400
TZOFFSETTO:-0500
TZNAME:EST
DTSTART:20181104T060000
END:STANDARD
BEGIN:DAYLIGHT
TZOFFSETFROM:-0500
TZOFFSETTO:-0400
TZNAME:EDT
DTSTART:20190310T070000
END:DAYLIGHT
BEGIN:STANDARD
TZOFFSETFROM:-0400
TZOFFSETTO:-0500
TZNAME:EST
DTSTART:20191103T060000
END:STANDARD
END:VTIMEZONE
BEGIN:VEVENT
DTSTART;TZID=America/New_York:20180818T190000
DTEND;TZID=America/New_York:20180818T190000
DTSTAMP:20260424T193848
CREATED:20180605T234742Z
LAST-MODIFIED:20180605T234742Z
UID:10000136-1534618800-1534618800@lake-sunapee-living.com
SUMMARY:Live Music: Katie McNally & Niel Pearlman at the LAC
DESCRIPTION:THREE BRIDGES CONCERT SERIES: a Celebration of Traditional Music \n“THE NEW FACE OF SCOTTISH FIDDLING IN THE USA” (The Living Tradition)\, Katie McNally has made waves in both the American folk music scene and abroad since the release of her debut album\, Flourish\, in 2013. \nHer latest project synthesizes her elegant and powerful fiddle playing with the talents of genre-crossing pianist Neil Pearlman and bluegrass phenom Shauncey Ali on viola. \nlibraryartscenter.org/threebridges/
URL:https://lake-sunapee-living.com/event/live-music-katie-mcnally-niel-pearlman-at-the-lac/
LOCATION:Library Arts Center\, 58 N. Main Street\, Newport\, NH\, 03773\, United States
CATEGORIES:Concert
GEO:43.3662756;-72.1758121
X-APPLE-STRUCTURED-LOCATION;VALUE=URI;X-ADDRESS=Library Arts Center 58 N. Main Street Newport NH 03773 United States;X-APPLE-RADIUS=500;X-TITLE=58 N. Main Street:geo:-72.1758121,43.3662756
END:VEVENT
END:VCALENDAR