BEGIN:VCALENDAR
VERSION:2.0
PRODID:-//Lake Sunapee Living - ECPv6.15.13//NONSGML v1.0//EN
CALSCALE:GREGORIAN
METHOD:PUBLISH
X-ORIGINAL-URL:https://lake-sunapee-living.com
X-WR-CALDESC:Events for Lake Sunapee Living
REFRESH-INTERVAL;VALUE=DURATION:PT1H
X-Robots-Tag:noindex
X-PUBLISHED-TTL:PT1H
BEGIN:VTIMEZONE
TZID:America/New_York
BEGIN:DAYLIGHT
TZOFFSETFROM:-0500
TZOFFSETTO:-0400
TZNAME:EDT
DTSTART:20180311T070000
END:DAYLIGHT
BEGIN:STANDARD
TZOFFSETFROM:-0400
TZOFFSETTO:-0500
TZNAME:EST
DTSTART:20181104T060000
END:STANDARD
BEGIN:DAYLIGHT
TZOFFSETFROM:-0500
TZOFFSETTO:-0400
TZNAME:EDT
DTSTART:20190310T070000
END:DAYLIGHT
BEGIN:STANDARD
TZOFFSETFROM:-0400
TZOFFSETTO:-0500
TZNAME:EST
DTSTART:20191103T060000
END:STANDARD
BEGIN:DAYLIGHT
TZOFFSETFROM:-0500
TZOFFSETTO:-0400
TZNAME:EDT
DTSTART:20200308T070000
END:DAYLIGHT
BEGIN:STANDARD
TZOFFSETFROM:-0400
TZOFFSETTO:-0500
TZNAME:EST
DTSTART:20201101T060000
END:STANDARD
END:VTIMEZONE
BEGIN:VEVENT
DTSTART;TZID=America/New_York:20190706T213000
DTEND;TZID=America/New_York:20190706T223000
DTSTAMP:20260424T180551
CREATED:20190629T192430Z
LAST-MODIFIED:20190629T192430Z
UID:10000340-1562448600-1562452200@lake-sunapee-living.com
SUMMARY:Fireworks : In Bradford at Brown Shattuck Field
DESCRIPTION:Fireworks in Bradford July 6 at 9:30 p.m. at Brown Shattuck Field
URL:https://lake-sunapee-living.com/event/fireworks-in-bradford-at-brown-shattuck-field/
LOCATION:Brown Shattuck Field\, 8 Cilley Ln\, Bradford\, NH\, 03221\, United States
CATEGORIES:Fireworks
GEO:43.2678596;-71.9554584
X-APPLE-STRUCTURED-LOCATION;VALUE=URI;X-ADDRESS=Brown Shattuck Field 8 Cilley Ln Bradford NH 03221 United States;X-APPLE-RADIUS=500;X-TITLE=8 Cilley Ln:geo:-71.9554584,43.2678596
END:VEVENT
BEGIN:VEVENT
DTSTART;TZID=America/New_York:20190707T203000
DTEND;TZID=America/New_York:20190707T210000
DTSTAMP:20260424T180551
CREATED:20190629T192234Z
LAST-MODIFIED:20190705T233806Z
UID:10000331-1562531400-1562533200@lake-sunapee-living.com
SUMMARY:Fireworks at Sunapee Harbor rescheduled to Sunday\, July 7th
DESCRIPTION:Fireworks July 7 at dusk in Sunapee Harbor
URL:https://lake-sunapee-living.com/event/fireworks-at-sunapee-harbor/
LOCATION:Sunapee Harbor\, 67 Main Street\, Sunapee\, NH\, 03782\, United States
CATEGORIES:Fireworks
GEO:43.3856379;-72.0816099
X-APPLE-STRUCTURED-LOCATION;VALUE=URI;X-ADDRESS=Sunapee Harbor 67 Main Street Sunapee NH 03782 United States;X-APPLE-RADIUS=500;X-TITLE=67 Main Street:geo:-72.0816099,43.3856379
END:VEVENT
END:VCALENDAR