BEGIN:VCALENDAR
VERSION:2.0
PRODID:-//Lake Sunapee Living - ECPv6.15.13//NONSGML v1.0//EN
CALSCALE:GREGORIAN
METHOD:PUBLISH
X-ORIGINAL-URL:https://lake-sunapee-living.com
X-WR-CALDESC:Events for Lake Sunapee Living
REFRESH-INTERVAL;VALUE=DURATION:PT1H
X-Robots-Tag:noindex
X-PUBLISHED-TTL:PT1H
BEGIN:VTIMEZONE
TZID:America/New_York
BEGIN:DAYLIGHT
TZOFFSETFROM:-0500
TZOFFSETTO:-0400
TZNAME:EDT
DTSTART:20230312T070000
END:DAYLIGHT
BEGIN:STANDARD
TZOFFSETFROM:-0400
TZOFFSETTO:-0500
TZNAME:EST
DTSTART:20231105T060000
END:STANDARD
BEGIN:DAYLIGHT
TZOFFSETFROM:-0500
TZOFFSETTO:-0400
TZNAME:EDT
DTSTART:20240310T070000
END:DAYLIGHT
BEGIN:STANDARD
TZOFFSETFROM:-0400
TZOFFSETTO:-0500
TZNAME:EST
DTSTART:20241103T060000
END:STANDARD
BEGIN:DAYLIGHT
TZOFFSETFROM:-0500
TZOFFSETTO:-0400
TZNAME:EDT
DTSTART:20250309T070000
END:DAYLIGHT
BEGIN:STANDARD
TZOFFSETFROM:-0400
TZOFFSETTO:-0500
TZNAME:EST
DTSTART:20251102T060000
END:STANDARD
END:VTIMEZONE
BEGIN:VEVENT
DTSTART;TZID=America/New_York:20241019T173000
DTEND;TZID=America/New_York:20241019T183000
DTSTAMP:20260424T220100
CREATED:20241013T193248Z
LAST-MODIFIED:20241013T193248Z
UID:10004349-1729359000-1729362600@lake-sunapee-living.com
SUMMARY:Live Music: King Ridge Benefit Reception & Candlelight Concert by guitarist Jose Lezcano
DESCRIPTION:Join us for a formal evening reception at the former King Ridge Lodge in support of the Center for the Arts. \nEnjoy a guest performance\, beautiful views\, catered reception\, complementary bar\, and raffles to raise funds for the Arts. \nAttire: Creative Black Tie meaning formal or cocktail attire \nhttps://centerfortheartsnh.us10.list-manage.com/track/click?u=972d302c83f2d028e1b34d44d&id=c30ae81ef6&e=58604c95c2
URL:https://lake-sunapee-living.com/event/live-music-king-ridge-benefit-reception-candlelight-concert-by-guitarist-jose-lezcano/
LOCATION:King Ridge Lodge\, Summit Road\, New London\, NH\, 03257\, United States
CATEGORIES:Benefit,Live Music
GEO:43.3799466;-71.9813676
X-APPLE-STRUCTURED-LOCATION;VALUE=URI;X-ADDRESS=King Ridge Lodge Summit Road New London NH 03257 United States;X-APPLE-RADIUS=500;X-TITLE=Summit Road:geo:-71.9813676,43.3799466
END:VEVENT
END:VCALENDAR