BEGIN:VCALENDAR
VERSION:2.0
PRODID:-//Lake Sunapee Living - ECPv6.15.13//NONSGML v1.0//EN
CALSCALE:GREGORIAN
METHOD:PUBLISH
X-ORIGINAL-URL:https://lake-sunapee-living.com
X-WR-CALDESC:Events for Lake Sunapee Living
REFRESH-INTERVAL;VALUE=DURATION:PT1H
X-Robots-Tag:noindex
X-PUBLISHED-TTL:PT1H
BEGIN:VTIMEZONE
TZID:America/New_York
BEGIN:DAYLIGHT
TZOFFSETFROM:-0500
TZOFFSETTO:-0400
TZNAME:EDT
DTSTART:20170312T070000
END:DAYLIGHT
BEGIN:STANDARD
TZOFFSETFROM:-0400
TZOFFSETTO:-0500
TZNAME:EST
DTSTART:20171105T060000
END:STANDARD
BEGIN:DAYLIGHT
TZOFFSETFROM:-0500
TZOFFSETTO:-0400
TZNAME:EDT
DTSTART:20180311T070000
END:DAYLIGHT
BEGIN:STANDARD
TZOFFSETFROM:-0400
TZOFFSETTO:-0500
TZNAME:EST
DTSTART:20181104T060000
END:STANDARD
BEGIN:DAYLIGHT
TZOFFSETFROM:-0500
TZOFFSETTO:-0400
TZNAME:EDT
DTSTART:20190310T070000
END:DAYLIGHT
BEGIN:STANDARD
TZOFFSETFROM:-0400
TZOFFSETTO:-0500
TZNAME:EST
DTSTART:20191103T060000
END:STANDARD
END:VTIMEZONE
BEGIN:VEVENT
DTSTART;TZID=America/New_York:20180310T193000
DTEND;TZID=America/New_York:20180310T210000
DTSTAMP:20260424T232417
CREATED:20180201T214759Z
LAST-MODIFIED:20180201T214828Z
UID:10000218-1520710200-1520715600@lake-sunapee-living.com
SUMMARY:The Spirit of Johnny Cash at the Claremont Opera House
DESCRIPTION:Spirit of Johnny Cash with Harold Ford at the Claremont Opera House \nSat. Mar. 10 ~ 7:30 pm \nTickets $22 can be purchased online at www.claremontoperahouse.org\, by calling 603-542-4433 or in person in the Claremont Opera House Box office in City Hall at 58 Opera House Square. \nWCNL Country AM 1010 / FM 94.7\, Common Man Inn & Restaurant and Claremont Opera House welcome the return\, by popular demand\, of The Spirit of Johnny Cash starring Harold Ford as Johnny Cash and featuring the Red Hot Cash Band at the historic Claremont Opera House Saturday\, March 10\, 7:30 pm.
URL:https://lake-sunapee-living.com/event/spirit-johnny-cash-claremont-opera-house/
CATEGORIES:Concert
END:VEVENT
END:VCALENDAR