BEGIN:VCALENDAR
VERSION:2.0
PRODID:-//Lake Sunapee Living - ECPv6.15.13//NONSGML v1.0//EN
CALSCALE:GREGORIAN
METHOD:PUBLISH
X-ORIGINAL-URL:https://lake-sunapee-living.com
X-WR-CALDESC:Events for Lake Sunapee Living
REFRESH-INTERVAL;VALUE=DURATION:PT1H
X-Robots-Tag:noindex
X-PUBLISHED-TTL:PT1H
BEGIN:VTIMEZONE
TZID:America/New_York
BEGIN:DAYLIGHT
TZOFFSETFROM:-0500
TZOFFSETTO:-0400
TZNAME:EDT
DTSTART:20230312T070000
END:DAYLIGHT
BEGIN:STANDARD
TZOFFSETFROM:-0400
TZOFFSETTO:-0500
TZNAME:EST
DTSTART:20231105T060000
END:STANDARD
BEGIN:DAYLIGHT
TZOFFSETFROM:-0500
TZOFFSETTO:-0400
TZNAME:EDT
DTSTART:20240310T070000
END:DAYLIGHT
BEGIN:STANDARD
TZOFFSETFROM:-0400
TZOFFSETTO:-0500
TZNAME:EST
DTSTART:20241103T060000
END:STANDARD
BEGIN:DAYLIGHT
TZOFFSETFROM:-0500
TZOFFSETTO:-0400
TZNAME:EDT
DTSTART:20250309T070000
END:DAYLIGHT
BEGIN:STANDARD
TZOFFSETFROM:-0400
TZOFFSETTO:-0500
TZNAME:EST
DTSTART:20251102T060000
END:STANDARD
END:VTIMEZONE
BEGIN:VEVENT
DTSTART;TZID=America/New_York:20240814T183000
DTEND;TZID=America/New_York:20240814T200000
DTSTAMP:20260424T152504
CREATED:20240725T151128Z
LAST-MODIFIED:20240728T201615Z
UID:10004311-1723660200-1723665600@lake-sunapee-living.com
SUMMARY:Live Music: John Sullivan Band at Ben Mere Bandstand
DESCRIPTION:John Sullivan\, has shared the stage with music legends including Joe\nCocker\, Steve Tyler\, James Montgomery\, Danny Klein (J Geils) and\nhas opened for Rick Derringer\, Average White Band\, The Ramones\,\nSteppenwolf\, Jan Hammer and The Guess Who\, to name a few!\nAccompanied by Andy Hanscom on drums; and Gene Kossakoski on\nbass and vocals.
URL:https://lake-sunapee-living.com/event/live-music-john-sullivan-band-at-ben-mere-bandstand/
LOCATION:Ben Mere Bandstand\, 2 Lake Ave\, Sunapee\, NH\, 03782\, United States
CATEGORIES:Live Music
GEO:43.3849832;-72.0801034
X-APPLE-STRUCTURED-LOCATION;VALUE=URI;X-ADDRESS=Ben Mere Bandstand 2 Lake Ave Sunapee NH 03782 United States;X-APPLE-RADIUS=500;X-TITLE=2 Lake Ave:geo:-72.0801034,43.3849832
END:VEVENT
END:VCALENDAR