BEGIN:VCALENDAR
VERSION:2.0
PRODID:-//Lake Sunapee Living - ECPv6.15.13//NONSGML v1.0//EN
CALSCALE:GREGORIAN
METHOD:PUBLISH
X-ORIGINAL-URL:https://lake-sunapee-living.com
X-WR-CALDESC:Events for Lake Sunapee Living
REFRESH-INTERVAL;VALUE=DURATION:PT1H
X-Robots-Tag:noindex
X-PUBLISHED-TTL:PT1H
BEGIN:VTIMEZONE
TZID:America/New_York
BEGIN:DAYLIGHT
TZOFFSETFROM:-0500
TZOFFSETTO:-0400
TZNAME:EDT
DTSTART:20170312T070000
END:DAYLIGHT
BEGIN:STANDARD
TZOFFSETFROM:-0400
TZOFFSETTO:-0500
TZNAME:EST
DTSTART:20171105T060000
END:STANDARD
BEGIN:DAYLIGHT
TZOFFSETFROM:-0500
TZOFFSETTO:-0400
TZNAME:EDT
DTSTART:20180311T070000
END:DAYLIGHT
BEGIN:STANDARD
TZOFFSETFROM:-0400
TZOFFSETTO:-0500
TZNAME:EST
DTSTART:20181104T060000
END:STANDARD
BEGIN:DAYLIGHT
TZOFFSETFROM:-0500
TZOFFSETTO:-0400
TZNAME:EDT
DTSTART:20190310T070000
END:DAYLIGHT
BEGIN:STANDARD
TZOFFSETFROM:-0400
TZOFFSETTO:-0500
TZNAME:EST
DTSTART:20191103T060000
END:STANDARD
BEGIN:DAYLIGHT
TZOFFSETFROM:-0500
TZOFFSETTO:-0400
TZNAME:EDT
DTSTART:20200308T070000
END:DAYLIGHT
BEGIN:STANDARD
TZOFFSETFROM:-0400
TZOFFSETTO:-0500
TZNAME:EST
DTSTART:20201101T060000
END:STANDARD
END:VTIMEZONE
BEGIN:VEVENT
DTSTART;TZID=America/New_York:20180711T160000
DTEND;TZID=America/New_York:20180711T173000
DTSTAMP:20260425T210621
CREATED:20180622T011412Z
LAST-MODIFIED:20180622T011412Z
UID:10000537-1531324800-1531330200@lake-sunapee-living.com
SUMMARY:The Inn at Pleasant Lake: Outdoor Cooking Class - Grilling
DESCRIPTION:Is it art\, science\, or deeply guarded family secrets? \nIn any case\, you are sure to add to your grilling prowess by sharing an afternoon with Chef Leary. \nThis class is staged outdoors (weather permitting)\, because where else would you hold a grilling class? \nCall the Inn to sign up today! $75.00 per participant.
URL:https://lake-sunapee-living.com/event/the-inn-at-pleasant-lake-outdoor-cooking-class-grilling/
LOCATION:The Inn at Pleasant Lake\, 853 Pleasant St\, New London\, NH\, 03257\, United States
CATEGORIES:Cooking Class
GEO:43.4335402;-71.9697255
X-APPLE-STRUCTURED-LOCATION;VALUE=URI;X-ADDRESS=The Inn at Pleasant Lake 853 Pleasant St New London NH 03257 United States;X-APPLE-RADIUS=500;X-TITLE=853 Pleasant St:geo:-71.9697255,43.4335402
END:VEVENT
BEGIN:VEVENT
DTSTART;TZID=America/New_York:20180901T110000
DTEND;TZID=America/New_York:20180901T150000
DTSTAMP:20260425T210621
CREATED:20180721T150140Z
LAST-MODIFIED:20180721T150140Z
UID:10000613-1535799600-1535814000@lake-sunapee-living.com
SUMMARY:Art Fest at the Inn at Pleasant Lake
DESCRIPTION:On Sept 1st from 11-3 the Inn at Pleasant Lake there is going to be an Art Fest to celebrate the inn’s\n150th Anniversary. \nDuring the event there will also be a Plein air demonstration\, blacksmith demo and\npossibly a weaver. \nThe money raised from the silent auction is generously being donated to benefit Road To Independence‘s farm and bakery programs. \nRTI works with participants who have daily challenges aka special needs. \nIt will be outside\, farmer’s market style and it only cost $10 for artist to set up a booth or table (No commission on art sales). The deadline for vendors is Aug. 15th. \nPlease let me know if you\, family or friends would be interested in participating as vendors or donating art work for the silent auction. \nFor more information contact Debbie Rowe Walker at 748-9147 or Margaret Coulter at 454-6102.
URL:https://lake-sunapee-living.com/event/art-fest-at-the-inn-at-pleasant-lake/
LOCATION:The Inn at Pleasant Lake\, 853 Pleasant St\, New London\, NH\, 03257\, United States
CATEGORIES:Art Exhibition
GEO:43.4335402;-71.9697255
X-APPLE-STRUCTURED-LOCATION;VALUE=URI;X-ADDRESS=The Inn at Pleasant Lake 853 Pleasant St New London NH 03257 United States;X-APPLE-RADIUS=500;X-TITLE=853 Pleasant St:geo:-71.9697255,43.4335402
END:VEVENT
BEGIN:VEVENT
DTSTART;TZID=America/New_York:20181117T130000
DTEND;TZID=America/New_York:20181117T170000
DTSTAMP:20260425T210621
CREATED:20180930T233300Z
LAST-MODIFIED:20180930T233404Z
UID:10003590-1542459600-1542474000@lake-sunapee-living.com
SUMMARY:150th Anniversary Pie-a-Palooza at the Inn at Pleasant Lake
DESCRIPTION:Compete in our pie baking contest! \nPut Grandma’s recipe to the test. \nAfter the contest\, sit down to a bountiful harvest dinner at Oak & Grain. Bonus- pie for dessert! \ninnatpleasantlake.com/calendar-of-events
URL:https://lake-sunapee-living.com/event/150th-anniversary-pie-a-palooza-at-the-inn-at-pleasant-lake/
LOCATION:The Inn at Pleasant Lake\, 853 Pleasant St\, New London\, NH\, 03257\, United States
CATEGORIES:Pie Baking Contest
GEO:43.4335402;-71.9697255
X-APPLE-STRUCTURED-LOCATION;VALUE=URI;X-ADDRESS=The Inn at Pleasant Lake 853 Pleasant St New London NH 03257 United States;X-APPLE-RADIUS=500;X-TITLE=853 Pleasant St:geo:-71.9697255,43.4335402
END:VEVENT
BEGIN:VEVENT
DTSTART;TZID=America/New_York:20191215T150000
DTEND;TZID=America/New_York:20191215T163000
DTSTAMP:20260425T210621
CREATED:20190925T000506Z
LAST-MODIFIED:20190925T001240Z
UID:10003846-1576422000-1576427400@lake-sunapee-living.com
SUMMARY:Winter Treats Cooking Class - Hosted by The Inn at Pleasant Lake
DESCRIPTION:A yummy mix of sweet treats and hors d’oeuvres to wow your friends and family at your next holiday party! This is the day to up your game on holiday offerings for your next gathering – and have some fun while you do it. \n• Caramelized White Chocolate Spread\n• Maple Dijon Cured And Grilled Salmon\n• Poached Spiced Shrimp Hush Puppies\, Remoulade\n• Curried Spaghetti Squash\, Toast Point\, Sunflower Seeds\n• Brie Apple Tartlets \nCall the inn to reserve your space.  $75 per person\, payable in advance.
URL:https://lake-sunapee-living.com/event/winter-treats-cooking-class-hosted-by-inn-at-pleasant-lake/
LOCATION:The Inn at Pleasant Lake\, 853 Pleasant St\, New London\, NH\, 03257\, United States
CATEGORIES:Cooking Class
GEO:43.4335402;-71.9697255
X-APPLE-STRUCTURED-LOCATION;VALUE=URI;X-ADDRESS=The Inn at Pleasant Lake 853 Pleasant St New London NH 03257 United States;X-APPLE-RADIUS=500;X-TITLE=853 Pleasant St:geo:-71.9697255,43.4335402
END:VEVENT
END:VCALENDAR