BEGIN:VCALENDAR
VERSION:2.0
PRODID:-//Lake Sunapee Living - ECPv6.15.13//NONSGML v1.0//EN
CALSCALE:GREGORIAN
METHOD:PUBLISH
X-ORIGINAL-URL:https://lake-sunapee-living.com
X-WR-CALDESC:Events for Lake Sunapee Living
REFRESH-INTERVAL;VALUE=DURATION:PT1H
X-Robots-Tag:noindex
X-PUBLISHED-TTL:PT1H
BEGIN:VTIMEZONE
TZID:America/New_York
BEGIN:DAYLIGHT
TZOFFSETFROM:-0500
TZOFFSETTO:-0400
TZNAME:EDT
DTSTART:20230312T070000
END:DAYLIGHT
BEGIN:STANDARD
TZOFFSETFROM:-0400
TZOFFSETTO:-0500
TZNAME:EST
DTSTART:20231105T060000
END:STANDARD
BEGIN:DAYLIGHT
TZOFFSETFROM:-0500
TZOFFSETTO:-0400
TZNAME:EDT
DTSTART:20240310T070000
END:DAYLIGHT
BEGIN:STANDARD
TZOFFSETFROM:-0400
TZOFFSETTO:-0500
TZNAME:EST
DTSTART:20241103T060000
END:STANDARD
BEGIN:DAYLIGHT
TZOFFSETFROM:-0500
TZOFFSETTO:-0400
TZNAME:EDT
DTSTART:20250309T070000
END:DAYLIGHT
BEGIN:STANDARD
TZOFFSETFROM:-0400
TZOFFSETTO:-0500
TZNAME:EST
DTSTART:20251102T060000
END:STANDARD
END:VTIMEZONE
BEGIN:VEVENT
DTSTART;TZID=America/New_York:20240723T190000
DTEND;TZID=America/New_York:20240723T203000
DTSTAMP:20260424T230618
CREATED:20240727T161251Z
LAST-MODIFIED:20240727T161251Z
UID:10004346-1721761200-1721766600@lake-sunapee-living.com
SUMMARY:LSPA Summer Programs: Indigenous Waterways
DESCRIPTION:Indigenous historical narrative on exploring ways to protect\, restore\, and sustainably manage waterways through Indigenous knowledge and practices. Denise K. Pouliot\, Sagmoskwa (Head Female Speaker)\, and Artist and Paul W. Pouliot\, Sagmo (Head Male Speaker – Chief) and Tribal Historic Preservation Officer (THPO)\, of the Cowasuck Band of the Pennacook-Abenaki People will discuss their contemporary response about being the continued “Care Takers” of N’dakinna\, our homelands and our lakes. \n 
URL:https://lake-sunapee-living.com/event/lspa-summer-programs-indigenous-waterways/
CATEGORIES:LSPA Summer Programs
ORGANIZER;CN="Louis Bradbard":MAILTO:lbradbard@mac.com
END:VEVENT
END:VCALENDAR