BEGIN:VCALENDAR
VERSION:2.0
PRODID:-//Lake Sunapee Living - ECPv6.15.13//NONSGML v1.0//EN
CALSCALE:GREGORIAN
METHOD:PUBLISH
X-ORIGINAL-URL:https://lake-sunapee-living.com
X-WR-CALDESC:Events for Lake Sunapee Living
REFRESH-INTERVAL;VALUE=DURATION:PT1H
X-Robots-Tag:noindex
X-PUBLISHED-TTL:PT1H
BEGIN:VTIMEZONE
TZID:America/New_York
BEGIN:DAYLIGHT
TZOFFSETFROM:-0500
TZOFFSETTO:-0400
TZNAME:EDT
DTSTART:20170312T070000
END:DAYLIGHT
BEGIN:STANDARD
TZOFFSETFROM:-0400
TZOFFSETTO:-0500
TZNAME:EST
DTSTART:20171105T060000
END:STANDARD
BEGIN:DAYLIGHT
TZOFFSETFROM:-0500
TZOFFSETTO:-0400
TZNAME:EDT
DTSTART:20180311T070000
END:DAYLIGHT
BEGIN:STANDARD
TZOFFSETFROM:-0400
TZOFFSETTO:-0500
TZNAME:EST
DTSTART:20181104T060000
END:STANDARD
BEGIN:DAYLIGHT
TZOFFSETFROM:-0500
TZOFFSETTO:-0400
TZNAME:EDT
DTSTART:20190310T070000
END:DAYLIGHT
BEGIN:STANDARD
TZOFFSETFROM:-0400
TZOFFSETTO:-0500
TZNAME:EST
DTSTART:20191103T060000
END:STANDARD
END:VTIMEZONE
BEGIN:VEVENT
DTSTART;TZID=America/New_York:20180711T160000
DTEND;TZID=America/New_York:20180711T173000
DTSTAMP:20260424T204221
CREATED:20180622T011412Z
LAST-MODIFIED:20180622T011412Z
UID:10000537-1531324800-1531330200@lake-sunapee-living.com
SUMMARY:The Inn at Pleasant Lake: Outdoor Cooking Class - Grilling
DESCRIPTION:Is it art\, science\, or deeply guarded family secrets? \nIn any case\, you are sure to add to your grilling prowess by sharing an afternoon with Chef Leary. \nThis class is staged outdoors (weather permitting)\, because where else would you hold a grilling class? \nCall the Inn to sign up today! $75.00 per participant.
URL:https://lake-sunapee-living.com/event/the-inn-at-pleasant-lake-outdoor-cooking-class-grilling/
LOCATION:The Inn at Pleasant Lake\, 853 Pleasant St\, New London\, NH\, 03257\, United States
CATEGORIES:Cooking Class
GEO:43.4335402;-71.9697255
X-APPLE-STRUCTURED-LOCATION;VALUE=URI;X-ADDRESS=The Inn at Pleasant Lake 853 Pleasant St New London NH 03257 United States;X-APPLE-RADIUS=500;X-TITLE=853 Pleasant St:geo:-71.9697255,43.4335402
END:VEVENT
END:VCALENDAR