BEGIN:VCALENDAR
VERSION:2.0
PRODID:-//Lake Sunapee Living - ECPv6.15.13//NONSGML v1.0//EN
CALSCALE:GREGORIAN
METHOD:PUBLISH
X-ORIGINAL-URL:https://lake-sunapee-living.com
X-WR-CALDESC:Events for Lake Sunapee Living
REFRESH-INTERVAL;VALUE=DURATION:PT1H
X-Robots-Tag:noindex
X-PUBLISHED-TTL:PT1H
BEGIN:VTIMEZONE
TZID:America/New_York
BEGIN:DAYLIGHT
TZOFFSETFROM:-0500
TZOFFSETTO:-0400
TZNAME:EDT
DTSTART:20170312T070000
END:DAYLIGHT
BEGIN:STANDARD
TZOFFSETFROM:-0400
TZOFFSETTO:-0500
TZNAME:EST
DTSTART:20171105T060000
END:STANDARD
BEGIN:DAYLIGHT
TZOFFSETFROM:-0500
TZOFFSETTO:-0400
TZNAME:EDT
DTSTART:20180311T070000
END:DAYLIGHT
BEGIN:STANDARD
TZOFFSETFROM:-0400
TZOFFSETTO:-0500
TZNAME:EST
DTSTART:20181104T060000
END:STANDARD
BEGIN:DAYLIGHT
TZOFFSETFROM:-0500
TZOFFSETTO:-0400
TZNAME:EDT
DTSTART:20190310T070000
END:DAYLIGHT
BEGIN:STANDARD
TZOFFSETFROM:-0400
TZOFFSETTO:-0500
TZNAME:EST
DTSTART:20191103T060000
END:STANDARD
BEGIN:DAYLIGHT
TZOFFSETFROM:-0500
TZOFFSETTO:-0400
TZNAME:EDT
DTSTART:20200308T070000
END:DAYLIGHT
BEGIN:STANDARD
TZOFFSETFROM:-0400
TZOFFSETTO:-0500
TZNAME:EST
DTSTART:20201101T060000
END:STANDARD
BEGIN:DAYLIGHT
TZOFFSETFROM:-0500
TZOFFSETTO:-0400
TZNAME:EDT
DTSTART:20210314T070000
END:DAYLIGHT
BEGIN:STANDARD
TZOFFSETFROM:-0400
TZOFFSETTO:-0500
TZNAME:EST
DTSTART:20211107T060000
END:STANDARD
BEGIN:DAYLIGHT
TZOFFSETFROM:-0500
TZOFFSETTO:-0400
TZNAME:EDT
DTSTART:20220313T070000
END:DAYLIGHT
BEGIN:STANDARD
TZOFFSETFROM:-0400
TZOFFSETTO:-0500
TZNAME:EST
DTSTART:20221106T060000
END:STANDARD
BEGIN:DAYLIGHT
TZOFFSETFROM:-0500
TZOFFSETTO:-0400
TZNAME:EDT
DTSTART:20230312T070000
END:DAYLIGHT
BEGIN:STANDARD
TZOFFSETFROM:-0400
TZOFFSETTO:-0500
TZNAME:EST
DTSTART:20231105T060000
END:STANDARD
BEGIN:DAYLIGHT
TZOFFSETFROM:-0500
TZOFFSETTO:-0400
TZNAME:EDT
DTSTART:20240310T070000
END:DAYLIGHT
BEGIN:STANDARD
TZOFFSETFROM:-0400
TZOFFSETTO:-0500
TZNAME:EST
DTSTART:20241103T060000
END:STANDARD
BEGIN:DAYLIGHT
TZOFFSETFROM:-0500
TZOFFSETTO:-0400
TZNAME:EDT
DTSTART:20250309T070000
END:DAYLIGHT
BEGIN:STANDARD
TZOFFSETFROM:-0400
TZOFFSETTO:-0500
TZNAME:EST
DTSTART:20251102T060000
END:STANDARD
BEGIN:DAYLIGHT
TZOFFSETFROM:-0500
TZOFFSETTO:-0400
TZNAME:EDT
DTSTART:20260308T070000
END:DAYLIGHT
BEGIN:STANDARD
TZOFFSETFROM:-0400
TZOFFSETTO:-0500
TZNAME:EST
DTSTART:20261101T060000
END:STANDARD
END:VTIMEZONE
BEGIN:VEVENT
DTSTART;TZID=America/New_York:20180707T090000
DTEND;TZID=America/New_York:20180707T130000
DTSTAMP:20260424T162551
CREATED:20180705T140219Z
LAST-MODIFIED:20180705T140240Z
UID:10000195-1530954000-1530968400@lake-sunapee-living.com
SUMMARY:Olive Pettis Memorial Library Five-Buck-Bag BOOK SALE
DESCRIPTION:Olive Pettis Memorial Library Five-Buck-Bag BOOK SALE  \n36 Mill Village Rd\, Goshen\, NH \n~Rain or Shine \nThe adventure is all in the find! (we supply the bags) \n 
URL:https://lake-sunapee-living.com/event/olive-pettis-memorial-library-five-buck-bag-book-sale/
LOCATION:Olive Pettis Memorial Library\, 36 Mill Village Rd\, Goshen\, NH\, 03752\, United States
CATEGORIES:Book Sale
GEO:43.3020714;-72.1491336
X-APPLE-STRUCTURED-LOCATION;VALUE=URI;X-ADDRESS=Olive Pettis Memorial Library 36 Mill Village Rd Goshen NH 03752 United States;X-APPLE-RADIUS=500;X-TITLE=36 Mill Village Rd:geo:-72.1491336,43.3020714
END:VEVENT
BEGIN:VEVENT
DTSTART;TZID=America/New_York:20180707T090000
DTEND;TZID=America/New_York:20180707T160000
DTSTAMP:20260424T162551
CREATED:20180618T215615Z
LAST-MODIFIED:20180705T150759Z
UID:10000494-1530954000-1530979200@lake-sunapee-living.com
SUMMARY:Goshen Town Wide Yard Sale
DESCRIPTION:Rain or Shine \n(This money will go towards printing of maps\, remainder donated to GOSHEN FIRE SERVICES ASSOCIATION) \nMaps available Sat 7am at Goshen Country Store \nor click here for Google Map \nFor more info email tlaboss93@gmail.com or call (603)477-4696 \nDeadline for sign-up: Monday\, July 2 \n \n 
URL:https://lake-sunapee-living.com/event/goshen-town-wide-yard-sale/
LOCATION:Town of Goshen\, 54 Mill Village Rd.\, Goshen\, NH\, 03752\, United States
CATEGORIES:Yard Sale
GEO:43.3022926;-72.1494048
X-APPLE-STRUCTURED-LOCATION;VALUE=URI;X-ADDRESS=Town of Goshen 54 Mill Village Rd. Goshen NH 03752 United States;X-APPLE-RADIUS=500;X-TITLE=54 Mill Village Rd.:geo:-72.1494048,43.3022926
END:VEVENT
BEGIN:VEVENT
DTSTART;TZID=America/New_York:20180808T130000
DTEND;TZID=America/New_York:20180808T140000
DTSTAMP:20260424T162551
CREATED:20180722T145712Z
LAST-MODIFIED:20180722T145712Z
UID:10000614-1533733200-1533736800@lake-sunapee-living.com
SUMMARY:Harmonica Workshop at the Olive Pettis Library
DESCRIPTION:Harmonica Workshop\nFREE FREE FREE \nPlease register by Thursday\, August 2 to assure you get a harmonica \nMike and Beverly Rogers offer harmonica workshops for the general population as well as special-needs students\, age nine through adult. \nThe students learn a song\, some techniques and they keep their own harmonicas. \nMost students come away with a feeling of accomplishment and self-worth. Attitudes shift in each and every student\, as they become absorbed with the process of entering the world of music! \nMike Rogers has been playing harmonica since the age of fifteen and performs with harmonica and guitar. \nHe draws on forty years of professional musicianship\, fifteen years of teaching secondary education and twenty years of performing in schools from Maine to Georgia. \nMike is joined by his wife Beverly who brings ten years of substitute teaching experience as well as previous work as a children’s storyteller for the public library system in Peach County\, Georgia. \nWednesday\, August 8\n1PM – 2PM\nOlive Pettis Library 36 Mill Village Road\, Goshen\ninfo @863-6921
URL:https://lake-sunapee-living.com/event/harmonica-workshop-at-the-olive-pettis-library/
LOCATION:Olive Pettis Memorial Library\, 36 Mill Village Rd\, Goshen\, NH\, 03752\, United States
CATEGORIES:Music Class
GEO:43.3020714;-72.1491336
X-APPLE-STRUCTURED-LOCATION;VALUE=URI;X-ADDRESS=Olive Pettis Memorial Library 36 Mill Village Rd Goshen NH 03752 United States;X-APPLE-RADIUS=500;X-TITLE=36 Mill Village Rd:geo:-72.1491336,43.3020714
END:VEVENT
BEGIN:VEVENT
DTSTART;TZID=America/New_York:20181020T103000
DTEND;TZID=America/New_York:20181020T120000
DTSTAMP:20260424T162551
CREATED:20181017T004828Z
LAST-MODIFIED:20181017T004828Z
UID:10003597-1540031400-1540036800@lake-sunapee-living.com
SUMMARY:Annual Scarecrow Build at the Olive Pettis Memorial Library
DESCRIPTION:For more info call 863-6921 \nRain or shine
URL:https://lake-sunapee-living.com/event/annual-scarecrow-build-at-the-olive-pettis-memorial-library/
LOCATION:Goshen Town Hall\, 54 Mill Vilage Rd\, Goshen\, NH\, 03752\, United States
CATEGORIES:Halloween
GEO:43.3022926;-72.1494048
X-APPLE-STRUCTURED-LOCATION;VALUE=URI;X-ADDRESS=Goshen Town Hall 54 Mill Vilage Rd Goshen NH 03752 United States;X-APPLE-RADIUS=500;X-TITLE=54 Mill Vilage Rd:geo:-72.1494048,43.3022926
END:VEVENT
BEGIN:VEVENT
DTSTART;TZID=America/New_York:20190706T080000
DTEND;TZID=America/New_York:20190706T120000
DTSTAMP:20260424T162551
CREATED:20190626T024614Z
LAST-MODIFIED:20190626T024614Z
UID:10003828-1562400000-1562414400@lake-sunapee-living.com
SUMMARY:Town-wide Yard Sales for Goshen\, Newport\, Lempster & Washington
DESCRIPTION:Event Date: Saturday\, July 6\, 2019 – 8:00am to 12:00pm\nGoshen:\n\n\nNewport Town Wide Yard Sale\n\n\n\n\n\n\n\n\n\nLempster\n\nTOWN-WIDE YARD SALE\nLEMPSTER LADIES AUXILIARY HOSTING\n2ND ANNUAL YARD SALE!!!!!\nJULY 6TH 8AM-3PM\nLEMPSTER FIRE STATION RTE 10 LEMPSTER NHMAKE YOUR FIRST STOP AT THE STATION THERE YOU\nPICK UP YOUR MAP FOR ALL OTHER LISTINGS IN TOWN.\nThe Auxiliary will be accepting item donations in the month of June only.\nPlease contact us at 603-504-2346 if interested. \n\n\nWashington: info not available
URL:https://lake-sunapee-living.com/event/town-wide-yard-sales-for-goshen-newport-lempster-washington/
LOCATION:NH\, United States
CATEGORIES:Yard Sale
END:VEVENT
BEGIN:VEVENT
DTSTART;TZID=America/New_York:20210306T160000
DTEND;TZID=America/New_York:20210306T200000
DTSTAMP:20260424T162551
CREATED:20210304T125523Z
LAST-MODIFIED:20210304T130129Z
UID:10003987-1615046400-1615060800@lake-sunapee-living.com
SUMMARY:Town Bonfire: Goshen NH
DESCRIPTION:Mill Village Goshen Center Bonfire\nTown Invited\nFood\, entertainment & 50/50 raffle.\n\n\n\nAll funds raised are donated to: Twin Ridge Mtn snowmobile club & Goshen Fireman’s Assoc.\n\n\n\n\n\n\n\nSponsored by Edina Realty\n\nAny food donations or help e-mail us:\n\n\nEdinarlty@icloud.com
URL:https://lake-sunapee-living.com/event/town-bonfire-goshen-nh/
LOCATION:Town of Goshen\, 54 Mill Village Rd.\, Goshen\, NH\, 03752\, United States
CATEGORIES:Bonfire
GEO:43.3022926;-72.1494048
X-APPLE-STRUCTURED-LOCATION;VALUE=URI;X-ADDRESS=Town of Goshen 54 Mill Village Rd. Goshen NH 03752 United States;X-APPLE-RADIUS=500;X-TITLE=54 Mill Village Rd.:geo:-72.1494048,43.3022926
END:VEVENT
BEGIN:VEVENT
DTSTART;TZID=America/New_York:20250925T080000
DTEND;TZID=America/New_York:20250925T160000
DTSTAMP:20260424T162551
CREATED:20250707T223436Z
LAST-MODIFIED:20250707T223557Z
UID:10004614-1758787200-1758816000@lake-sunapee-living.com
SUMMARY:Goshen Old Home Day
DESCRIPTION:WE ARE HAVING A CAKEWALK! \nGOSHEN OLD HOME DAY \nSaturday\, September 27\, 2025\nWe need your most scrumptious baked delight for this shindig. So\, tie on that apron and grab your trusty mixing bowl!\nFor more info or to signup: Contact Ashley @\nashleyhaslam22@gmail.com
URL:https://lake-sunapee-living.com/event/goshen-old-home-day-2/
LOCATION:Goshen Town Hall\, 54 Mill Vilage Rd\, Goshen\, NH\, 03752\, United States
GEO:43.3022926;-72.1494048
X-APPLE-STRUCTURED-LOCATION;VALUE=URI;X-ADDRESS=Goshen Town Hall 54 Mill Vilage Rd Goshen NH 03752 United States;X-APPLE-RADIUS=500;X-TITLE=54 Mill Vilage Rd:geo:-72.1494048,43.3022926
END:VEVENT
BEGIN:VEVENT
DTSTART;TZID=America/New_York:20250927T090000
DTEND;TZID=America/New_York:20250927T150000
DTSTAMP:20260424T162551
CREATED:20250521T114620Z
LAST-MODIFIED:20250521T114620Z
UID:10004513-1758963600-1758985200@lake-sunapee-living.com
SUMMARY:Goshen Old Home Day
DESCRIPTION:Goshen Old Home Day\nCalling All Vendors\nSeptember 27\, 2025\nDowntown Goshen\, NH \nMore Info:\nGoshenoldhomeday@gmail.com\nJoan (603)477-9887 \nWe’re looking for volunteers and committee members for the Goshen Old Home Day in 2025.If you are interested\, please sign up at the Town Hall or email Selectmen@Goshennh.org by September 1.Kick off meeting will be scheduled in September.
URL:https://lake-sunapee-living.com/event/goshen-old-home-day/
LOCATION:Goshen Town Hall\, 54 Mill Vilage Rd\, Goshen\, NH\, 03752\, United States
CATEGORIES:Old Home Day
GEO:43.3022926;-72.1494048
X-APPLE-STRUCTURED-LOCATION;VALUE=URI;X-ADDRESS=Goshen Town Hall 54 Mill Vilage Rd Goshen NH 03752 United States;X-APPLE-RADIUS=500;X-TITLE=54 Mill Vilage Rd:geo:-72.1494048,43.3022926
END:VEVENT
END:VCALENDAR