BEGIN:VCALENDAR
VERSION:2.0
PRODID:-//Lake Sunapee Living - ECPv6.15.13//NONSGML v1.0//EN
CALSCALE:GREGORIAN
METHOD:PUBLISH
X-ORIGINAL-URL:https://lake-sunapee-living.com
X-WR-CALDESC:Events for Lake Sunapee Living
REFRESH-INTERVAL;VALUE=DURATION:PT1H
X-Robots-Tag:noindex
X-PUBLISHED-TTL:PT1H
BEGIN:VTIMEZONE
TZID:America/New_York
BEGIN:DAYLIGHT
TZOFFSETFROM:-0500
TZOFFSETTO:-0400
TZNAME:EDT
DTSTART:20200308T070000
END:DAYLIGHT
BEGIN:STANDARD
TZOFFSETFROM:-0400
TZOFFSETTO:-0500
TZNAME:EST
DTSTART:20201101T060000
END:STANDARD
BEGIN:DAYLIGHT
TZOFFSETFROM:-0500
TZOFFSETTO:-0400
TZNAME:EDT
DTSTART:20210314T070000
END:DAYLIGHT
BEGIN:STANDARD
TZOFFSETFROM:-0400
TZOFFSETTO:-0500
TZNAME:EST
DTSTART:20211107T060000
END:STANDARD
BEGIN:DAYLIGHT
TZOFFSETFROM:-0500
TZOFFSETTO:-0400
TZNAME:EDT
DTSTART:20220313T070000
END:DAYLIGHT
BEGIN:STANDARD
TZOFFSETFROM:-0400
TZOFFSETTO:-0500
TZNAME:EST
DTSTART:20221106T060000
END:STANDARD
END:VTIMEZONE
BEGIN:VEVENT
DTSTART;TZID=America/New_York:20210724T170000
DTEND;TZID=America/New_York:20210724T190000
DTSTAMP:20260424T232153
CREATED:20210705T232910Z
LAST-MODIFIED:20210706T022825Z
UID:10004054-1627146000-1627153200@lake-sunapee-living.com
SUMMARY:Free Live Music: Gerry Grimo Jazz Combo at Flanders Stage
DESCRIPTION:The Sunapee Harbor Riverway Presents the Free 2021 Summer Music Series On Flanders Stage featuring Gerry Grimo Jazz Combo. \nMore info visit sunapeeharborriverway.com/sunapee-harbor-events/
URL:https://lake-sunapee-living.com/event/free-live-music-gerry-grimo-jazz-combo-at-flanders-stage/
LOCATION:Flanders Stage\, 125 Main St\, Sunapee\, NH\, 03782\, United States
CATEGORIES:Free Outdoor Concert
GEO:43.3852084;-72.0809835
X-APPLE-STRUCTURED-LOCATION;VALUE=URI;X-ADDRESS=Flanders Stage 125 Main St Sunapee NH 03782 United States;X-APPLE-RADIUS=500;X-TITLE=125 Main St:geo:-72.0809835,43.3852084
END:VEVENT
END:VCALENDAR