BEGIN:VCALENDAR
VERSION:2.0
PRODID:-//Lake Sunapee Living - ECPv6.15.13//NONSGML v1.0//EN
CALSCALE:GREGORIAN
METHOD:PUBLISH
X-ORIGINAL-URL:https://lake-sunapee-living.com
X-WR-CALDESC:Events for Lake Sunapee Living
REFRESH-INTERVAL;VALUE=DURATION:PT1H
X-Robots-Tag:noindex
X-PUBLISHED-TTL:PT1H
BEGIN:VTIMEZONE
TZID:America/New_York
BEGIN:DAYLIGHT
TZOFFSETFROM:-0500
TZOFFSETTO:-0400
TZNAME:EDT
DTSTART:20240310T070000
END:DAYLIGHT
BEGIN:STANDARD
TZOFFSETFROM:-0400
TZOFFSETTO:-0500
TZNAME:EST
DTSTART:20241103T060000
END:STANDARD
BEGIN:DAYLIGHT
TZOFFSETFROM:-0500
TZOFFSETTO:-0400
TZNAME:EDT
DTSTART:20250309T070000
END:DAYLIGHT
BEGIN:STANDARD
TZOFFSETFROM:-0400
TZOFFSETTO:-0500
TZNAME:EST
DTSTART:20251102T060000
END:STANDARD
BEGIN:DAYLIGHT
TZOFFSETFROM:-0500
TZOFFSETTO:-0400
TZNAME:EDT
DTSTART:20260308T070000
END:DAYLIGHT
BEGIN:STANDARD
TZOFFSETFROM:-0400
TZOFFSETTO:-0500
TZNAME:EST
DTSTART:20261101T060000
END:STANDARD
END:VTIMEZONE
BEGIN:VEVENT
DTSTART;TZID=America/New_York:20250329T180000
DTEND;TZID=America/New_York:20250329T200000
DTSTAMP:20260425T083547
CREATED:20250224T125220Z
LAST-MODIFIED:20250224T125220Z
UID:10004357-1743271200-1743278400@lake-sunapee-living.com
SUMMARY:Live Music: Fromo at the Greatful Dane Lodge
DESCRIPTION:Live Music: Fromo at the Greatful Dane Lodge
URL:https://lake-sunapee-living.com/event/live-music-fromo-at-the-greatful-dane-lodge/
LOCATION:Greatful Dane Lodge\, Schoolhouse Road 5\, Newport\, New Hampshire\, 03773\, United States
CATEGORIES:Live Music
GEO:43.3489922;-72.1525028
X-APPLE-STRUCTURED-LOCATION;VALUE=URI;X-ADDRESS=Greatful Dane Lodge Schoolhouse Road 5 Newport New Hampshire 03773 United States;X-APPLE-RADIUS=500;X-TITLE=Schoolhouse Road 5:geo:-72.1525028,43.3489922
END:VEVENT
END:VCALENDAR