BEGIN:VCALENDAR
VERSION:2.0
PRODID:-//Lake Sunapee Living - ECPv6.15.13//NONSGML v1.0//EN
CALSCALE:GREGORIAN
METHOD:PUBLISH
X-ORIGINAL-URL:https://lake-sunapee-living.com
X-WR-CALDESC:Events for Lake Sunapee Living
REFRESH-INTERVAL;VALUE=DURATION:PT1H
X-Robots-Tag:noindex
X-PUBLISHED-TTL:PT1H
BEGIN:VTIMEZONE
TZID:America/New_York
BEGIN:DAYLIGHT
TZOFFSETFROM:-0500
TZOFFSETTO:-0400
TZNAME:EDT
DTSTART:20190310T070000
END:DAYLIGHT
BEGIN:STANDARD
TZOFFSETFROM:-0400
TZOFFSETTO:-0500
TZNAME:EST
DTSTART:20191103T060000
END:STANDARD
BEGIN:DAYLIGHT
TZOFFSETFROM:-0500
TZOFFSETTO:-0400
TZNAME:EDT
DTSTART:20200308T070000
END:DAYLIGHT
BEGIN:STANDARD
TZOFFSETFROM:-0400
TZOFFSETTO:-0500
TZNAME:EST
DTSTART:20201101T060000
END:STANDARD
BEGIN:DAYLIGHT
TZOFFSETFROM:-0500
TZOFFSETTO:-0400
TZNAME:EDT
DTSTART:20210314T070000
END:DAYLIGHT
BEGIN:STANDARD
TZOFFSETFROM:-0400
TZOFFSETTO:-0500
TZNAME:EST
DTSTART:20211107T060000
END:STANDARD
BEGIN:DAYLIGHT
TZOFFSETFROM:-0500
TZOFFSETTO:-0400
TZNAME:EDT
DTSTART:20220313T070000
END:DAYLIGHT
BEGIN:STANDARD
TZOFFSETFROM:-0400
TZOFFSETTO:-0500
TZNAME:EST
DTSTART:20221106T060000
END:STANDARD
BEGIN:DAYLIGHT
TZOFFSETFROM:-0500
TZOFFSETTO:-0400
TZNAME:EDT
DTSTART:20230312T070000
END:DAYLIGHT
BEGIN:STANDARD
TZOFFSETFROM:-0400
TZOFFSETTO:-0500
TZNAME:EST
DTSTART:20231105T060000
END:STANDARD
END:VTIMEZONE
BEGIN:VEVENT
DTSTART;TZID=America/New_York:20200321T200000
DTEND;TZID=America/New_York:20200321T230000
DTSTAMP:20260424T192449
CREATED:20200315T174705Z
LAST-MODIFIED:20200315T232811Z
UID:10003933-1584820800-1584831600@lake-sunapee-living.com
SUMMARY:Live Music: Frogz Band at The Anchorage at Sunapee Harbor
DESCRIPTION:Join us for a live performance by the band Frogz!
URL:https://lake-sunapee-living.com/event/live-music-frogz-band-hosted-by-the-anchorage-at-sunapee-harbor/
LOCATION:The Anchorage\, 71 Main St\, Sunapee\, NH\, 03782\, United States
CATEGORIES:Live Music
GEO:43.385932;-72.081281
X-APPLE-STRUCTURED-LOCATION;VALUE=URI;X-ADDRESS=The Anchorage 71 Main St Sunapee NH 03782 United States;X-APPLE-RADIUS=500;X-TITLE=71 Main St:geo:-72.081281,43.385932
END:VEVENT
BEGIN:VEVENT
DTSTART;TZID=America/New_York:20220707T183000
DTEND;TZID=America/New_York:20220707T200000
DTSTAMP:20260424T192449
CREATED:20220411T004231Z
LAST-MODIFIED:20220411T004517Z
UID:10000512-1657218600-1657224000@lake-sunapee-living.com
SUMMARY:Free Live Music at Newbury Harbor: FROGZ
DESCRIPTION:Free Live Music at the Newbury Harbor Gazebo: FROGZ (Classic Rock\, R&B\, & Country) \nSponsored by the Newbury Recreation Department
URL:https://lake-sunapee-living.com/event/free-live-music-at-newbury-harbor-frogz/
LOCATION:Newbury Gazebo\, 980 Rt 103\, Newbury\, NH\, 03255\, United States
CATEGORIES:Free Outdoor Concert
GEO:43.331756;-72.0444459
X-APPLE-STRUCTURED-LOCATION;VALUE=URI;X-ADDRESS=Newbury Gazebo 980 Rt 103 Newbury NH 03255 United States;X-APPLE-RADIUS=500;X-TITLE=980 Rt 103:geo:-72.0444459,43.331756
END:VEVENT
END:VCALENDAR