BEGIN:VCALENDAR
VERSION:2.0
PRODID:-//Lake Sunapee Living - ECPv6.15.13//NONSGML v1.0//EN
CALSCALE:GREGORIAN
METHOD:PUBLISH
X-ORIGINAL-URL:https://lake-sunapee-living.com
X-WR-CALDESC:Events for Lake Sunapee Living
REFRESH-INTERVAL;VALUE=DURATION:PT1H
X-Robots-Tag:noindex
X-PUBLISHED-TTL:PT1H
BEGIN:VTIMEZONE
TZID:America/New_York
BEGIN:DAYLIGHT
TZOFFSETFROM:-0500
TZOFFSETTO:-0400
TZNAME:EDT
DTSTART:20240310T070000
END:DAYLIGHT
BEGIN:STANDARD
TZOFFSETFROM:-0400
TZOFFSETTO:-0500
TZNAME:EST
DTSTART:20241103T060000
END:STANDARD
BEGIN:DAYLIGHT
TZOFFSETFROM:-0500
TZOFFSETTO:-0400
TZNAME:EDT
DTSTART:20250309T070000
END:DAYLIGHT
BEGIN:STANDARD
TZOFFSETFROM:-0400
TZOFFSETTO:-0500
TZNAME:EST
DTSTART:20251102T060000
END:STANDARD
BEGIN:DAYLIGHT
TZOFFSETFROM:-0500
TZOFFSETTO:-0400
TZNAME:EDT
DTSTART:20260308T070000
END:DAYLIGHT
BEGIN:STANDARD
TZOFFSETFROM:-0400
TZOFFSETTO:-0500
TZNAME:EST
DTSTART:20261101T060000
END:STANDARD
END:VTIMEZONE
BEGIN:VEVENT
DTSTART;TZID=America/New_York:20250724T190000
DTEND;TZID=America/New_York:20250724T210000
DTSTAMP:20260425T165845
CREATED:20250615T161252Z
LAST-MODIFIED:20250615T161252Z
UID:10004589-1753383600-1753390800@lake-sunapee-living.com
SUMMARY:Live Music: Frederick Moyer and The Fred Moyer Jazz Trio
DESCRIPTION:Live Music: Summer Music Associates \nFrederick Moyer and The Fred Moyer Jazz Trio \nClassical Piano And Classical Jazz! \nFrederickMoyer.com \nSummer Music Associates is celebrating its 52nd season this summer! \nWe are a non-profit organization whose mission is to bring distinctive and diverse classical and jazz performances to our beautiful Lake Sunapee area. \nWe hope you enjoy the 2025 concert series. \nAll concerts begin at 7:00 PM in New London\, NH
URL:https://lake-sunapee-living.com/event/live-music-frederick-moyer-and-the-fred-moyer-jazz-trio/
LOCATION:First Baptist Church\, 461 Main St\, New London\, NH\, 03257\, United States
CATEGORIES:Live Music
GEO:43.4126675;-71.9799976
X-APPLE-STRUCTURED-LOCATION;VALUE=URI;X-ADDRESS=First Baptist Church 461 Main St New London NH 03257 United States;X-APPLE-RADIUS=500;X-TITLE=461 Main St:geo:-71.9799976,43.4126675
END:VEVENT
END:VCALENDAR