BEGIN:VCALENDAR
VERSION:2.0
PRODID:-//Lake Sunapee Living - ECPv6.15.13//NONSGML v1.0//EN
CALSCALE:GREGORIAN
METHOD:PUBLISH
X-ORIGINAL-URL:https://lake-sunapee-living.com
X-WR-CALDESC:Events for Lake Sunapee Living
REFRESH-INTERVAL;VALUE=DURATION:PT1H
X-Robots-Tag:noindex
X-PUBLISHED-TTL:PT1H
BEGIN:VTIMEZONE
TZID:America/New_York
BEGIN:DAYLIGHT
TZOFFSETFROM:-0500
TZOFFSETTO:-0400
TZNAME:EDT
DTSTART:20190310T070000
END:DAYLIGHT
BEGIN:STANDARD
TZOFFSETFROM:-0400
TZOFFSETTO:-0500
TZNAME:EST
DTSTART:20191103T060000
END:STANDARD
BEGIN:DAYLIGHT
TZOFFSETFROM:-0500
TZOFFSETTO:-0400
TZNAME:EDT
DTSTART:20200308T070000
END:DAYLIGHT
BEGIN:STANDARD
TZOFFSETFROM:-0400
TZOFFSETTO:-0500
TZNAME:EST
DTSTART:20201101T060000
END:STANDARD
BEGIN:DAYLIGHT
TZOFFSETFROM:-0500
TZOFFSETTO:-0400
TZNAME:EDT
DTSTART:20210314T070000
END:DAYLIGHT
BEGIN:STANDARD
TZOFFSETFROM:-0400
TZOFFSETTO:-0500
TZNAME:EST
DTSTART:20211107T060000
END:STANDARD
END:VTIMEZONE
BEGIN:VEVENT
DTSTART;TZID=America/New_York:20200920T120000
DTEND;TZID=America/New_York:20200920T160000
DTSTAMP:20260425T224021
CREATED:20200315T233558Z
LAST-MODIFIED:20200315T233558Z
UID:10003947-1600603200-1600617600@lake-sunapee-living.com
SUMMARY:New London Food Truck Festival - Vol 2
DESCRIPTION:Welcome back for another great time on the green!\nFood trucks wanted!! – to reserve your spot contact Scott Blewitt @ recreation@nl-nh.com\nTickets on-sale in Feb 2020
URL:https://lake-sunapee-living.com/event/new-london-food-truck-festival-vol-2/
LOCATION:New London Recreation Dept\, 375 Main St\, New London\, NH\, 03257\, United States
CATEGORIES:Food Festival
GEO:43.4400907;-72.024331
X-APPLE-STRUCTURED-LOCATION;VALUE=URI;X-ADDRESS=New London Recreation Dept 375 Main St New London NH 03257 United States;X-APPLE-RADIUS=500;X-TITLE=375 Main St:geo:-72.024331,43.4400907
END:VEVENT
END:VCALENDAR