BEGIN:VCALENDAR
VERSION:2.0
PRODID:-//Lake Sunapee Living - ECPv6.15.13//NONSGML v1.0//EN
CALSCALE:GREGORIAN
METHOD:PUBLISH
X-ORIGINAL-URL:https://lake-sunapee-living.com
X-WR-CALDESC:Events for Lake Sunapee Living
REFRESH-INTERVAL;VALUE=DURATION:PT1H
X-Robots-Tag:noindex
X-PUBLISHED-TTL:PT1H
BEGIN:VTIMEZONE
TZID:America/New_York
BEGIN:DAYLIGHT
TZOFFSETFROM:-0500
TZOFFSETTO:-0400
TZNAME:EDT
DTSTART:20160313T070000
END:DAYLIGHT
BEGIN:STANDARD
TZOFFSETFROM:-0400
TZOFFSETTO:-0500
TZNAME:EST
DTSTART:20161106T060000
END:STANDARD
BEGIN:DAYLIGHT
TZOFFSETFROM:-0500
TZOFFSETTO:-0400
TZNAME:EDT
DTSTART:20170312T070000
END:DAYLIGHT
BEGIN:STANDARD
TZOFFSETFROM:-0400
TZOFFSETTO:-0500
TZNAME:EST
DTSTART:20171105T060000
END:STANDARD
BEGIN:DAYLIGHT
TZOFFSETFROM:-0500
TZOFFSETTO:-0400
TZNAME:EDT
DTSTART:20180311T070000
END:DAYLIGHT
BEGIN:STANDARD
TZOFFSETFROM:-0400
TZOFFSETTO:-0500
TZNAME:EST
DTSTART:20181104T060000
END:STANDARD
END:VTIMEZONE
BEGIN:VEVENT
DTSTART;TZID=America/New_York:20171006T190000
DTEND;TZID=America/New_York:20171006T210000
DTSTAMP:20260424T215530
CREATED:20170921T001552Z
LAST-MODIFIED:20170921T002231Z
UID:10000133-1507316400-1507323600@lake-sunapee-living.com
SUMMARY:Kaitlyn Raitz and Ben Plotnick at the Sunapee Community CoffeeHouse
DESCRIPTION:Kaitlyn Raitz (cello\, vocals) and Ben Plotnick (fiddle\, vocals) have been making folk music for the majority of their lives. Though they’ve only started playing Folk\, Bluegrass\, Appalachian and Stringband music together this past year\, they have a combined musical resume that speaks to a lifetime of dedication to these styles and more. \nKaitlyn and Ben
URL:https://lake-sunapee-living.com/event/kaitlyn-raitz-ben-plotnick-sunapee-community-coffeehouse/
LOCATION:Sunapee Community CoffeeHouse\, 9 Lower Main Street\, Sunapee\, NH\, United States
CATEGORIES:Concert
GEO:43.3868056;-72.0886178
X-APPLE-STRUCTURED-LOCATION;VALUE=URI;X-ADDRESS=Sunapee Community CoffeeHouse 9 Lower Main Street Sunapee NH United States;X-APPLE-RADIUS=500;X-TITLE=9 Lower Main Street:geo:-72.0886178,43.3868056
END:VEVENT
BEGIN:VEVENT
DTSTART;TZID=America/New_York:20171201T190000
DTEND;TZID=America/New_York:20171201T210000
DTSTAMP:20260424T215530
CREATED:20170921T020959Z
LAST-MODIFIED:20170921T020959Z
UID:10000145-1512154800-1512162000@lake-sunapee-living.com
SUMMARY:Crowes Pasture at the Sunapee Community CoffeeHouse
DESCRIPTION:Crowes Pasture is the Boston-based acoustic duo of Monique Byrne and Andy Rogovin. \nThe duo brings leather and lace harmonies to classic and contemporary folk music in a style that draws from old-time\, folk and bluegrass traditions\, including such artists as Gillian Welch/David Rawlings\, Ian & Sylvia and the Civil Wars.
URL:https://lake-sunapee-living.com/event/crowes-pasture-sunapee-community-coffeehouse/
CATEGORIES:Concert
END:VEVENT
END:VCALENDAR