BEGIN:VCALENDAR
VERSION:2.0
PRODID:-//Lake Sunapee Living - ECPv6.15.13//NONSGML v1.0//EN
CALSCALE:GREGORIAN
METHOD:PUBLISH
X-ORIGINAL-URL:https://lake-sunapee-living.com
X-WR-CALDESC:Events for Lake Sunapee Living
REFRESH-INTERVAL;VALUE=DURATION:PT1H
X-Robots-Tag:noindex
X-PUBLISHED-TTL:PT1H
BEGIN:VTIMEZONE
TZID:America/New_York
BEGIN:DAYLIGHT
TZOFFSETFROM:-0500
TZOFFSETTO:-0400
TZNAME:EDT
DTSTART:20180311T070000
END:DAYLIGHT
BEGIN:STANDARD
TZOFFSETFROM:-0400
TZOFFSETTO:-0500
TZNAME:EST
DTSTART:20181104T060000
END:STANDARD
BEGIN:DAYLIGHT
TZOFFSETFROM:-0500
TZOFFSETTO:-0400
TZNAME:EDT
DTSTART:20190310T070000
END:DAYLIGHT
BEGIN:STANDARD
TZOFFSETFROM:-0400
TZOFFSETTO:-0500
TZNAME:EST
DTSTART:20191103T060000
END:STANDARD
BEGIN:DAYLIGHT
TZOFFSETFROM:-0500
TZOFFSETTO:-0400
TZNAME:EDT
DTSTART:20200308T070000
END:DAYLIGHT
BEGIN:STANDARD
TZOFFSETFROM:-0400
TZOFFSETTO:-0500
TZNAME:EST
DTSTART:20201101T060000
END:STANDARD
END:VTIMEZONE
BEGIN:VEVENT
DTSTART;TZID=America/New_York:20190427T140000
DTEND;TZID=America/New_York:20190427T170000
DTSTAMP:20260425T201333
CREATED:20190425T153230Z
LAST-MODIFIED:20190425T153230Z
UID:10003695-1556373600-1556384400@lake-sunapee-living.com
SUMMARY:Flat Track Event at NHMX
DESCRIPTION:NHMX Flat Track\n93 Jolly Rogers Road\, Lempster\, New Hampshire 03605
URL:https://lake-sunapee-living.com/event/flat-track-event-at-nhmx/
LOCATION:NHMX\, 93 Jolly Rogers Road\, Lempster\, NH\, 03605\, United States
CATEGORIES:Motor Racing
GEO:43.1846263;-72.2067613
X-APPLE-STRUCTURED-LOCATION;VALUE=URI;X-ADDRESS=NHMX 93 Jolly Rogers Road Lempster NH 03605 United States;X-APPLE-RADIUS=500;X-TITLE=93 Jolly Rogers Road:geo:-72.2067613,43.1846263
END:VEVENT
END:VCALENDAR