BEGIN:VCALENDAR
VERSION:2.0
PRODID:-//Lake Sunapee Living - ECPv6.15.13//NONSGML v1.0//EN
CALSCALE:GREGORIAN
METHOD:PUBLISH
X-ORIGINAL-URL:https://lake-sunapee-living.com
X-WR-CALDESC:Events for Lake Sunapee Living
REFRESH-INTERVAL;VALUE=DURATION:PT1H
X-Robots-Tag:noindex
X-PUBLISHED-TTL:PT1H
BEGIN:VTIMEZONE
TZID:America/New_York
BEGIN:DAYLIGHT
TZOFFSETFROM:-0500
TZOFFSETTO:-0400
TZNAME:EDT
DTSTART:20180311T070000
END:DAYLIGHT
BEGIN:STANDARD
TZOFFSETFROM:-0400
TZOFFSETTO:-0500
TZNAME:EST
DTSTART:20181104T060000
END:STANDARD
BEGIN:DAYLIGHT
TZOFFSETFROM:-0500
TZOFFSETTO:-0400
TZNAME:EDT
DTSTART:20190310T070000
END:DAYLIGHT
BEGIN:STANDARD
TZOFFSETFROM:-0400
TZOFFSETTO:-0500
TZNAME:EST
DTSTART:20191103T060000
END:STANDARD
BEGIN:DAYLIGHT
TZOFFSETFROM:-0500
TZOFFSETTO:-0400
TZNAME:EDT
DTSTART:20200308T070000
END:DAYLIGHT
BEGIN:STANDARD
TZOFFSETFROM:-0400
TZOFFSETTO:-0500
TZNAME:EST
DTSTART:20201101T060000
END:STANDARD
BEGIN:DAYLIGHT
TZOFFSETFROM:-0500
TZOFFSETTO:-0400
TZNAME:EDT
DTSTART:20210314T070000
END:DAYLIGHT
BEGIN:STANDARD
TZOFFSETFROM:-0400
TZOFFSETTO:-0500
TZNAME:EST
DTSTART:20211107T060000
END:STANDARD
BEGIN:DAYLIGHT
TZOFFSETFROM:-0500
TZOFFSETTO:-0400
TZNAME:EDT
DTSTART:20220313T070000
END:DAYLIGHT
BEGIN:STANDARD
TZOFFSETFROM:-0400
TZOFFSETTO:-0500
TZNAME:EST
DTSTART:20221106T060000
END:STANDARD
BEGIN:DAYLIGHT
TZOFFSETFROM:-0500
TZOFFSETTO:-0400
TZNAME:EDT
DTSTART:20230312T070000
END:DAYLIGHT
BEGIN:STANDARD
TZOFFSETFROM:-0400
TZOFFSETTO:-0500
TZNAME:EST
DTSTART:20231105T060000
END:STANDARD
END:VTIMEZONE
BEGIN:VEVENT
DTSTART;TZID=America/New_York:20190503T173000
DTEND;TZID=America/New_York:20190503T190000
DTSTAMP:20260424T180656
CREATED:20181118T141001Z
LAST-MODIFIED:20181118T141001Z
UID:10000230-1556904600-1556910000@lake-sunapee-living.com
SUMMARY:First Fridays! Gallery Opening Receptions - FREE
DESCRIPTION:First Fridays! Gallery Opening Receptions! \n“Eat\, Sip\, Stroll\, and Enjoy the Art!” \nFREE\n\nOpening Receptions for New Exhibits all on Main Street New London\nThe New London Inn\, Bar Harbor Bank & Trust\, Blue Loon Bakery\, and Whipple Hall \nwww.CenterForTheArtsNH.org
URL:https://lake-sunapee-living.com/event/first-fridays-gallery-opening-receptions-free-2/
LOCATION:Whipple Hall\, 429 Main Street\, New London\, NH\, 03257\, United States
CATEGORIES:Art Exhibition
GEO:43.4130294;-71.9807053
X-APPLE-STRUCTURED-LOCATION;VALUE=URI;X-ADDRESS=Whipple Hall 429 Main Street New London NH 03257 United States;X-APPLE-RADIUS=500;X-TITLE=429 Main Street:geo:-71.9807053,43.4130294
END:VEVENT
BEGIN:VEVENT
DTSTART;TZID=America/New_York:20190802T150000
DTEND;TZID=America/New_York:20190802T170000
DTSTAMP:20260424T180656
CREATED:20181118T150214Z
LAST-MODIFIED:20181118T150321Z
UID:10003608-1564758000-1564765200@lake-sunapee-living.com
SUMMARY:First Fridays! “We’ve Got Talent” at Whipple Hall
DESCRIPTION:First Fridays! “We’ve Got Talent” \nFREE \nAll ages! All talent! contact artsonmainnh@gmail.com to participate\nMusic\, Dance\, Theater Performances…Vote for your favorite! \nwww.CenterForTheArtsNH.org
URL:https://lake-sunapee-living.com/event/first-fridays-weve-got-talent-at-whipple-hall/
LOCATION:Whipple Hall\, 429 Main Street\, New London\, NH\, 03257\, United States
CATEGORIES:Talent Competition
GEO:43.4130294;-71.9807053
X-APPLE-STRUCTURED-LOCATION;VALUE=URI;X-ADDRESS=Whipple Hall 429 Main Street New London NH 03257 United States;X-APPLE-RADIUS=500;X-TITLE=429 Main Street:geo:-71.9807053,43.4130294
END:VEVENT
BEGIN:VEVENT
DTSTART;TZID=America/New_York:20190906T173000
DTEND;TZID=America/New_York:20190906T190000
DTSTAMP:20260424T180656
CREATED:20181118T150523Z
LAST-MODIFIED:20181118T150602Z
UID:10003609-1567791000-1567796400@lake-sunapee-living.com
SUMMARY:First Fridays! Gallery Opening Receptions FREE
DESCRIPTION:First Fridays! Gallery Opening Receptions! \n– “Eat\, Sip\, Stroll\, and Enjoy the Art!” \nFREE \nOpening Receptions for New exhibits all on Main Street New London\,\nThe New London Inn\, Bar Harbor Bank & Trust\, Blue Loon Bakery\, and Whipple Hall! \n  \nwww.CenterForTheArtsNH.org
URL:https://lake-sunapee-living.com/event/first-fridays-gallery-opening-receptions-free-3/
LOCATION:Whipple Hall\, 429 Main Street\, New London\, NH\, 03257\, United States
CATEGORIES:Art Exhibition
GEO:43.4130294;-71.9807053
X-APPLE-STRUCTURED-LOCATION;VALUE=URI;X-ADDRESS=Whipple Hall 429 Main Street New London NH 03257 United States;X-APPLE-RADIUS=500;X-TITLE=429 Main Street:geo:-71.9807053,43.4130294
END:VEVENT
BEGIN:VEVENT
DTSTART;TZID=America/New_York:20200103T190000
DTEND;TZID=America/New_York:20200103T203000
DTSTAMP:20260424T180656
CREATED:20191230T000950Z
LAST-MODIFIED:20191230T000950Z
UID:10000355-1578078000-1578083400@lake-sunapee-living.com
SUMMARY:First Fridays! Stars of Tomorrow!
DESCRIPTION:First Fridays! Stars of Tomorrow!  \nFREE \n2019 Scholarship Recipients perform  \nDance\, Music\, Theater\, Art! @ Warner Town Hall \nwww.centerfortheartsnh.org/first-fridays
URL:https://lake-sunapee-living.com/event/first-fridays-stars-of-tomorrow/
LOCATION:Warner Town Hall\, 5 E. Main St.\, Warner\, NH\, 03278\, United States
CATEGORIES:Musical Theater
GEO:43.281051;-71.815856
X-APPLE-STRUCTURED-LOCATION;VALUE=URI;X-ADDRESS=Warner Town Hall 5 E. Main St. Warner NH 03278 United States;X-APPLE-RADIUS=500;X-TITLE=5 E. Main St.:geo:-71.815856,43.281051
END:VEVENT
BEGIN:VEVENT
DTSTART;TZID=America/New_York:20200207T173000
DTEND;TZID=America/New_York:20200207T193000
DTSTAMP:20260424T180656
CREATED:20191230T002006Z
LAST-MODIFIED:20191230T002006Z
UID:10000359-1581096600-1581103800@lake-sunapee-living.com
SUMMARY:First Fridays! Gallery Opening Receptions
DESCRIPTION:First Fridays! Gallery Opening Receptions!  \nFREE \nOpening Receptions for New Exhibits all on Main Street New London \nThe New London Inn\, Bar Harbor Bank & Trust\, Blue Loon Bakery\, and Whipple Hall on Main Street and  \nTatewell Gallery on Newport Road!  – “Eat\, Sip\, Stroll\, and Enjoy the Art!”  \nhttps://centerfortheartsnh.org/first-fridays 
URL:https://lake-sunapee-living.com/event/first-fridays-gallery-opening-receptions-2/
LOCATION:Whipple Hall\, 429 Main Street\, New London\, NH\, 03257\, United States
CATEGORIES:Art Exhibition
GEO:43.4130294;-71.9807053
X-APPLE-STRUCTURED-LOCATION;VALUE=URI;X-ADDRESS=Whipple Hall 429 Main Street New London NH 03257 United States;X-APPLE-RADIUS=500;X-TITLE=429 Main Street:geo:-71.9807053,43.4130294
END:VEVENT
BEGIN:VEVENT
DTSTART;TZID=America/New_York:20210806T160000
DTEND;TZID=America/New_York:20210806T183000
DTSTAMP:20260424T180656
CREATED:20210607T232701Z
LAST-MODIFIED:20210607T232701Z
UID:10004017-1628265600-1628274600@lake-sunapee-living.com
SUMMARY:First Fridays! “Youth Talent Show”
DESCRIPTION:First Fridays! “Youth Talent Show” …plus the NL Barn Jr Interns Perform FREE! \nGrades 3-8! All talent! contact us to participate -Music\, Dance\, Theater Performances – Prizes! \nwww.centerfortheartsnh.org/first-fridays \nTo participate email us at info@cfanh.org
URL:https://lake-sunapee-living.com/event/first-fridays-youth-talent-show/
LOCATION:Whipple Hall\, 429 Main Street\, New London\, NH\, 03257\, United States
CATEGORIES:Talent Competition
GEO:43.4130294;-71.9807053
X-APPLE-STRUCTURED-LOCATION;VALUE=URI;X-ADDRESS=Whipple Hall 429 Main Street New London NH 03257 United States;X-APPLE-RADIUS=500;X-TITLE=429 Main Street:geo:-71.9807053,43.4130294
END:VEVENT
BEGIN:VEVENT
DTSTART;TZID=America/New_York:20220506T170000
DTEND;TZID=America/New_York:20220506T190000
DTSTAMP:20260424T180656
CREATED:20220423T131904Z
LAST-MODIFIED:20220423T131949Z
UID:10004113-1651856400-1651863600@lake-sunapee-living.com
SUMMARY:First Fridays! Meet the Artists and Gallery Stroll
DESCRIPTION:Opening Receptions for new exhibits at The New London Inn\, Bar Harbor Bank & Trust\, Blue Loon Bakery\, and Whipple Hall on Main Street\, Tatewell Gallery on Newport Road in New London and Prospect Hill in Sunapee. \n“Eat\, Sip\, Stroll\, and Enjoy the Art!” \nwww.centerfortheartsnh.org/first-fridays \n 
URL:https://lake-sunapee-living.com/event/first-fridays-meet-the-artists-and-gallery-stroll/
LOCATION:Whipple Hall\, 429 Main Street\, New London\, NH\, 03257\, United States
CATEGORIES:Art Exhibition
GEO:43.4130294;-71.9807053
X-APPLE-STRUCTURED-LOCATION;VALUE=URI;X-ADDRESS=Whipple Hall 429 Main Street New London NH 03257 United States;X-APPLE-RADIUS=500;X-TITLE=429 Main Street:geo:-71.9807053,43.4130294
END:VEVENT
BEGIN:VEVENT
DTSTART;TZID=America/New_York:20220621T173000
DTEND;TZID=America/New_York:20220621T190000
DTSTAMP:20260424T180656
CREATED:20220423T132937Z
LAST-MODIFIED:20220423T132937Z
UID:10004115-1655832600-1655838000@lake-sunapee-living.com
SUMMARY:Tapestry Tuesdays at the New London Inn - Kevin Gardner “Discovering New England Stone Walls”
DESCRIPTION:Why are we so fascinated with stone walls? Kevin Gardner\, author of The Granite Kiss\, explains how and why New England came to acquire its thousands of miles of stone walls\, the ways in which they and other dry stone structures were built\, how their styles emerged and changed over time and their significance to the famous New England landscape. Along the way\, Kevin occupies himself building a miniature wall or walls on a tabletop\, using tiny stones from a five-gallon bucket . \nKevin Gardner is a writer\, teacher\, tradesman\, and a lifelong resident of Hopkinton\, NH. He has been a stone wall builder for forty years\, and is the author of The Granite Kiss: Traditions and Techniques of Building New England Stone Walls\, as well as poetry\, songs\, and essays. \nSpace is limited \nPlease contact us for reservations! info@centerfortheartsnh.org
URL:https://lake-sunapee-living.com/event/tapestry-tuesdays-at-the-new-london-inn-kevin-gardner-discovering-new-england-stone-walls/
LOCATION:New London Barn Playhouse\, 84 Main St\, New London\, NH\, 03257\, United States
CATEGORIES:Lecture
GEO:43.418717;-71.9912111
X-APPLE-STRUCTURED-LOCATION;VALUE=URI;X-ADDRESS=New London Barn Playhouse 84 Main St New London NH 03257 United States;X-APPLE-RADIUS=500;X-TITLE=84 Main St:geo:-71.9912111,43.418717
END:VEVENT
BEGIN:VEVENT
DTSTART;TZID=America/New_York:20220701T180000
DTEND;TZID=America/New_York:20220701T180000
DTSTAMP:20260424T180656
CREATED:20220426T000757Z
LAST-MODIFIED:20220426T000757Z
UID:10004116-1656698400-1656698400@lake-sunapee-living.com
SUMMARY:First Fridays! Music on the Green
DESCRIPTION:Concert at the New London Bandstand! Plus… 2023 CFA Scholarship Announcements! \nwww.centerfortheartsnh.org/first-fridays
URL:https://lake-sunapee-living.com/event/first-fridays-music-on-the-green/
LOCATION:New London Town Geen\, 375 Main Street\, New London\, NH\, 03257\, United States
CATEGORIES:Free Outdoor Concert
GEO:43.4400907;-72.024331
X-APPLE-STRUCTURED-LOCATION;VALUE=URI;X-ADDRESS=New London Town Geen 375 Main Street New London NH 03257 United States;X-APPLE-RADIUS=500;X-TITLE=375 Main Street:geo:-72.024331,43.4400907
END:VEVENT
BEGIN:VEVENT
DTSTART;TZID=America/New_York:20220902T170000
DTEND;TZID=America/New_York:20220902T190000
DTSTAMP:20260424T180656
CREATED:20220427T215757Z
LAST-MODIFIED:20220427T215757Z
UID:10004121-1662138000-1662145200@lake-sunapee-living.com
SUMMARY:First Fridays! Meet the Artists and Gallery Stroll
DESCRIPTION:“Eat\, Sip\, Stroll\, and Enjoy the Art!” \nOpening Receptions for new exhibits at The New London Inn\, Bar Harbor Bank & Trust\, Blue Loon Bakery\, and Whipple Hall on Main Street\, Tatewell Gallery on Newport Road in New London\, and Prospect Hill in Sunapee! \nALL Exhibits Open during regular business hours! \nwww.centerfortheartsnh.org/first-fridays
URL:https://lake-sunapee-living.com/event/first-fridays-meet-the-artists-and-gallery-stroll-2/
LOCATION:New London Inn\, 353 Main St\, New London\, 03257
CATEGORIES:Art Exhibition
GEO:43.4140695;-71.9837098
X-APPLE-STRUCTURED-LOCATION;VALUE=URI;X-ADDRESS=New London Inn 353 Main St New London 03257;X-APPLE-RADIUS=500;X-TITLE=353 Main St:geo:-71.9837098,43.4140695
END:VEVENT
BEGIN:VEVENT
DTSTART;TZID=America/New_York:20221007T183000
DTEND;TZID=America/New_York:20221007T203000
DTSTAMP:20260424T180656
CREATED:20220514T164154Z
LAST-MODIFIED:20220514T164312Z
UID:10000604-1665167400-1665174600@lake-sunapee-living.com
SUMMARY:First Fridays! Northern Stage Presents a preview of their 2022-2023 season
DESCRIPTION:Northern Stage Theater presents a preview of their 2022-2023 Season at Whipple Hall- New London \nwww.centerfortheartsnh.org/first-fridays
URL:https://lake-sunapee-living.com/event/first-fridays-northern-stage-presents-2/
LOCATION:Whipple Hall\, 429 Main Street\, New London\, NH\, 03257\, United States
CATEGORIES:Live Theater
GEO:43.4130294;-71.9807053
X-APPLE-STRUCTURED-LOCATION;VALUE=URI;X-ADDRESS=Whipple Hall 429 Main Street New London NH 03257 United States;X-APPLE-RADIUS=500;X-TITLE=429 Main Street:geo:-71.9807053,43.4130294
END:VEVENT
BEGIN:VEVENT
DTSTART;TZID=America/New_York:20221202T183000
DTEND;TZID=America/New_York:20221202T203000
DTSTAMP:20260424T180656
CREATED:20220504T025201Z
LAST-MODIFIED:20220504T025201Z
UID:10000599-1670005800-1670013000@lake-sunapee-living.com
SUMMARY:First Fridays! Holiday Concert
DESCRIPTION:Holiday Celebration for all ages. \nwww.centerfortheartsnh.org/first-fridays
URL:https://lake-sunapee-living.com/event/first-fridays-holiday-concert-3/
LOCATION:Whipple Hall\, 429 Main Street\, New London\, NH\, 03257\, United States
CATEGORIES:Holiday Concert
GEO:43.4130294;-71.9807053
X-APPLE-STRUCTURED-LOCATION;VALUE=URI;X-ADDRESS=Whipple Hall 429 Main Street New London NH 03257 United States;X-APPLE-RADIUS=500;X-TITLE=429 Main Street:geo:-71.9807053,43.4130294
END:VEVENT
END:VCALENDAR