BEGIN:VCALENDAR
VERSION:2.0
PRODID:-//Lake Sunapee Living - ECPv6.15.13//NONSGML v1.0//EN
CALSCALE:GREGORIAN
METHOD:PUBLISH
X-ORIGINAL-URL:https://lake-sunapee-living.com
X-WR-CALDESC:Events for Lake Sunapee Living
REFRESH-INTERVAL;VALUE=DURATION:PT1H
X-Robots-Tag:noindex
X-PUBLISHED-TTL:PT1H
BEGIN:VTIMEZONE
TZID:America/New_York
BEGIN:DAYLIGHT
TZOFFSETFROM:-0500
TZOFFSETTO:-0400
TZNAME:EDT
DTSTART:20170312T070000
END:DAYLIGHT
BEGIN:STANDARD
TZOFFSETFROM:-0400
TZOFFSETTO:-0500
TZNAME:EST
DTSTART:20171105T060000
END:STANDARD
BEGIN:DAYLIGHT
TZOFFSETFROM:-0500
TZOFFSETTO:-0400
TZNAME:EDT
DTSTART:20180311T070000
END:DAYLIGHT
BEGIN:STANDARD
TZOFFSETFROM:-0400
TZOFFSETTO:-0500
TZNAME:EST
DTSTART:20181104T060000
END:STANDARD
BEGIN:DAYLIGHT
TZOFFSETFROM:-0500
TZOFFSETTO:-0400
TZNAME:EDT
DTSTART:20190310T070000
END:DAYLIGHT
BEGIN:STANDARD
TZOFFSETFROM:-0400
TZOFFSETTO:-0500
TZNAME:EST
DTSTART:20191103T060000
END:STANDARD
END:VTIMEZONE
BEGIN:VEVENT
DTSTART;TZID=America/New_York:20181117T190000
DTEND;TZID=America/New_York:20181117T210000
DTSTAMP:20260424T232216
CREATED:20181024T005133Z
LAST-MODIFIED:20181024T005133Z
UID:10003599-1542481200-1542488400@lake-sunapee-living.com
SUMMARY:Live Music: Patrick Ross at Whipple Hall
DESCRIPTION:Vermont born\, fifth generation fiddle player\, Patrick Ross comes to  Whipple Hall on November 17th at 7:00\, in a concert to benefit the Center for the Arts performing  a world wide range of fiddle styles as well as songs he has penned with guitar\, banjo\, mandolin and cello.  \nHe has performed at the Grand Ole Opry and shared stages with Willie Nelson\, Johnny Cash and Paul McCartney.  \nIn 2012\, he was invited to perform at both the Calvin Coolidge Theater in The Library of Congress and The Kennedy Center for Performing Arts. \n​​Tickets are available at Tatewell Gallery\nand Morgan Hill Bookstore in New London until November 16th \n“Day of Concert” tickets will be\navailable at the door\n$20 Adults/$15 Students
URL:https://lake-sunapee-living.com/event/live-music-patrick-ross-at-whipple-hall/
LOCATION:Whipple Hall\, 429 Main Street\, New London\, NH\, 03257\, United States
GEO:43.4130294;-71.9807053
X-APPLE-STRUCTURED-LOCATION;VALUE=URI;X-ADDRESS=Whipple Hall 429 Main Street New London NH 03257 United States;X-APPLE-RADIUS=500;X-TITLE=429 Main Street:geo:-71.9807053,43.4130294
END:VEVENT
END:VCALENDAR