BEGIN:VCALENDAR
VERSION:2.0
PRODID:-//Lake Sunapee Living - ECPv6.15.13//NONSGML v1.0//EN
CALSCALE:GREGORIAN
METHOD:PUBLISH
X-ORIGINAL-URL:https://lake-sunapee-living.com
X-WR-CALDESC:Events for Lake Sunapee Living
REFRESH-INTERVAL;VALUE=DURATION:PT1H
X-Robots-Tag:noindex
X-PUBLISHED-TTL:PT1H
BEGIN:VTIMEZONE
TZID:America/New_York
BEGIN:DAYLIGHT
TZOFFSETFROM:-0500
TZOFFSETTO:-0400
TZNAME:EDT
DTSTART:20210314T070000
END:DAYLIGHT
BEGIN:STANDARD
TZOFFSETFROM:-0400
TZOFFSETTO:-0500
TZNAME:EST
DTSTART:20211107T060000
END:STANDARD
BEGIN:DAYLIGHT
TZOFFSETFROM:-0500
TZOFFSETTO:-0400
TZNAME:EDT
DTSTART:20220313T070000
END:DAYLIGHT
BEGIN:STANDARD
TZOFFSETFROM:-0400
TZOFFSETTO:-0500
TZNAME:EST
DTSTART:20221106T060000
END:STANDARD
BEGIN:DAYLIGHT
TZOFFSETFROM:-0500
TZOFFSETTO:-0400
TZNAME:EDT
DTSTART:20230312T070000
END:DAYLIGHT
BEGIN:STANDARD
TZOFFSETFROM:-0400
TZOFFSETTO:-0500
TZNAME:EST
DTSTART:20231105T060000
END:STANDARD
BEGIN:DAYLIGHT
TZOFFSETFROM:-0500
TZOFFSETTO:-0400
TZNAME:EDT
DTSTART:20240310T070000
END:DAYLIGHT
BEGIN:STANDARD
TZOFFSETFROM:-0400
TZOFFSETTO:-0500
TZNAME:EST
DTSTART:20241103T060000
END:STANDARD
BEGIN:DAYLIGHT
TZOFFSETFROM:-0500
TZOFFSETTO:-0400
TZNAME:EDT
DTSTART:20250309T070000
END:DAYLIGHT
BEGIN:STANDARD
TZOFFSETFROM:-0400
TZOFFSETTO:-0500
TZNAME:EST
DTSTART:20251102T060000
END:STANDARD
BEGIN:DAYLIGHT
TZOFFSETFROM:-0500
TZOFFSETTO:-0400
TZNAME:EDT
DTSTART:20260308T070000
END:DAYLIGHT
BEGIN:STANDARD
TZOFFSETFROM:-0400
TZOFFSETTO:-0500
TZNAME:EST
DTSTART:20261101T060000
END:STANDARD
END:VTIMEZONE
BEGIN:VEVENT
DTSTART;TZID=America/New_York:20220204T090000
DTEND;TZID=America/New_York:20220204T160000
DTSTAMP:20260424T232230
CREATED:20211221T033929Z
LAST-MODIFIED:20211221T034013Z
UID:10004105-1643965200-1643990400@lake-sunapee-living.com
SUMMARY:39th Annual NH Farm\, Forest & Garden Expo
DESCRIPTION:This in-person\, family-friendly event\, open to the public\, features a variety of engaging exhibitors\, educational workshops and demonstrations of interest to industry members and home-owners alike\, live animals\, children’s programs and activities\, and a new Garden/Landscaping Skills Showcase area. \nAdmission includes everything at $10 per person; ages 12 and under will be admitted for free. Tickets are available online now. As a special thank you\, all pre-purchased tickets will be entered into a special drawing for a get-away at the Inn at East Hill Farm\, in Troy NH. More details are on our website. \nThe New Hampshire Farm\, Forest and Garden Expo is a 501(c)3 nonprofit organization and provides information and education on all aspects of agriculture and forestry by bringing the state’s farming and forestry communities together to share ideas and views on industry needs\, while providing a fun and interesting venue for the public to learn about these industries and their impact on life in New Hampshire. \nExhibitors\, workshop presenters and sponsorship inquiries are welcomed! All COVID protocols will be strictly followed and include increased buffer space between exhibitors. \nThe New Hampshire Farm\, Forest & Garden Exposition founding sponsors are the University of New Hampshire Cooperative Extension\, the NH Division of Forests & Lands and the NH Department of Agriculture\, Markets & Food. Additional event sponsors include Granite State Dairy Promotion\, LEF Farms\, Farm Credit East and Best Read Guide.
URL:https://lake-sunapee-living.com/event/39th-annual-nh-farm-forest-garden-expo/
LOCATION:DoubleTree Hotel\, 700 Elm Street\, Manchester\, NH\, 13101\, United States
CATEGORIES:Farm Festival
GEO:42.9882655;-71.4642579
X-APPLE-STRUCTURED-LOCATION;VALUE=URI;X-ADDRESS=DoubleTree Hotel 700 Elm Street Manchester NH 13101 United States;X-APPLE-RADIUS=500;X-TITLE=700 Elm Street:geo:-71.4642579,42.9882655
END:VEVENT
BEGIN:VEVENT
DTSTART;TZID=America/New_York:20220205T090000
DTEND;TZID=America/New_York:20220205T160000
DTSTAMP:20260424T232230
CREATED:20211221T033929Z
LAST-MODIFIED:20211221T034209Z
UID:10004106-1644051600-1644076800@lake-sunapee-living.com
SUMMARY:39th Annual NH Farm\, Forest & Garden Expo
DESCRIPTION:This in-person\, family-friendly event\, open to the public\, features a variety of engaging exhibitors\, educational workshops and demonstrations of interest to industry members and home-owners alike\, live animals\, children’s programs and activities\, and a new Garden/Landscaping Skills Showcase area. \nAdmission includes everything at $10 per person; ages 12 and under will be admitted for free. Tickets are available online now. As a special thank you\, all pre-purchased tickets will be entered into a special drawing for a get-away at the Inn at East Hill Farm\, in Troy NH. More details are on our website. \nThe New Hampshire Farm\, Forest and Garden Expo is a 501(c)3 nonprofit organization and provides information and education on all aspects of agriculture and forestry by bringing the state’s farming and forestry communities together to share ideas and views on industry needs\, while providing a fun and interesting venue for the public to learn about these industries and their impact on life in New Hampshire. \nExhibitors\, workshop presenters and sponsorship inquiries are welcomed! All COVID protocols will be strictly followed and include increased buffer space between exhibitors. \nThe New Hampshire Farm\, Forest & Garden Exposition founding sponsors are the University of New Hampshire Cooperative Extension\, the NH Division of Forests & Lands and the NH Department of Agriculture\, Markets & Food. Additional event sponsors include Granite State Dairy Promotion\, LEF Farms\, Farm Credit East and Best Read Guide.
URL:https://lake-sunapee-living.com/event/39th-annual-nh-farm-forest-garden-expo-2022-02-05/2022-02-05/
LOCATION:DoubleTree Hotel\, 700 Elm Street\, Manchester\, NH\, 13101\, United States
CATEGORIES:Farm Festival
GEO:42.9882655;-71.4642579
X-APPLE-STRUCTURED-LOCATION;VALUE=URI;X-ADDRESS=DoubleTree Hotel 700 Elm Street Manchester NH 13101 United States;X-APPLE-RADIUS=500;X-TITLE=700 Elm Street:geo:-71.4642579,42.9882655
END:VEVENT
BEGIN:VEVENT
DTSTART;TZID=America/New_York:20250502T090000
DTEND;TZID=America/New_York:20250502T170000
DTSTAMP:20260424T232230
CREATED:20250214T225224Z
LAST-MODIFIED:20250214T225249Z
UID:10004355-1746176400-1746205200@lake-sunapee-living.com
SUMMARY:New Hampshire Farm\, Forest and Garden Expo
DESCRIPTION:Discover the best of New Hampshire’s agricultural and forestry industries at this family-friendly event! Enjoy exciting activities\, including horse-drawn wagon rides\, the Dark Horse Lumberjack Show\, and live demonstrations for all ages. From gardeners and hobby farmers to industry professionals and curious homeowners\, there’s something for everyone. \nHighlights include: \nHands-on workshops and engaging exhibitors\nWorking sawmills and heavy equipment displays\nExpanded children’s activities and fiber arts demonstrations\nLivestock and horticultural competitions\nInsights from wildlife\, garden\, and conservation experts\nLocal beekeepers\, industry organizations\, and more! \nAdmission:\nAdults: $10\nKids 12 and under: Free \nPresented by UNH Extension\, the NH Division of Forests and Lands\, and the NH Department of Agriculture\, Markets\, and Food.\nSpecial Thanks to Our 2025 Event Sponsors: Wolf Rock Construction and Granite State Dairy Promotion.\nDon’t miss this exciting celebration of New Hampshire’s rich agricultural and natural heritage!
URL:https://lake-sunapee-living.com/event/new-hampshire-farm-forest-and-garden-expo/
LOCATION:Deerfield Fairgrounds\, 25 Stage Rd\, Deerfield\, United States
CATEGORIES:Farm Festival
GEO:42.4962479;-72.5858939
X-APPLE-STRUCTURED-LOCATION;VALUE=URI;X-ADDRESS=Deerfield Fairgrounds 25 Stage Rd Deerfield United States;X-APPLE-RADIUS=500;X-TITLE=25 Stage Rd:geo:-72.5858939,42.4962479
END:VEVENT
END:VCALENDAR