BEGIN:VCALENDAR
VERSION:2.0
PRODID:-//Lake Sunapee Living - ECPv6.15.13//NONSGML v1.0//EN
CALSCALE:GREGORIAN
METHOD:PUBLISH
X-ORIGINAL-URL:https://lake-sunapee-living.com
X-WR-CALDESC:Events for Lake Sunapee Living
REFRESH-INTERVAL;VALUE=DURATION:PT1H
X-Robots-Tag:noindex
X-PUBLISHED-TTL:PT1H
BEGIN:VTIMEZONE
TZID:America/New_York
BEGIN:DAYLIGHT
TZOFFSETFROM:-0500
TZOFFSETTO:-0400
TZNAME:EDT
DTSTART:20170312T070000
END:DAYLIGHT
BEGIN:STANDARD
TZOFFSETFROM:-0400
TZOFFSETTO:-0500
TZNAME:EST
DTSTART:20171105T060000
END:STANDARD
BEGIN:DAYLIGHT
TZOFFSETFROM:-0500
TZOFFSETTO:-0400
TZNAME:EDT
DTSTART:20180311T070000
END:DAYLIGHT
BEGIN:STANDARD
TZOFFSETFROM:-0400
TZOFFSETTO:-0500
TZNAME:EST
DTSTART:20181104T060000
END:STANDARD
BEGIN:DAYLIGHT
TZOFFSETFROM:-0500
TZOFFSETTO:-0400
TZNAME:EDT
DTSTART:20190310T070000
END:DAYLIGHT
BEGIN:STANDARD
TZOFFSETFROM:-0400
TZOFFSETTO:-0500
TZNAME:EST
DTSTART:20191103T060000
END:STANDARD
END:VTIMEZONE
BEGIN:VEVENT
DTSTART;TZID=America/New_York:20180826T100000
DTEND;TZID=America/New_York:20180826T160000
DTSTAMP:20260424T190446
CREATED:20180608T001831Z
LAST-MODIFIED:20180608T001905Z
UID:10000455-1535277600-1535299200@lake-sunapee-living.com
SUMMARY:Farm Days at Muster Field Farm
DESCRIPTION:The museum’s largest event of the year\, a two-day celebration of all things agricultural\, historical\, and farm-related. This event features special exhibits and demonstrations positioned over the farm’s large fields and in its historic buildings.\n\n\nSee haying and threshing\, hand hewing of timbers\, stonewall building and stone splitting\, blacksmithing\, and other farm-related skills. Craft demonstrations include spinning\, weaving on antique looms\, lace making\, rug making and much more.\nFarm Days hours are 10 a.m. to 4 p.m.\, rain or shine. \n\nAdmission is free for members\, and for all children 6 and under; $5 for non-members.\nPLEASE NOTE: Due to large attendance\, we are unable to conduct Homestead tours during this event.
URL:https://lake-sunapee-living.com/event/farm-days-at-muster-field-farm/2018-08-26/
LOCATION:Muster Field Farm\, Harvey Rd\, North Sutton\, NH\, 03260\, United States
CATEGORIES:Farm Festival
GEO:43.3732649;-71.955366
X-APPLE-STRUCTURED-LOCATION;VALUE=URI;X-ADDRESS=Muster Field Farm Harvey Rd North Sutton NH 03260 United States;X-APPLE-RADIUS=500;X-TITLE=Harvey Rd:geo:-71.955366,43.3732649
END:VEVENT
END:VCALENDAR