BEGIN:VCALENDAR
VERSION:2.0
PRODID:-//Lake Sunapee Living - ECPv6.15.13//NONSGML v1.0//EN
CALSCALE:GREGORIAN
METHOD:PUBLISH
X-ORIGINAL-URL:https://lake-sunapee-living.com
X-WR-CALDESC:Events for Lake Sunapee Living
REFRESH-INTERVAL;VALUE=DURATION:PT1H
X-Robots-Tag:noindex
X-PUBLISHED-TTL:PT1H
BEGIN:VTIMEZONE
TZID:America/New_York
BEGIN:DAYLIGHT
TZOFFSETFROM:-0500
TZOFFSETTO:-0400
TZNAME:EDT
DTSTART:20170312T070000
END:DAYLIGHT
BEGIN:STANDARD
TZOFFSETFROM:-0400
TZOFFSETTO:-0500
TZNAME:EST
DTSTART:20171105T060000
END:STANDARD
BEGIN:DAYLIGHT
TZOFFSETFROM:-0500
TZOFFSETTO:-0400
TZNAME:EDT
DTSTART:20180311T070000
END:DAYLIGHT
BEGIN:STANDARD
TZOFFSETFROM:-0400
TZOFFSETTO:-0500
TZNAME:EST
DTSTART:20181104T060000
END:STANDARD
BEGIN:DAYLIGHT
TZOFFSETFROM:-0500
TZOFFSETTO:-0400
TZNAME:EDT
DTSTART:20190310T070000
END:DAYLIGHT
BEGIN:STANDARD
TZOFFSETFROM:-0400
TZOFFSETTO:-0500
TZNAME:EST
DTSTART:20191103T060000
END:STANDARD
BEGIN:DAYLIGHT
TZOFFSETFROM:-0500
TZOFFSETTO:-0400
TZNAME:EDT
DTSTART:20200308T070000
END:DAYLIGHT
BEGIN:STANDARD
TZOFFSETFROM:-0400
TZOFFSETTO:-0500
TZNAME:EST
DTSTART:20201101T060000
END:STANDARD
END:VTIMEZONE
BEGIN:VEVENT
DTSTART;TZID=America/New_York:20180721T170000
DTEND;TZID=America/New_York:20180721T190000
DTSTAMP:20260424T190256
CREATED:20180606T154209Z
LAST-MODIFIED:20180606T154209Z
UID:10000406-1532192400-1532199600@lake-sunapee-living.com
SUMMARY:Live Music: Entangled Strings at Flanders Stage
DESCRIPTION:Entangled Strings emphasizes tight harmonies and melodic wanderings on a variety of stringed instruments while playing folk\, country and Americana songs.
URL:https://lake-sunapee-living.com/event/live-music-entangled-strings-at-flanders-stage/
LOCATION:Flanders Stage\, 125 Main St\, Sunapee\, NH\, 03782\, United States
CATEGORIES:Free Outdoor Concert
GEO:43.3852084;-72.0809835
X-APPLE-STRUCTURED-LOCATION;VALUE=URI;X-ADDRESS=Flanders Stage 125 Main St Sunapee NH 03782 United States;X-APPLE-RADIUS=500;X-TITLE=125 Main St:geo:-72.0809835,43.3852084
END:VEVENT
BEGIN:VEVENT
DTSTART;TZID=America/New_York:20190713T170000
DTEND;TZID=America/New_York:20190713T190000
DTSTAMP:20260424T190256
CREATED:20190705T234331Z
LAST-MODIFIED:20190705T234331Z
UID:10003835-1563037200-1563044400@lake-sunapee-living.com
SUMMARY:Free Outdoor Concert: Entangled Strings at Flanders Stage
DESCRIPTION:The Sunapee Harbor Riverway and Our Local Business Sponsors Proudly\nPresent the Free 2019 Summer Music Series on Flanders Stage \n5-7pm \nJuly 13 – Entangled Strings
URL:https://lake-sunapee-living.com/event/free-outdoor-concert-entangled-strings-at-flanders-stage/
LOCATION:Flanders Stage\, 125 Main St\, Sunapee\, NH\, 03782\, United States
CATEGORIES:Free Outdoor Concert
GEO:43.3852084;-72.0809835
X-APPLE-STRUCTURED-LOCATION;VALUE=URI;X-ADDRESS=Flanders Stage 125 Main St Sunapee NH 03782 United States;X-APPLE-RADIUS=500;X-TITLE=125 Main St:geo:-72.0809835,43.3852084
END:VEVENT
END:VCALENDAR