BEGIN:VCALENDAR
VERSION:2.0
PRODID:-//Lake Sunapee Living - ECPv6.15.13//NONSGML v1.0//EN
CALSCALE:GREGORIAN
METHOD:PUBLISH
X-ORIGINAL-URL:https://lake-sunapee-living.com
X-WR-CALDESC:Events for Lake Sunapee Living
REFRESH-INTERVAL;VALUE=DURATION:PT1H
X-Robots-Tag:noindex
X-PUBLISHED-TTL:PT1H
BEGIN:VTIMEZONE
TZID:America/New_York
BEGIN:DAYLIGHT
TZOFFSETFROM:-0500
TZOFFSETTO:-0400
TZNAME:EDT
DTSTART:20170312T070000
END:DAYLIGHT
BEGIN:STANDARD
TZOFFSETFROM:-0400
TZOFFSETTO:-0500
TZNAME:EST
DTSTART:20171105T060000
END:STANDARD
BEGIN:DAYLIGHT
TZOFFSETFROM:-0500
TZOFFSETTO:-0400
TZNAME:EDT
DTSTART:20180311T070000
END:DAYLIGHT
BEGIN:STANDARD
TZOFFSETFROM:-0400
TZOFFSETTO:-0500
TZNAME:EST
DTSTART:20181104T060000
END:STANDARD
BEGIN:DAYLIGHT
TZOFFSETFROM:-0500
TZOFFSETTO:-0400
TZNAME:EDT
DTSTART:20190310T070000
END:DAYLIGHT
BEGIN:STANDARD
TZOFFSETFROM:-0400
TZOFFSETTO:-0500
TZNAME:EST
DTSTART:20191103T060000
END:STANDARD
END:VTIMEZONE
BEGIN:VEVENT
DTSTART;TZID=America/New_York:20180702T183000
DTEND;TZID=America/New_York:20180702T200000
DTSTAMP:20260424T164019
CREATED:20180702T022204Z
LAST-MODIFIED:20180702T022325Z
UID:10000191-1530556200-1530561600@lake-sunapee-living.com
SUMMARY:Live Music at the Elkins Bandstand: Tammy Jackson
DESCRIPTION:Elkins Bandstand Summer Concerts \nMonday\, July 2 – Tammy Jackson
URL:https://lake-sunapee-living.com/event/live-music-at-the-elkins-bandstand-tammy-jackson/
LOCATION:Elkins Bandstand\, 1 Wilmot Center Rd\, Elkins\, NH\, 03233\, United States
CATEGORIES:Free Outdoor Concert
GEO:43.4211099;-71.936868
X-APPLE-STRUCTURED-LOCATION;VALUE=URI;X-ADDRESS=Elkins Bandstand 1 Wilmot Center Rd Elkins NH 03233 United States;X-APPLE-RADIUS=500;X-TITLE=1 Wilmot Center Rd:geo:-71.936868,43.4211099
END:VEVENT
BEGIN:VEVENT
DTSTART;TZID=America/New_York:20180716T180000
DTEND;TZID=America/New_York:20180716T200000
DTSTAMP:20260424T164019
CREATED:20180702T022451Z
LAST-MODIFIED:20180702T022451Z
UID:10000189-1531764000-1531771200@lake-sunapee-living.com
SUMMARY:Live Music at the Elkins Bandstand: Mink Hills
DESCRIPTION:Elkins Bandstand Summer Concerts \nJuly 16 – Mink Hills
URL:https://lake-sunapee-living.com/event/live-music-at-the-elkins-bandstand-mink-hills/
LOCATION:Elkins Bandstand\, 1 Wilmot Center Rd\, Elkins\, NH\, 03233\, United States
CATEGORIES:Free Outdoor Concert
GEO:43.4211099;-71.936868
X-APPLE-STRUCTURED-LOCATION;VALUE=URI;X-ADDRESS=Elkins Bandstand 1 Wilmot Center Rd Elkins NH 03233 United States;X-APPLE-RADIUS=500;X-TITLE=1 Wilmot Center Rd:geo:-71.936868,43.4211099
END:VEVENT
BEGIN:VEVENT
DTSTART;TZID=America/New_York:20180805T183000
DTEND;TZID=America/New_York:20180805T200000
DTSTAMP:20260424T164019
CREATED:20180704T235431Z
LAST-MODIFIED:20180704T235512Z
UID:10000197-1533493800-1533499200@lake-sunapee-living.com
SUMMARY:Live Music at the Elkins Bandstand: The Kearsarge Community Band
DESCRIPTION:The Kearsarge Community Band at the bandstand at the south end of Pleasant Lake. \nIn the event of rain\, concert will be in the Masons Lodge across the street from the bandstand.
URL:https://lake-sunapee-living.com/event/live-music-at-the-elkins-bandstand-the-kearsarge-community-band/
LOCATION:Elkins Bandstand\, 1 Wilmot Center Rd\, Elkins\, NH\, 03233\, United States
CATEGORIES:Free Outdoor Concert
GEO:43.4211099;-71.936868
X-APPLE-STRUCTURED-LOCATION;VALUE=URI;X-ADDRESS=Elkins Bandstand 1 Wilmot Center Rd Elkins NH 03233 United States;X-APPLE-RADIUS=500;X-TITLE=1 Wilmot Center Rd:geo:-71.936868,43.4211099
END:VEVENT
BEGIN:VEVENT
DTSTART;TZID=America/New_York:20180813T183000
DTEND;TZID=America/New_York:20180813T200000
DTSTAMP:20260424T164019
CREATED:20180704T235617Z
LAST-MODIFIED:20180705T000013Z
UID:10000198-1534185000-1534190400@lake-sunapee-living.com
SUMMARY:Live Music at the Elkins Bandstand: Folk Fusion
DESCRIPTION:At the bandstand at the south end of Pleasant Lake. \nIn the event of rain\, concert will be in the Masons Lodge across the street from the bandstand.
URL:https://lake-sunapee-living.com/event/live-music-at-the-elkins-bandstand-folk-fusion/
LOCATION:Elkins Bandstand\, 1 Wilmot Center Rd\, Elkins\, NH\, 03233\, United States
CATEGORIES:Free Outdoor Concert
GEO:43.4211099;-71.936868
X-APPLE-STRUCTURED-LOCATION;VALUE=URI;X-ADDRESS=Elkins Bandstand 1 Wilmot Center Rd Elkins NH 03233 United States;X-APPLE-RADIUS=500;X-TITLE=1 Wilmot Center Rd:geo:-71.936868,43.4211099
END:VEVENT
BEGIN:VEVENT
DTSTART;TZID=America/New_York:20180827T183000
DTEND;TZID=America/New_York:20180827T200000
DTSTAMP:20260424T164019
CREATED:20180704T235738Z
LAST-MODIFIED:20180704T235738Z
UID:10000196-1535394600-1535400000@lake-sunapee-living.com
SUMMARY:Live Music at the Elkins Bandstand: Ragged Mountain
DESCRIPTION:At the bandstand at the south end of Pleasant Lake. \nIn the event of rain\, concert will be in the Masons Lodge across the street from the bandstand.
URL:https://lake-sunapee-living.com/event/live-music-at-the-elkins-bandstand-ragged-mountain/
LOCATION:Elkins Bandstand\, 1 Wilmot Center Rd\, Elkins\, NH\, 03233\, United States
CATEGORIES:Free Outdoor Concert
GEO:43.4211099;-71.936868
X-APPLE-STRUCTURED-LOCATION;VALUE=URI;X-ADDRESS=Elkins Bandstand 1 Wilmot Center Rd Elkins NH 03233 United States;X-APPLE-RADIUS=500;X-TITLE=1 Wilmot Center Rd:geo:-71.936868,43.4211099
END:VEVENT
END:VCALENDAR