BEGIN:VCALENDAR
VERSION:2.0
PRODID:-//Lake Sunapee Living - ECPv6.15.13//NONSGML v1.0//EN
CALSCALE:GREGORIAN
METHOD:PUBLISH
X-ORIGINAL-URL:https://lake-sunapee-living.com
X-WR-CALDESC:Events for Lake Sunapee Living
REFRESH-INTERVAL;VALUE=DURATION:PT1H
X-Robots-Tag:noindex
X-PUBLISHED-TTL:PT1H
BEGIN:VTIMEZONE
TZID:America/New_York
BEGIN:DAYLIGHT
TZOFFSETFROM:-0500
TZOFFSETTO:-0400
TZNAME:EDT
DTSTART:20240310T070000
END:DAYLIGHT
BEGIN:STANDARD
TZOFFSETFROM:-0400
TZOFFSETTO:-0500
TZNAME:EST
DTSTART:20241103T060000
END:STANDARD
BEGIN:DAYLIGHT
TZOFFSETFROM:-0500
TZOFFSETTO:-0400
TZNAME:EDT
DTSTART:20250309T070000
END:DAYLIGHT
BEGIN:STANDARD
TZOFFSETFROM:-0400
TZOFFSETTO:-0500
TZNAME:EST
DTSTART:20251102T060000
END:STANDARD
BEGIN:DAYLIGHT
TZOFFSETFROM:-0500
TZOFFSETTO:-0400
TZNAME:EDT
DTSTART:20260308T070000
END:DAYLIGHT
BEGIN:STANDARD
TZOFFSETFROM:-0400
TZOFFSETTO:-0500
TZNAME:EST
DTSTART:20261101T060000
END:STANDARD
END:VTIMEZONE
BEGIN:VEVENT
DTSTART;TZID=America/New_York:20250419T090000
DTEND;TZID=America/New_York:20250419T110000
DTSTAMP:20260424T202239
CREATED:20250329T211026Z
LAST-MODIFIED:20250329T211128Z
UID:10004360-1745053200-1745060400@lake-sunapee-living.com
SUMMARY:Easter Eggstravaganza & Family Arts Projects at Whipple Hall
DESCRIPTION:Spring Arts Program in Partnership with New London Town Recreation Department Easter Eggstravaganza & Family Arts Projects at Whipple Hall \nNew London\, NH – The Spring Arts Program\, in partnership with the New London Town Recreation Department (NLRec)\, is offering a fun-filled morning of family-friendly arts projects at Whipple Hall on Saturday\, April 19\, 2025\, from 9:00 AM to 11:00 AM. This event is open to all ages and invites families to engage in creative activities while celebrating the spring season. \nIn conjunction with the town’s annual Easter Eggstravaganza\, the Spring Arts Program will feature a variety of free arts and crafts activities for everyone to enjoy. Attendees can participate in hands-on projects\, such as coloring sheets\, beadwork\, tissue apple blossom creations\, and more. All materials will be provided\, and a fun\, interactive atmosphere is guaranteed. \nEvent Highlights:\n● 9:00 AM – 10:00 AM: Arts and crafts with the CFA\n● 9:00 AM – 10:00 AM: Wilmot Bake Sale\, enjoy delicious treats to support the community.\n● 10:00 AM – Easter Egg Hunt: The exciting Easter Egg Hunt will take place in conjunction\nwith the arts activities. \nFor more information\, please contact Putnam Kidder at the Town Rec Department. \nThe Center for the Arts (CFA) is a nonprofit organization dedicated to enriching lives by supporting\, promoting\, and connecting literary\, performing\, and visual artists of all ages to our community. By joining\, members become part of shaping a vibrant future where creativity thrives.
URL:https://lake-sunapee-living.com/event/easter-eggstravaganza-family-arts-projects-at-whipple-hall/
LOCATION:Whipple Hall\, 429 Main Street\, New London\, NH\, 03257\, United States
CATEGORIES:Art Class,Art Exhibition
GEO:43.4130294;-71.9807053
X-APPLE-STRUCTURED-LOCATION;VALUE=URI;X-ADDRESS=Whipple Hall 429 Main Street New London NH 03257 United States;X-APPLE-RADIUS=500;X-TITLE=429 Main Street:geo:-71.9807053,43.4130294
END:VEVENT
END:VCALENDAR