BEGIN:VCALENDAR
VERSION:2.0
PRODID:-//Lake Sunapee Living - ECPv6.15.13//NONSGML v1.0//EN
CALSCALE:GREGORIAN
METHOD:PUBLISH
X-ORIGINAL-URL:https://lake-sunapee-living.com
X-WR-CALDESC:Events for Lake Sunapee Living
REFRESH-INTERVAL;VALUE=DURATION:PT1H
X-Robots-Tag:noindex
X-PUBLISHED-TTL:PT1H
BEGIN:VTIMEZONE
TZID:America/New_York
BEGIN:DAYLIGHT
TZOFFSETFROM:-0500
TZOFFSETTO:-0400
TZNAME:EDT
DTSTART:20170312T070000
END:DAYLIGHT
BEGIN:STANDARD
TZOFFSETFROM:-0400
TZOFFSETTO:-0500
TZNAME:EST
DTSTART:20171105T060000
END:STANDARD
BEGIN:DAYLIGHT
TZOFFSETFROM:-0500
TZOFFSETTO:-0400
TZNAME:EDT
DTSTART:20180311T070000
END:DAYLIGHT
BEGIN:STANDARD
TZOFFSETFROM:-0400
TZOFFSETTO:-0500
TZNAME:EST
DTSTART:20181104T060000
END:STANDARD
BEGIN:DAYLIGHT
TZOFFSETFROM:-0500
TZOFFSETTO:-0400
TZNAME:EDT
DTSTART:20190310T070000
END:DAYLIGHT
BEGIN:STANDARD
TZOFFSETFROM:-0400
TZOFFSETTO:-0500
TZNAME:EST
DTSTART:20191103T060000
END:STANDARD
END:VTIMEZONE
BEGIN:VEVENT
DTSTART;TZID=America/New_York:20180324T103000
DTEND;TZID=America/New_York:20180324T120000
DTSTAMP:20260424T200100
CREATED:20180223T015108Z
LAST-MODIFIED:20180223T015315Z
UID:10000050-1521887400-1521892800@lake-sunapee-living.com
SUMMARY:Easter Egg Hunt at the Olive Pettis Library in Goshen
DESCRIPTION:Come enjoy crafts\, games\, and stories. Fun for all ages. Bring something to collect your eggs in and wear appropriate attire for the weather.
URL:https://lake-sunapee-living.com/event/easter-egg-hunt-olive-pettis-library-goshen/
LOCATION:Goshen Town Hall\, 54 Mill Vilage Rd\, Goshen\, NH\, 03752\, United States
CATEGORIES:Community Event
GEO:43.3022926;-72.1494048
X-APPLE-STRUCTURED-LOCATION;VALUE=URI;X-ADDRESS=Goshen Town Hall 54 Mill Vilage Rd Goshen NH 03752 United States;X-APPLE-RADIUS=500;X-TITLE=54 Mill Vilage Rd:geo:-72.1494048,43.3022926
END:VEVENT
END:VCALENDAR