BEGIN:VCALENDAR
VERSION:2.0
PRODID:-//Lake Sunapee Living - ECPv6.15.13//NONSGML v1.0//EN
CALSCALE:GREGORIAN
METHOD:PUBLISH
X-ORIGINAL-URL:https://lake-sunapee-living.com
X-WR-CALDESC:Events for Lake Sunapee Living
REFRESH-INTERVAL;VALUE=DURATION:PT1H
X-Robots-Tag:noindex
X-PUBLISHED-TTL:PT1H
BEGIN:VTIMEZONE
TZID:America/New_York
BEGIN:DAYLIGHT
TZOFFSETFROM:-0500
TZOFFSETTO:-0400
TZNAME:EDT
DTSTART:20170312T070000
END:DAYLIGHT
BEGIN:STANDARD
TZOFFSETFROM:-0400
TZOFFSETTO:-0500
TZNAME:EST
DTSTART:20171105T060000
END:STANDARD
BEGIN:DAYLIGHT
TZOFFSETFROM:-0500
TZOFFSETTO:-0400
TZNAME:EDT
DTSTART:20180311T070000
END:DAYLIGHT
BEGIN:STANDARD
TZOFFSETFROM:-0400
TZOFFSETTO:-0500
TZNAME:EST
DTSTART:20181104T060000
END:STANDARD
BEGIN:DAYLIGHT
TZOFFSETFROM:-0500
TZOFFSETTO:-0400
TZNAME:EDT
DTSTART:20190310T070000
END:DAYLIGHT
BEGIN:STANDARD
TZOFFSETFROM:-0400
TZOFFSETTO:-0500
TZNAME:EST
DTSTART:20191103T060000
END:STANDARD
BEGIN:DAYLIGHT
TZOFFSETFROM:-0500
TZOFFSETTO:-0400
TZNAME:EDT
DTSTART:20200308T070000
END:DAYLIGHT
BEGIN:STANDARD
TZOFFSETFROM:-0400
TZOFFSETTO:-0500
TZNAME:EST
DTSTART:20201101T060000
END:STANDARD
BEGIN:DAYLIGHT
TZOFFSETFROM:-0500
TZOFFSETTO:-0400
TZNAME:EDT
DTSTART:20210314T070000
END:DAYLIGHT
BEGIN:STANDARD
TZOFFSETFROM:-0400
TZOFFSETTO:-0500
TZNAME:EST
DTSTART:20211107T060000
END:STANDARD
BEGIN:DAYLIGHT
TZOFFSETFROM:-0500
TZOFFSETTO:-0400
TZNAME:EDT
DTSTART:20220313T070000
END:DAYLIGHT
BEGIN:STANDARD
TZOFFSETFROM:-0400
TZOFFSETTO:-0500
TZNAME:EST
DTSTART:20221106T060000
END:STANDARD
BEGIN:DAYLIGHT
TZOFFSETFROM:-0500
TZOFFSETTO:-0400
TZNAME:EDT
DTSTART:20230312T070000
END:DAYLIGHT
BEGIN:STANDARD
TZOFFSETFROM:-0400
TZOFFSETTO:-0500
TZNAME:EST
DTSTART:20231105T060000
END:STANDARD
BEGIN:DAYLIGHT
TZOFFSETFROM:-0500
TZOFFSETTO:-0400
TZNAME:EDT
DTSTART:20240310T070000
END:DAYLIGHT
BEGIN:STANDARD
TZOFFSETFROM:-0400
TZOFFSETTO:-0500
TZNAME:EST
DTSTART:20241103T060000
END:STANDARD
BEGIN:DAYLIGHT
TZOFFSETFROM:-0500
TZOFFSETTO:-0400
TZNAME:EDT
DTSTART:20250309T070000
END:DAYLIGHT
BEGIN:STANDARD
TZOFFSETFROM:-0400
TZOFFSETTO:-0500
TZNAME:EST
DTSTART:20251102T060000
END:STANDARD
END:VTIMEZONE
BEGIN:VEVENT
DTSTART;TZID=America/New_York:20180701T180000
DTEND;TZID=America/New_York:20180701T200000
DTSTAMP:20260424T190727
CREATED:20180606T202803Z
LAST-MODIFIED:20180606T202803Z
UID:10000161-1530468000-1530475200@lake-sunapee-living.com
SUMMARY:Newport Concerts on the Common: East Bay Jazz
DESCRIPTION:The Newport Area Chamber of Commerce is proud to present our annual FREE Concerts On The Common. Bring your lawn chair\, blanket\, and your entire family for this wonderful Summer tradition every Sunday. \nIn case of rain\, concerts will move inside to the Methodist Church on Park Street (adjacent to the Newport Town Common.)
URL:https://lake-sunapee-living.com/event/newport-concerts-on-the-common-east-bay-jazz/
LOCATION:Newport Bandstand\, 20 N Main St\, Newport\, NH\, 03773\, United States
CATEGORIES:Free Outdoor Concert
GEO:43.3656315;-72.1742114
X-APPLE-STRUCTURED-LOCATION;VALUE=URI;X-ADDRESS=Newport Bandstand 20 N Main St Newport NH 03773 United States;X-APPLE-RADIUS=500;X-TITLE=20 N Main St:geo:-72.1742114,43.3656315
END:VEVENT
BEGIN:VEVENT
DTSTART;TZID=America/New_York:20180825T170000
DTEND;TZID=America/New_York:20180825T190000
DTSTAMP:20260424T190727
CREATED:20180606T155853Z
LAST-MODIFIED:20180606T155933Z
UID:10000415-1535216400-1535223600@lake-sunapee-living.com
SUMMARY:Live Music: East Bay Jazz at Flanders Stage
DESCRIPTION:“It Don’t Mean A Thing (If It Aint Got That Swing)” / Duke Ellington (1932)\nGerry Grimo and The East Bay Jazz Ensemble take you on a sentimental journey through the sound of the classic big bands.
URL:https://lake-sunapee-living.com/event/live-music-east-bay-jazz-at-flanders-stage/
LOCATION:Flanders Stage\, 125 Main St\, Sunapee\, NH\, 03782\, United States
CATEGORIES:Free Outdoor Concert
GEO:43.3852084;-72.0809835
X-APPLE-STRUCTURED-LOCATION;VALUE=URI;X-ADDRESS=Flanders Stage 125 Main St Sunapee NH 03782 United States;X-APPLE-RADIUS=500;X-TITLE=125 Main St:geo:-72.0809835,43.3852084
END:VEVENT
BEGIN:VEVENT
DTSTART;TZID=America/New_York:20190630T180000
DTEND;TZID=America/New_York:20190630T193000
DTSTAMP:20260424T190727
CREATED:20190613T231803Z
LAST-MODIFIED:20190613T231803Z
UID:10000319-1561917600-1561923000@lake-sunapee-living.com
SUMMARY:Free Outdoor Concert: East Bay Jazz on the Newport Town Common
DESCRIPTION:The Newport Area Chamber of Commerce is proud to present our annual FREE Concerts On The Common. Bring your lawn chair\, blanket\, and your entire family for this wonderful summer tradition every Sunday.
URL:https://lake-sunapee-living.com/event/free-outdoor-concert-east-bay-jazz-on-the-newport-town-common/
LOCATION:Newport Town Common\, 15 Park St\, Newport\, NH\, 03773\, United States
CATEGORIES:Free Outdoor Concert
GEO:43.3659042;-72.1734984
X-APPLE-STRUCTURED-LOCATION;VALUE=URI;X-ADDRESS=Newport Town Common 15 Park St Newport NH 03773 United States;X-APPLE-RADIUS=500;X-TITLE=15 Park St:geo:-72.1734984,43.3659042
END:VEVENT
BEGIN:VEVENT
DTSTART;TZID=America/New_York:20240807T183000
DTEND;TZID=America/New_York:20240807T200000
DTSTAMP:20260424T190727
CREATED:20240725T150438Z
LAST-MODIFIED:20240728T201434Z
UID:10004310-1723055400-1723060800@lake-sunapee-living.com
SUMMARY:Live Music: East Bay Jazz at Ben Mere Bandstand
DESCRIPTION:A 12 to 14-piece big band featuring Gerry Grimo with lots of brass\nperforming all the “big band” favorites these town band- stands\nsummer music series are famous for.
URL:https://lake-sunapee-living.com/event/live-music-east-bay-jazz-at-ben-mere-bandstand/
LOCATION:Ben Mere Bandstand\, 2 Lake Ave\, Sunapee\, NH\, 03782\, United States
CATEGORIES:Live Music
GEO:43.3849832;-72.0801034
X-APPLE-STRUCTURED-LOCATION;VALUE=URI;X-ADDRESS=Ben Mere Bandstand 2 Lake Ave Sunapee NH 03782 United States;X-APPLE-RADIUS=500;X-TITLE=2 Lake Ave:geo:-72.0801034,43.3849832
END:VEVENT
END:VCALENDAR