BEGIN:VCALENDAR
VERSION:2.0
PRODID:-//Lake Sunapee Living - ECPv6.15.13//NONSGML v1.0//EN
CALSCALE:GREGORIAN
METHOD:PUBLISH
X-ORIGINAL-URL:https://lake-sunapee-living.com
X-WR-CALDESC:Events for Lake Sunapee Living
REFRESH-INTERVAL;VALUE=DURATION:PT1H
X-Robots-Tag:noindex
X-PUBLISHED-TTL:PT1H
BEGIN:VTIMEZONE
TZID:America/New_York
BEGIN:DAYLIGHT
TZOFFSETFROM:-0500
TZOFFSETTO:-0400
TZNAME:EDT
DTSTART:20190310T070000
END:DAYLIGHT
BEGIN:STANDARD
TZOFFSETFROM:-0400
TZOFFSETTO:-0500
TZNAME:EST
DTSTART:20191103T060000
END:STANDARD
BEGIN:DAYLIGHT
TZOFFSETFROM:-0500
TZOFFSETTO:-0400
TZNAME:EDT
DTSTART:20200308T070000
END:DAYLIGHT
BEGIN:STANDARD
TZOFFSETFROM:-0400
TZOFFSETTO:-0500
TZNAME:EST
DTSTART:20201101T060000
END:STANDARD
BEGIN:DAYLIGHT
TZOFFSETFROM:-0500
TZOFFSETTO:-0400
TZNAME:EDT
DTSTART:20210314T070000
END:DAYLIGHT
BEGIN:STANDARD
TZOFFSETFROM:-0400
TZOFFSETTO:-0500
TZNAME:EST
DTSTART:20211107T060000
END:STANDARD
END:VTIMEZONE
BEGIN:VEVENT
DTSTART;TZID=America/New_York:20200901T190000
DTEND;TZID=America/New_York:20200901T200000
DTSTAMP:20260424T230330
CREATED:20200826T233233Z
LAST-MODIFIED:20200826T233429Z
UID:10003980-1598986800-1598990400@lake-sunapee-living.com
SUMMARY:Open-air meditative Drum Circle under the Full Corn Moon near Mt. Sunapee
DESCRIPTION:Bring your drum(s) and/or rattles and wear a mask at a social distance for this group event that is sure to inspire you. No drum? Make a rattle out of something at home\, a jar of beans! \nArrive by 7pm sharp. Bring a flashlight\, sunset is at 7:20pm\, watch the glorious moonrise together at 7:33pm as you enjoy a guided dreamy journey to the sound of repetitive drumming in this delightful sound bath on the mountain. \nLet the rejuvenating energy of the full moon and the power of the sacred mountain restore your sense of peace and purpose as ancient peoples did years ago. \nReserve early as space is limited to allow for safe social distancing. Note: There are no facilities open at the state park. Bring your own water bottle and a beach chair or mat to sit on in the parking lot. \nEnjoy this outdoor Nature treat and invigorate your soul. \nWEATHER PERMITTING\, RAIN OR THUNDER CANCELS UNTIL THE NEXT DAY Sept. 2nd! \nConfirm by e-mail.  \nDonation only $15 \nLocation: Mt. Sunapee Ski resort parking lot 1398 Route 103\, Newbury NH 03255\, near the Lodge at the base of the ski mountain \nRegister: educise.com/events/drum-circle-under-the-full-moon/ \nContact info: Dr. Theresa 877-281-3382 or info@educise.com
URL:https://lake-sunapee-living.com/event/open-air-meditative-drum-circle-under-the-full-corn-moon-near-mt-sunapee/
LOCATION:Mount Sunapee\, 1398 ROUTE 103\, Newbury\, NH\, 03255\, United States
CATEGORIES:Live Music
GEO:43.3260437;-72.0644669
X-APPLE-STRUCTURED-LOCATION;VALUE=URI;X-ADDRESS=Mount Sunapee 1398 ROUTE 103 Newbury NH 03255 United States;X-APPLE-RADIUS=500;X-TITLE=1398 ROUTE 103:geo:-72.0644669,43.3260437
END:VEVENT
END:VCALENDAR