BEGIN:VCALENDAR
VERSION:2.0
PRODID:-//Lake Sunapee Living - ECPv6.15.13//NONSGML v1.0//EN
CALSCALE:GREGORIAN
METHOD:PUBLISH
X-ORIGINAL-URL:https://lake-sunapee-living.com
X-WR-CALDESC:Events for Lake Sunapee Living
REFRESH-INTERVAL;VALUE=DURATION:PT1H
X-Robots-Tag:noindex
X-PUBLISHED-TTL:PT1H
BEGIN:VTIMEZONE
TZID:America/New_York
BEGIN:DAYLIGHT
TZOFFSETFROM:-0500
TZOFFSETTO:-0400
TZNAME:EDT
DTSTART:20170312T070000
END:DAYLIGHT
BEGIN:STANDARD
TZOFFSETFROM:-0400
TZOFFSETTO:-0500
TZNAME:EST
DTSTART:20171105T060000
END:STANDARD
BEGIN:DAYLIGHT
TZOFFSETFROM:-0500
TZOFFSETTO:-0400
TZNAME:EDT
DTSTART:20180311T070000
END:DAYLIGHT
BEGIN:STANDARD
TZOFFSETFROM:-0400
TZOFFSETTO:-0500
TZNAME:EST
DTSTART:20181104T060000
END:STANDARD
BEGIN:DAYLIGHT
TZOFFSETFROM:-0500
TZOFFSETTO:-0400
TZNAME:EDT
DTSTART:20190310T070000
END:DAYLIGHT
BEGIN:STANDARD
TZOFFSETFROM:-0400
TZOFFSETTO:-0500
TZNAME:EST
DTSTART:20191103T060000
END:STANDARD
END:VTIMEZONE
BEGIN:VEVENT
DTSTART;TZID=America/New_York:20180615T200000
DTEND;TZID=America/New_York:20180615T230000
DTSTAMP:20260425T002814
CREATED:20180601T022029Z
LAST-MODIFIED:20180601T022115Z
UID:10000083-1529092800-1529103600@lake-sunapee-living.com
SUMMARY:Live Music at the Salt Hill Pub Newport: Doug Lantz
DESCRIPTION:An Evening with Doug Lantz \nHome-grown talent Doug Lantz is an accomplished ukulele player and songwriter\, who peppers his show with stories and jokes that’ll have you smiling till some time next week… you never know what he’s going to say next! \nDoug Lantz knows just about everyone in town\, so get here early for a good seat! \n21 and over after 9pm\, Never a cover! \n603-863-7774 for reservations and info.
URL:https://lake-sunapee-living.com/event/live-music-at-the-salt-hill-pub-newport-doug-lantz/
LOCATION:Salt Hill Pub Newport\, 58 Main Street\, Newport\, NH\, 03773\, United States
CATEGORIES:Live Music
GEO:43.3634884;-72.1721101
X-APPLE-STRUCTURED-LOCATION;VALUE=URI;X-ADDRESS=Salt Hill Pub Newport 58 Main Street Newport NH 03773 United States;X-APPLE-RADIUS=500;X-TITLE=58 Main Street:geo:-72.1721101,43.3634884
END:VEVENT
END:VCALENDAR