BEGIN:VCALENDAR
VERSION:2.0
PRODID:-//Lake Sunapee Living - ECPv6.15.13//NONSGML v1.0//EN
CALSCALE:GREGORIAN
METHOD:PUBLISH
X-ORIGINAL-URL:https://lake-sunapee-living.com
X-WR-CALDESC:Events for Lake Sunapee Living
REFRESH-INTERVAL;VALUE=DURATION:PT1H
X-Robots-Tag:noindex
X-PUBLISHED-TTL:PT1H
BEGIN:VTIMEZONE
TZID:America/New_York
BEGIN:DAYLIGHT
TZOFFSETFROM:-0500
TZOFFSETTO:-0400
TZNAME:EDT
DTSTART:20170312T070000
END:DAYLIGHT
BEGIN:STANDARD
TZOFFSETFROM:-0400
TZOFFSETTO:-0500
TZNAME:EST
DTSTART:20171105T060000
END:STANDARD
BEGIN:DAYLIGHT
TZOFFSETFROM:-0500
TZOFFSETTO:-0400
TZNAME:EDT
DTSTART:20180311T070000
END:DAYLIGHT
BEGIN:STANDARD
TZOFFSETFROM:-0400
TZOFFSETTO:-0500
TZNAME:EST
DTSTART:20181104T060000
END:STANDARD
BEGIN:DAYLIGHT
TZOFFSETFROM:-0500
TZOFFSETTO:-0400
TZNAME:EDT
DTSTART:20190310T070000
END:DAYLIGHT
BEGIN:STANDARD
TZOFFSETFROM:-0400
TZOFFSETTO:-0500
TZNAME:EST
DTSTART:20191103T060000
END:STANDARD
END:VTIMEZONE
BEGIN:VEVENT
DTSTART;TZID=America/New_York:20180726T183000
DTEND;TZID=America/New_York:20180726T200000
DTSTAMP:20260424T230514
CREATED:20180515T003007Z
LAST-MODIFIED:20180515T003123Z
UID:10000295-1532629800-1532635200@lake-sunapee-living.com
SUMMARY:Lake Sunapee Musical Dinner Cruise with Opera North
DESCRIPTION:Take a relaxing cruise around Lake Sunapee and enjoy wonderful music by Opera North artists. \nDuring the 2-hour cruise\, you will enjoy magnificent New Hampshire scenery\, with unique views of local mountains and historic lighthouses\, and delicious food\, with entertainment by Opera North singers. \nSunapee Cruises departs from the town dock in Sunapee Harbor. \nTickets: $100 \nBuy Tickets online
URL:https://lake-sunapee-living.com/event/lake-sunapee-musical-dinner-cruise-with-opera-north/
CATEGORIES:Concert
END:VEVENT
END:VCALENDAR