BEGIN:VCALENDAR
VERSION:2.0
PRODID:-//Lake Sunapee Living - ECPv6.15.13//NONSGML v1.0//EN
CALSCALE:GREGORIAN
METHOD:PUBLISH
X-ORIGINAL-URL:https://lake-sunapee-living.com
X-WR-CALDESC:Events for Lake Sunapee Living
REFRESH-INTERVAL;VALUE=DURATION:PT1H
X-Robots-Tag:noindex
X-PUBLISHED-TTL:PT1H
BEGIN:VTIMEZONE
TZID:America/New_York
BEGIN:DAYLIGHT
TZOFFSETFROM:-0500
TZOFFSETTO:-0400
TZNAME:EDT
DTSTART:20170312T070000
END:DAYLIGHT
BEGIN:STANDARD
TZOFFSETFROM:-0400
TZOFFSETTO:-0500
TZNAME:EST
DTSTART:20171105T060000
END:STANDARD
BEGIN:DAYLIGHT
TZOFFSETFROM:-0500
TZOFFSETTO:-0400
TZNAME:EDT
DTSTART:20180311T070000
END:DAYLIGHT
BEGIN:STANDARD
TZOFFSETFROM:-0400
TZOFFSETTO:-0500
TZNAME:EST
DTSTART:20181104T060000
END:STANDARD
BEGIN:DAYLIGHT
TZOFFSETFROM:-0500
TZOFFSETTO:-0400
TZNAME:EDT
DTSTART:20190310T070000
END:DAYLIGHT
BEGIN:STANDARD
TZOFFSETFROM:-0400
TZOFFSETTO:-0500
TZNAME:EST
DTSTART:20191103T060000
END:STANDARD
BEGIN:DAYLIGHT
TZOFFSETFROM:-0500
TZOFFSETTO:-0400
TZNAME:EDT
DTSTART:20200308T070000
END:DAYLIGHT
BEGIN:STANDARD
TZOFFSETFROM:-0400
TZOFFSETTO:-0500
TZNAME:EST
DTSTART:20201101T060000
END:STANDARD
BEGIN:DAYLIGHT
TZOFFSETFROM:-0500
TZOFFSETTO:-0400
TZNAME:EDT
DTSTART:20210314T070000
END:DAYLIGHT
BEGIN:STANDARD
TZOFFSETFROM:-0400
TZOFFSETTO:-0500
TZNAME:EST
DTSTART:20211107T060000
END:STANDARD
END:VTIMEZONE
BEGIN:VEVENT
DTSTART;TZID=America/New_York:20180608T190000
DTEND;TZID=America/New_York:20180608T200000
DTSTAMP:20260424T164016
CREATED:20180518T233054Z
LAST-MODIFIED:20180518T233054Z
UID:10000298-1528484400-1528488000@lake-sunapee-living.com
SUMMARY:Author David M. Carroll at Mainstreet Bookends
DESCRIPTION:On Friday\, June 8\, at 7PM David M. Carroll will be at Mainstreet Bookends of Warner for a presentation/celebration of the re-publication of SELF-PORTRAIT WITH TURTLES\, his fourth (of five) books\, which has been out of print for over ten years. \nDavid will discuss this process\, and read some selections from his book\, which was termed “Radiant… “ by Book Page. \nDavid will welcome questions and comments. A book signing will follow his remarks. \n \nOther reviews included\, “[Carroll] proves himself the master of the memoir… in his inspired and eloquent evocation of a particular American landscape – the hills and bogs of the north country – he recalls the nineteenth-century writer who chronicled\, in vivid detail\, the days as they unfolded at a pond we have come to know as Walden”; and “[Carroll is] a wonder\, a nature writers nature writer.  He is a marvel. I read him rejoicing.” Ted Hoagland. \nMaxine Kumin wrote\,\n“The thrill of this well-crafted memoir lies in the story of Carroll’s single-minded pursuit of his passion.” \n 
URL:https://lake-sunapee-living.com/event/author-david-m-carroll-at-mainstreet-bookends/
LOCATION:Main Street Bookends\, 16 E Main St\, Warner\, NH\, 03278\, United States
CATEGORIES:Book Signing
GEO:43.2800468;-71.8150729
X-APPLE-STRUCTURED-LOCATION;VALUE=URI;X-ADDRESS=Main Street Bookends 16 E Main St Warner NH 03278 United States;X-APPLE-RADIUS=500;X-TITLE=16 E Main St:geo:-71.8150729,43.2800468
END:VEVENT
BEGIN:VEVENT
DTSTART;VALUE=DATE:20180616
DTEND;VALUE=DATE:20180617
DTSTAMP:20260424T164016
CREATED:20180518T233940Z
LAST-MODIFIED:20180518T234016Z
UID:10000315-1529107200-1529193599@lake-sunapee-living.com
SUMMARY:Exhibition at the Currier: Beyond Words by David M. Carroll\, Tomie dePaola\, and Beth Krommes
DESCRIPTION:Opening reception: Beyond Words\n\nJune 16\n\n\n\nJoin us for a free day at the Currier in celebration of the new exhibition Beyond Words featuring three award-winning New Hampshire artists: David M. Carroll\, Tomie dePaola\, and Beth Krommes. Enjoy special programming through-out the day including theatrical readings of exhibited stories\, live musical performances and art-making activities for the whole family! Be sure to stay for special remarks at 3 pm. \nThe exhibition will be on view through the 9th of September. \nCurrier Museum \n150 Ash Street\nManchester\, NH 03104  \n 
URL:https://lake-sunapee-living.com/event/exhibition-at-the-currier-beyond-words-by-david-m-carroll-tomie-depaola-and-beth-krommes/
LOCATION:Currier Museum\, 150 Ash Street\, Manchester\, NH\, 03104\, United States
CATEGORIES:Art Exhibition
GEO:42.997727;-71.4556121
X-APPLE-STRUCTURED-LOCATION;VALUE=URI;X-ADDRESS=Currier Museum 150 Ash Street Manchester NH 03104 United States;X-APPLE-RADIUS=500;X-TITLE=150 Ash Street:geo:-71.4556121,42.997727
END:VEVENT
BEGIN:VEVENT
DTSTART;TZID=America/New_York:20180727T130000
DTEND;TZID=America/New_York:20180727T160000
DTSTAMP:20260424T164016
CREATED:20180615T182020Z
LAST-MODIFIED:20180615T184356Z
UID:10000488-1532696400-1532707200@lake-sunapee-living.com
SUMMARY:David M. Carroll Class at The Currier: Drawn to Nature
DESCRIPTION:Dates: This class meets daily from 1:00-4:00 pm\, week of July 23-27 (Mon.-Fri.) \nInspired by the Currier Museum of Art’s upcoming exhibit Beyond Words\, you’ll have the unique opportunity to meet and learn from David M. Carroll\, naturalist\, illustrator\, author\, and recipient of the John Burroughs’s Medal\, a MacArthur Fellowship and a National Book Award finalist. \nNature and landscape have always been an inspiration\, and artists throughout time have wanted to document what they see. In this class you’ll learn how to decipher the landscape (don’t be overwhelmed by it!)\, and also get up close and personal with the flora – and maybe some of the fauna – in our neighborhood. \nAges: 13 to adult \nDavid M. Carroll’s Artist Gallery page on LakeSunapeeLiving.com \n  \nWoodland Scene by David M. Carroll\n  \n 
URL:https://lake-sunapee-living.com/event/david-m-carroll-class-at-the-currier-drawn-to-nature/2018-07-27/
LOCATION:Currier Museum\, 150 Ash Street\, Manchester\, NH\, 03104\, United States
CATEGORIES:Art Class
ATTACH;FMTTYPE=image/jpeg:https://lake-sunapee-living.com/wp-content/uploads/2018/06/carroll-painted-turtle-4.jpg
GEO:42.997727;-71.4556121
X-APPLE-STRUCTURED-LOCATION;VALUE=URI;X-ADDRESS=Currier Museum 150 Ash Street Manchester NH 03104 United States;X-APPLE-RADIUS=500;X-TITLE=150 Ash Street:geo:-71.4556121,42.997727
END:VEVENT
BEGIN:VEVENT
DTSTART;TZID=America/New_York:20181223T100000
DTEND;TZID=America/New_York:20181223T170000
DTSTAMP:20260424T164016
CREATED:20181129T004905Z
LAST-MODIFIED:20181202T152608Z
UID:10003686-1545559200-1545584400@lake-sunapee-living.com
SUMMARY:Holiday Open Studios at the Carroll Studio Gallery in Warner
DESCRIPTION:CARROLL STUDIO GALLERY\nHOLIDAY OPEN STUDIOS \nWe are happy to say that we will have open studios during the holiday\nseason again this year\, featuring original paintings; framed and\nunframed prints; David’s books; T-shirts; magnets; and notecards. \nWe welcome you to a studio visit with an exhibition and sale of\noriginal art works (including some of our latest paintings and drawings)\nby David; Laurette\, Sean; and Riana. \nWe will be open from 10 AM – 5PM;\nFridays\, Saturdays and Sundays:\nDecember 7\, 8\, 9; 14\, 15\, 16; & 21\, 22\, 23 \nOther times by chance or by appointment. (603) 456-3947 \nCarroll Studio Gallery\, 237 East Main Street (aka Route 103) Warner\, NH\ncarrollstudiogallery.com \nWith our best wishes as winter solstice comes on – David\, Laurette\, Sean\,\nand Riana.
URL:https://lake-sunapee-living.com/event/carroll-studio-gallery-holiday-open-studios/2018-12-23/
LOCATION:Carroll Studio Gallery\, 237 East Main Street\, Warner\, NH\, 03278\, United States
CATEGORIES:Artist Open Studios
ATTACH;FMTTYPE=image/jpeg:https://lake-sunapee-living.com/wp-content/uploads/2018/06/carroll-painted-turtle-4.jpg
GEO:43.2744856;-71.7948912
X-APPLE-STRUCTURED-LOCATION;VALUE=URI;X-ADDRESS=Carroll Studio Gallery 237 East Main Street Warner NH 03278 United States;X-APPLE-RADIUS=500;X-TITLE=237 East Main Street:geo:-71.7948912,43.2744856
END:VEVENT
BEGIN:VEVENT
DTSTART;TZID=America/New_York:20200508T080000
DTEND;TZID=America/New_York:20200508T170000
DTSTAMP:20260424T164016
CREATED:20200117T024158Z
LAST-MODIFIED:20200119T005204Z
UID:10003924-1588924800-1588957200@lake-sunapee-living.com
SUMMARY:Art: The ‘Seldom Seen’ Work of David M. Carroll at Colby-Sawyer College
DESCRIPTION:NEW LONDON\, N.H. — (Jan. 13\, 2020) An exhibition featuring the rarely seen work of award-winning natural artist David M. Carroll will be on display at Colby-Sawyer College’s Davidow Center for Art + Design beginning Feb. 27. \nThe exhibition\, titled “Seldom Seen: Drawings and Paintings by David M. Carroll\,” will include pieces in varied media that span far beyond the nature and watercolor drawings most associated with the MacArthur Foundation Fellow and author of five critically acclaimed books. Instead\, “Seldom Seen” will feature Carroll’s ventures in cubist-influence art\, surrealism and his most recent undertaking of abstract\, non-objective art inspired by the Russian Avant-Garde movement. \n“People will be very surprised when they see this work\,” said Carroll\, who will speak during an opening reception for the exhibit Feb. 27 at 5 p.m. in the William H. and Sonja Carlson Davidow ’56 Fine Art Gallery. “That’s going to be part of the fun of this show I think. There are people in this area — and beyond — who are very familiar with my books\, and quite often\, if they visit my gallery\, they’re just so surprised with my other work. So I saw this as an opportunity to show what has been seldom seen or seldom shown.” \nCarroll has written and illustrated three natural histories\, The Year of the Turtle\, Trout Reflections and Swamp-Walker’s Journal — for which he was awarded the John Burroughs Medal for Distinguished Nature Writing — and two memoirs\, Self-Portrait with Turtles and Following the Water\, A Hydromancer’s Notebook. His most recent book\, 2009’s Following the Water\, earned a finalist medal for nonfiction writing in the National Book Foundation’s 2009 awards. \nDavidow Fine Art Gallery Director Jon Keenan said that hosting an exhibition of Carroll’s work fits seamlessly with the gallery’s mission to provide quality educational experiences that deepen an understanding of art\, strengthen critical thinking and broaden life experiences. \n“I am quite confident this exhibition will be well received by both students and the greater Colby-Sawyer community\,” said Keenan\, a professor in the college’s School of Arts & Sciences. “It’s not every day we can host an exhibition featuring a MacArthur Fellow\, artist and celebrated writer of natural history.” \n“Seldom Seen” will feature work spanning from the early 1970s to late 2018\, created in the limited time Carroll wasn’t conducting research for his current\, and perhaps future\, books. Otherwise\, the graduate of the School of the Museum of Fine Arts at Tufts University said he “just about lives in the swamps” from late March until mid-October when turtles — his biggest inspiration — aren’t hibernating. \nWhile Carroll’s nature and watercolor drawings were the features of an exhibition hosted by the Currier Museum of Art in Manchester\, N.H.\, in the summer of 2018\, he said his work is seldom displayed beyond his books\, and added that the pieces to be displayed at Colby-Sawyer have rarely left his Warner\, N.H.\, studio. \n“This kind of work is very important to me\,” Carroll said. “This is a path I’ve been on for quite a long time. I want to give visitors to this exhibition something to think about in ways that my natural history art doesn’t encompass.” \n“Seldom Seen” will be on display from Feb. 27 through May 9 in the William H. and Sonja Carlson Davidow ’56 Fine Art Gallery located within the Davidow Center for Art + Design. The gallery is open Monday through Friday from 9 a.m. until 5 p.m.\, and weekends —upon request — at no cost to visitors.
URL:https://lake-sunapee-living.com/event/exhibition-featuring-seldom-seen-work-of-david-m-carroll-at-colby-sawyer-college/2020-05-08/
LOCATION:NH\, United States
CATEGORIES:Art Exhibition
ATTACH;FMTTYPE=image/jpeg:https://lake-sunapee-living.com/wp-content/uploads/2020/01/David_Carroll_040.jpg
END:VEVENT
END:VCALENDAR