BEGIN:VCALENDAR
VERSION:2.0
PRODID:-//Lake Sunapee Living - ECPv6.15.13//NONSGML v1.0//EN
CALSCALE:GREGORIAN
METHOD:PUBLISH
X-ORIGINAL-URL:https://lake-sunapee-living.com
X-WR-CALDESC:Events for Lake Sunapee Living
REFRESH-INTERVAL;VALUE=DURATION:PT1H
X-Robots-Tag:noindex
X-PUBLISHED-TTL:PT1H
BEGIN:VTIMEZONE
TZID:America/New_York
BEGIN:DAYLIGHT
TZOFFSETFROM:-0500
TZOFFSETTO:-0400
TZNAME:EDT
DTSTART:20170312T070000
END:DAYLIGHT
BEGIN:STANDARD
TZOFFSETFROM:-0400
TZOFFSETTO:-0500
TZNAME:EST
DTSTART:20171105T060000
END:STANDARD
BEGIN:DAYLIGHT
TZOFFSETFROM:-0500
TZOFFSETTO:-0400
TZNAME:EDT
DTSTART:20180311T070000
END:DAYLIGHT
BEGIN:STANDARD
TZOFFSETFROM:-0400
TZOFFSETTO:-0500
TZNAME:EST
DTSTART:20181104T060000
END:STANDARD
BEGIN:DAYLIGHT
TZOFFSETFROM:-0500
TZOFFSETTO:-0400
TZNAME:EDT
DTSTART:20190310T070000
END:DAYLIGHT
BEGIN:STANDARD
TZOFFSETFROM:-0400
TZOFFSETTO:-0500
TZNAME:EST
DTSTART:20191103T060000
END:STANDARD
END:VTIMEZONE
BEGIN:VEVENT
DTSTART;VALUE=DATE:20180802
DTEND;VALUE=DATE:20180806
DTSTAMP:20260424T200056
CREATED:20180305T005917Z
LAST-MODIFIED:20180305T013524Z
UID:10000052-1533168000-1533513599@lake-sunapee-living.com
SUMMARY:94th Annual Hospital Days at New London Hospital
DESCRIPTION:New London Hospital\n273 County Road\, New London\, NH 03257 \n603-526-2911 |  \nNewLondonHospital.org/hospitaldays/ \n 
URL:https://lake-sunapee-living.com/event/94th-annual-hospital-days-new-london-hospital/
LOCATION:New London Hospital\, 273 County Road\, New London\, NH\, 03257\, United States
CATEGORIES:Community Event
GEO:43.4206134;-72.0004253
X-APPLE-STRUCTURED-LOCATION;VALUE=URI;X-ADDRESS=New London Hospital 273 County Road New London NH 03257 United States;X-APPLE-RADIUS=500;X-TITLE=273 County Road:geo:-72.0004253,43.4206134
END:VEVENT
END:VCALENDAR