BEGIN:VCALENDAR
VERSION:2.0
PRODID:-//Lake Sunapee Living - ECPv6.15.13//NONSGML v1.0//EN
CALSCALE:GREGORIAN
METHOD:PUBLISH
X-ORIGINAL-URL:https://lake-sunapee-living.com
X-WR-CALDESC:Events for Lake Sunapee Living
REFRESH-INTERVAL;VALUE=DURATION:PT1H
X-Robots-Tag:noindex
X-PUBLISHED-TTL:PT1H
BEGIN:VTIMEZONE
TZID:America/New_York
BEGIN:DAYLIGHT
TZOFFSETFROM:-0500
TZOFFSETTO:-0400
TZNAME:EDT
DTSTART:20230312T070000
END:DAYLIGHT
BEGIN:STANDARD
TZOFFSETFROM:-0400
TZOFFSETTO:-0500
TZNAME:EST
DTSTART:20231105T060000
END:STANDARD
BEGIN:DAYLIGHT
TZOFFSETFROM:-0500
TZOFFSETTO:-0400
TZNAME:EDT
DTSTART:20240310T070000
END:DAYLIGHT
BEGIN:STANDARD
TZOFFSETFROM:-0400
TZOFFSETTO:-0500
TZNAME:EST
DTSTART:20241103T060000
END:STANDARD
BEGIN:DAYLIGHT
TZOFFSETFROM:-0500
TZOFFSETTO:-0400
TZNAME:EDT
DTSTART:20250309T070000
END:DAYLIGHT
BEGIN:STANDARD
TZOFFSETFROM:-0400
TZOFFSETTO:-0500
TZNAME:EST
DTSTART:20251102T060000
END:STANDARD
END:VTIMEZONE
BEGIN:VEVENT
DTSTART;TZID=America/New_York:20240810T150000
DTEND;TZID=America/New_York:20240810T170000
DTSTAMP:20260424T202152
CREATED:20240725T145604Z
LAST-MODIFIED:20240728T201559Z
UID:10004309-1723302000-1723309200@lake-sunapee-living.com
SUMMARY:Live Music: Comac McCarthy at Flanders Stage
DESCRIPTION:Comac McCarthy at Flanders Stage\, Sunapee Harbor
URL:https://lake-sunapee-living.com/event/live-music-comac-mccarthy-at-flanders-stage/
LOCATION:Flanders Stage\, 125 Main St\, Sunapee\, NH\, 03782\, United States
CATEGORIES:Live Music
GEO:43.3852084;-72.0809835
X-APPLE-STRUCTURED-LOCATION;VALUE=URI;X-ADDRESS=Flanders Stage 125 Main St Sunapee NH 03782 United States;X-APPLE-RADIUS=500;X-TITLE=125 Main St:geo:-72.0809835,43.3852084
END:VEVENT
END:VCALENDAR