BEGIN:VCALENDAR
VERSION:2.0
PRODID:-//Lake Sunapee Living - ECPv6.15.13//NONSGML v1.0//EN
CALSCALE:GREGORIAN
METHOD:PUBLISH
X-ORIGINAL-URL:https://lake-sunapee-living.com
X-WR-CALDESC:Events for Lake Sunapee Living
REFRESH-INTERVAL;VALUE=DURATION:PT1H
X-Robots-Tag:noindex
X-PUBLISHED-TTL:PT1H
BEGIN:VTIMEZONE
TZID:America/New_York
BEGIN:DAYLIGHT
TZOFFSETFROM:-0500
TZOFFSETTO:-0400
TZNAME:EDT
DTSTART:20170312T070000
END:DAYLIGHT
BEGIN:STANDARD
TZOFFSETFROM:-0400
TZOFFSETTO:-0500
TZNAME:EST
DTSTART:20171105T060000
END:STANDARD
BEGIN:DAYLIGHT
TZOFFSETFROM:-0500
TZOFFSETTO:-0400
TZNAME:EDT
DTSTART:20180311T070000
END:DAYLIGHT
BEGIN:STANDARD
TZOFFSETFROM:-0400
TZOFFSETTO:-0500
TZNAME:EST
DTSTART:20181104T060000
END:STANDARD
BEGIN:DAYLIGHT
TZOFFSETFROM:-0500
TZOFFSETTO:-0400
TZNAME:EDT
DTSTART:20190310T070000
END:DAYLIGHT
BEGIN:STANDARD
TZOFFSETFROM:-0400
TZOFFSETTO:-0500
TZNAME:EST
DTSTART:20191103T060000
END:STANDARD
END:VTIMEZONE
BEGIN:VEVENT
DTSTART;TZID=America/New_York:20180609T190000
DTEND;TZID=America/New_York:20180609T203000
DTSTAMP:20260424T192800
CREATED:20180605T234156Z
LAST-MODIFIED:20180605T234253Z
UID:10000134-1528570800-1528576200@lake-sunapee-living.com
SUMMARY:Live Music: The Colleen Raney Band at the LAC
DESCRIPTION:THREE BRIDGES CONCERT SERIES: a Celebration of Traditional Music \n\n\n\nA gifted singer\, Colleen Raney is known for her dedication to the craft of performing and preserving the vibrant song tradition of Ireland.  \nHer ability to convey this love of Irish music makes every performance a captivating experience\, no matter the setting.  \nRaney sings with an enchanting yet unaffected style allowing the listener to enjoy her selection of songs whether they are familiar or more obscure. \nlibraryartscenter.org
URL:https://lake-sunapee-living.com/event/live-music-the-colleen-raney-band-at-the-lac/
LOCATION:Library Arts Center\, 58 N. Main Street\, Newport\, NH\, 03773\, United States
CATEGORIES:Concert
GEO:43.3662756;-72.1758121
X-APPLE-STRUCTURED-LOCATION;VALUE=URI;X-ADDRESS=Library Arts Center 58 N. Main Street Newport NH 03773 United States;X-APPLE-RADIUS=500;X-TITLE=58 N. Main Street:geo:-72.1758121,43.3662756
END:VEVENT
END:VCALENDAR